BEGIN:VCALENDAR
VERSION:2.0
PRODID:-//jEvents 2.0 for Joomla//EN
CALSCALE:GREGORIAN
METHOD:PUBLISH
BEGIN:VTIMEZONE
TZID:Europe/Paris
BEGIN:STANDARD
DTSTART:20161219T000000
RDATE:20170326T030000
TZOFFSETFROM:+0200
TZOFFSETTO:+0100
TZNAME:Europe/Paris CET
END:STANDARD
BEGIN:STANDARD
DTSTART:20171029T020000
RDATE:20180325T030000
TZOFFSETFROM:+0200
TZOFFSETTO:+0100
TZNAME:Europe/Paris CET
END:STANDARD
BEGIN:STANDARD
DTSTART:20181028T020000
RDATE:20190331T030000
TZOFFSETFROM:+0200
TZOFFSETTO:+0100
TZNAME:Europe/Paris CET
END:STANDARD
BEGIN:STANDARD
DTSTART:20191027T020000
RDATE:20200329T030000
TZOFFSETFROM:+0200
TZOFFSETTO:+0100
TZNAME:Europe/Paris CET
END:STANDARD
BEGIN:STANDARD
DTSTART:20201025T020000
RDATE:20210328T030000
TZOFFSETFROM:+0200
TZOFFSETTO:+0100
TZNAME:Europe/Paris CET
END:STANDARD
BEGIN:STANDARD
DTSTART:20211031T020000
RDATE:20220327T030000
TZOFFSETFROM:+0200
TZOFFSETTO:+0100
TZNAME:Europe/Paris CET
END:STANDARD
BEGIN:STANDARD
DTSTART:20221030T020000
RDATE:20230326T030000
TZOFFSETFROM:+0200
TZOFFSETTO:+0100
TZNAME:Europe/Paris CET
END:STANDARD
BEGIN:STANDARD
DTSTART:20231029T020000
RDATE:20240331T030000
TZOFFSETFROM:+0200
TZOFFSETTO:+0100
TZNAME:Europe/Paris CET
END:STANDARD
BEGIN:STANDARD
DTSTART:20241027T020000
RDATE:20250330T030000
TZOFFSETFROM:+0200
TZOFFSETTO:+0100
TZNAME:Europe/Paris CET
END:STANDARD
BEGIN:STANDARD
DTSTART:20251026T020000
RDATE:20260329T030000
TZOFFSETFROM:+0200
TZOFFSETTO:+0100
TZNAME:Europe/Paris CET
END:STANDARD
BEGIN:STANDARD
DTSTART:20261025T020000
RDATE:20270328T030000
TZOFFSETFROM:+0200
TZOFFSETTO:+0100
TZNAME:Europe/Paris CET
END:STANDARD
BEGIN:DAYLIGHT
DTSTART:20170326T030000
RDATE:20171029T020000
TZOFFSETFROM:+0100
TZOFFSETTO:+0200
TZNAME:Europe/Paris CEST
END:DAYLIGHT
BEGIN:DAYLIGHT
DTSTART:20180325T030000
RDATE:20181028T020000
TZOFFSETFROM:+0100
TZOFFSETTO:+0200
TZNAME:Europe/Paris CEST
END:DAYLIGHT
BEGIN:DAYLIGHT
DTSTART:20190331T030000
RDATE:20191027T020000
TZOFFSETFROM:+0100
TZOFFSETTO:+0200
TZNAME:Europe/Paris CEST
END:DAYLIGHT
BEGIN:DAYLIGHT
DTSTART:20200329T030000
RDATE:20201025T020000
TZOFFSETFROM:+0100
TZOFFSETTO:+0200
TZNAME:Europe/Paris CEST
END:DAYLIGHT
BEGIN:DAYLIGHT
DTSTART:20210328T030000
RDATE:20211031T020000
TZOFFSETFROM:+0100
TZOFFSETTO:+0200
TZNAME:Europe/Paris CEST
END:DAYLIGHT
BEGIN:DAYLIGHT
DTSTART:20220327T030000
RDATE:20221030T020000
TZOFFSETFROM:+0100
TZOFFSETTO:+0200
TZNAME:Europe/Paris CEST
END:DAYLIGHT
BEGIN:DAYLIGHT
DTSTART:20230326T030000
RDATE:20231029T020000
TZOFFSETFROM:+0100
TZOFFSETTO:+0200
TZNAME:Europe/Paris CEST
END:DAYLIGHT
BEGIN:DAYLIGHT
DTSTART:20240331T030000
RDATE:20241027T020000
TZOFFSETFROM:+0100
TZOFFSETTO:+0200
TZNAME:Europe/Paris CEST
END:DAYLIGHT
BEGIN:DAYLIGHT
DTSTART:20250330T030000
RDATE:20251026T020000
TZOFFSETFROM:+0100
TZOFFSETTO:+0200
TZNAME:Europe/Paris CEST
END:DAYLIGHT
BEGIN:DAYLIGHT
DTSTART:20260329T030000
RDATE:20261025T020000
TZOFFSETFROM:+0100
TZOFFSETTO:+0200
TZNAME:Europe/Paris CEST
END:DAYLIGHT
END:VTIMEZONE
BEGIN:VEVENT
UID:cccc21289cf80b2e182d2b05184fce61
CATEGORIES:Compétition Ski Alpin
CREATED:20171121T093310
SUMMARY:UNSS Lorraine
URL;VALUE=URI:https://skivosges.net/agenda/export-synchronisation/detailevenement/871/-/u
 nss-lorraine?tmpl=component
DESCRIPTION:UNSS Lorraine\n - Codex évenement AMVT0050\n - Station : GERARDMER\n - Orga
 nisateur : 14089 GERARDMER SKI ALPIN\n - Courriel : RegularLabs.EmailProtec
 tor.unCloak("ep_b9c41809");\n - Téléphone : 03 29 60 98 04\n - Télécopie : 
 03 29 60 98 04\n - Délégué Technique : DODIN YVESPériode d'inscription à l'
 evènement du mercredi 13 décembre 2017 à 00:00 au lundi 18 décembre 2017 à 
 12:00 (Inscriptions impossibles).Inscriptions ouvertes aux detenteurs des t
 itres Fédéraux valides suivants : Licenciés CompétiteursEpreuves :\n - Le m
 ercredi 20 décembre 2017\n - Codex épreuve AMVF0051\n - Slalom Geant\n - Ca
 tégorie(s) : U12 a U16 (Filles)\n - Le mercredi 20 décembre 2017\n - Codex 
 épreuve AMVM0051\n - Slalom Geant\n - Catégorie(s) : U12 a U16 (Garçons)\n 
 - Voir les informations dans l'agenda... (/index.php?option=com_jevents&amp
 ;task=icalevent.detail&amp;evid=866&amp;Itemid=6283)\n - Vers la liste de d
 éparts... (/index.php?option=com_gskiepreuves&amp;view=affichedeparts&amp;f
 ormat_option=tous&amp;filter[search]=AMVT0050&amp;filter[date_debut]=20-12-
 2017&amp;filter[date_fin]=20-12-2017&amp;Itemid=6283) Cet évènement a été i
 mporté depuis :https://skivosges.net/agenda/export-synchronisation/detailev
 enement/871/-/unss-lorraine?tmpl=component
X-ALT-DESC;FMTTYPE=text/html:<!-- #gskiepreuve code généré par le plugin jevents pour GskiEpreuves. Ne p
 as modifier cette ligne, ni tout le contenu suivant  #gskiepreuve --><div c
 lass="gski-evenement_infos"><div class="gski-evenement-nom">UNSS Lorraine</
 div><div class="gski-evenement-report"></div><ul class="gski-evenement-list
 e-infos"><li>Codex évenement AMVT0050</li><li>Station : GERARDMER</li><li>O
 rganisateur : 14089 GERARDMER SKI ALPIN</li><li>Courriel : <!-- Cette adres
 se électronique est protégée contre les robots spammeurs. --><span class="c
 loaked_email ep_b9c41809"><span data-ep-b="&#101;&#46;&#102;&#114;" data-ep
 -a="&#103;e&#114;&#97;&#114;"><span data-ep-a="&#100;&#109;e&#114;-" data-e
 p-b="&#111;&#114;&#97;&#110;&#103;"><span data-ep-a="sk&#105;-&#97;" data-e
 p-b="&#108;&#112;i&#110;&#64;"></span></span></span></span><script>RegularL
 abs.EmailProtector.unCloak("ep_b9c41809");</script></li><li>Téléphone : 03 
 29 60 98 04</li><li>Télécopie : 03 29 60 98 04</li><li><span class="gski-ev
 enement-obs">Délégué Technique : DODIN YVES</span></li></ul><div class="gsk
 i-evenement-infos-2"><div class="gski-evenement-info-inscriptions"><div cla
 ss="gski-evenement-inscriptions-periodes">Période d'inscription à l'evèneme
 nt du mercredi 13 décembre 2017 à 00:00 au lundi 18 décembre 2017 à 12:00 <
 span class="gski-evenement-inscriptions-impossibles">(Inscriptions impossib
 les).</span><div class="gski-evenement-inscriptions-types-titres">Inscripti
 ons ouvertes aux detenteurs des titres Fédéraux valides suivants : Licencié
 s Compétiteurs</div></div></div><div class="gski-evenement-epreuves"><div c
 lass="gski-evenement-epreuves-titres">Epreuves :</div><ul class="gski-evene
 ment-epreuves-list"><li><div class="gski-epreuve-date">Le mercredi 20 décem
 bre 2017</div><ul class="gski-epreuve-liste-infos"><li>Codex épreuve AMVF00
 51</li><li>Slalom Geant</li><li>Catégorie(s) : U12 a U16 (Filles)</li></ul>
 </li><li><div class="gski-epreuve-date">Le mercredi 20 décembre 2017</div><
 ul class="gski-epreuve-liste-infos"><li>Codex épreuve AMVM0051</li><li>Slal
 om Geant</li><li>Catégorie(s) : U12 a U16 (Garçons)</li></ul></li></ul></di
 v><div class="gskiepreuves-links"><ul><li><a href="https://skivosges.net/in
 dex.php?option=com_jevents&task=icalevent.detail&evid=866&Itemid=6283">Voir
  les informations dans l'agenda...</a></li><li><a href="https://skivosges.n
 et/index.php?option=com_gskiepreuves&view=affichedeparts&format_option=tous
 &filter[search]=AMVT0050&filter[date_debut]=20-12-2017&filter[date_fin]=20-
 12-2017&Itemid=6283">Vers la liste de départs...</a></li></ul></div></div">
 <!-- #/gskiepreuve fin du dode généré par le plugin jevents pour GskiEpreuv
 es. . Ne pas modifier cette ligne, ni tout le contenu précedant.  #/gskiepr
 euve --> <a href="https://skivosges.net/agenda/export-synchronisation/detai
 levenement/871/-/unss-lorraine?tmpl=component">Cet évènement a été importé 
 depuis :https://skivosges.net/agenda/export-synchronisation/detailevenement
 /871/-/unss-lorraine?tmpl=component</a>DTSTAMP:20260420T183653
DTSTART;TZID=Europe/Paris;VALUE=DATE:20171220
DTEND;TZID=Europe/Paris;VALUE=DATE:20171221
SEQUENCE:0
TRANSP:OPAQUE
END:VEVENT
END:VCALENDAR