BEGIN:VCALENDAR
VERSION:2.0
PRODID:-//jEvents 2.0 for Joomla//EN
CALSCALE:GREGORIAN
METHOD:PUBLISH
BEGIN:VTIMEZONE
TZID:Europe/Paris
BEGIN:STANDARD
DTSTART:20161226T000000
RDATE:20170326T030000
TZOFFSETFROM:+0200
TZOFFSETTO:+0100
TZNAME:Europe/Paris CET
END:STANDARD
BEGIN:STANDARD
DTSTART:20171029T020000
RDATE:20180325T030000
TZOFFSETFROM:+0200
TZOFFSETTO:+0100
TZNAME:Europe/Paris CET
END:STANDARD
BEGIN:STANDARD
DTSTART:20181028T020000
RDATE:20190331T030000
TZOFFSETFROM:+0200
TZOFFSETTO:+0100
TZNAME:Europe/Paris CET
END:STANDARD
BEGIN:STANDARD
DTSTART:20191027T020000
RDATE:20200329T030000
TZOFFSETFROM:+0200
TZOFFSETTO:+0100
TZNAME:Europe/Paris CET
END:STANDARD
BEGIN:STANDARD
DTSTART:20201025T020000
RDATE:20210328T030000
TZOFFSETFROM:+0200
TZOFFSETTO:+0100
TZNAME:Europe/Paris CET
END:STANDARD
BEGIN:STANDARD
DTSTART:20211031T020000
RDATE:20220327T030000
TZOFFSETFROM:+0200
TZOFFSETTO:+0100
TZNAME:Europe/Paris CET
END:STANDARD
BEGIN:STANDARD
DTSTART:20221030T020000
RDATE:20230326T030000
TZOFFSETFROM:+0200
TZOFFSETTO:+0100
TZNAME:Europe/Paris CET
END:STANDARD
BEGIN:STANDARD
DTSTART:20231029T020000
RDATE:20240331T030000
TZOFFSETFROM:+0200
TZOFFSETTO:+0100
TZNAME:Europe/Paris CET
END:STANDARD
BEGIN:STANDARD
DTSTART:20241027T020000
RDATE:20250330T030000
TZOFFSETFROM:+0200
TZOFFSETTO:+0100
TZNAME:Europe/Paris CET
END:STANDARD
BEGIN:STANDARD
DTSTART:20251026T020000
RDATE:20260329T030000
TZOFFSETFROM:+0200
TZOFFSETTO:+0100
TZNAME:Europe/Paris CET
END:STANDARD
BEGIN:STANDARD
DTSTART:20261025T020000
RDATE:20270328T030000
TZOFFSETFROM:+0200
TZOFFSETTO:+0100
TZNAME:Europe/Paris CET
END:STANDARD
BEGIN:DAYLIGHT
DTSTART:20170326T030000
RDATE:20171029T020000
TZOFFSETFROM:+0100
TZOFFSETTO:+0200
TZNAME:Europe/Paris CEST
END:DAYLIGHT
BEGIN:DAYLIGHT
DTSTART:20180325T030000
RDATE:20181028T020000
TZOFFSETFROM:+0100
TZOFFSETTO:+0200
TZNAME:Europe/Paris CEST
END:DAYLIGHT
BEGIN:DAYLIGHT
DTSTART:20190331T030000
RDATE:20191027T020000
TZOFFSETFROM:+0100
TZOFFSETTO:+0200
TZNAME:Europe/Paris CEST
END:DAYLIGHT
BEGIN:DAYLIGHT
DTSTART:20200329T030000
RDATE:20201025T020000
TZOFFSETFROM:+0100
TZOFFSETTO:+0200
TZNAME:Europe/Paris CEST
END:DAYLIGHT
BEGIN:DAYLIGHT
DTSTART:20210328T030000
RDATE:20211031T020000
TZOFFSETFROM:+0100
TZOFFSETTO:+0200
TZNAME:Europe/Paris CEST
END:DAYLIGHT
BEGIN:DAYLIGHT
DTSTART:20220327T030000
RDATE:20221030T020000
TZOFFSETFROM:+0100
TZOFFSETTO:+0200
TZNAME:Europe/Paris CEST
END:DAYLIGHT
BEGIN:DAYLIGHT
DTSTART:20230326T030000
RDATE:20231029T020000
TZOFFSETFROM:+0100
TZOFFSETTO:+0200
TZNAME:Europe/Paris CEST
END:DAYLIGHT
BEGIN:DAYLIGHT
DTSTART:20240331T030000
RDATE:20241027T020000
TZOFFSETFROM:+0100
TZOFFSETTO:+0200
TZNAME:Europe/Paris CEST
END:DAYLIGHT
BEGIN:DAYLIGHT
DTSTART:20250330T030000
RDATE:20251026T020000
TZOFFSETFROM:+0100
TZOFFSETTO:+0200
TZNAME:Europe/Paris CEST
END:DAYLIGHT
BEGIN:DAYLIGHT
DTSTART:20260329T030000
RDATE:20261025T020000
TZOFFSETFROM:+0100
TZOFFSETTO:+0200
TZNAME:Europe/Paris CEST
END:DAYLIGHT
END:VTIMEZONE
BEGIN:VEVENT
UID:bf810f8650853f4aafb7399b2d843147
CATEGORIES:Compétition Ski de Fond
CREATED:20171121T093310
SUMMARY:PROMO FOYER Journée nordique      TROPHÉE SPORT PASSION
URL;VALUE=URI:https://skivosges.net/agenda/export-synchronisation/detailevenement/873/-/p
 romo-foyer-journee-nordique-trophee-sport-passion?tmpl=component
DESCRIPTION:PROMO FOYER Journée nordique      TROPHÉE SPORT PASSION\n - Codex évenement
  FMVT0040\n - Station : LAC BLANC\n - Organisateur : 14379 LAC BLANC SKI NO
 RDIQUE CV ORBEYPériode d'inscription à l'evènement du mercredi 20 décembre 
 2017 à 00:00 au lundi 25 décembre 2017 à 12:00 (Inscriptions impossibles).I
 nscriptions ouvertes aux detenteurs des titres Fédéraux valides suivants : 
 Licenciés Compétiteurs et Titres Loisirs et DirigeantsEpreuves :\n - Le mer
 credi 27 décembre 2017\n - Codex épreuve FMVF0041\n - Depart Individuel\n -
  Catégorie(s) : U8 (Filles)\n - Le mercredi 27 décembre 2017\n - Codex épre
 uve FMVF0042\n - Depart Individuel\n - Catégorie(s) : U10 (Filles)\n - Le m
 ercredi 27 décembre 2017\n - Codex épreuve FMVF0043\n - Depart Individuel\n
  - Catégorie(s) : U12 (Filles)\n - Le mercredi 27 décembre 2017\n - Codex é
 preuve FMVM0041\n - Depart Individuel\n - Catégorie(s) : U8 (Garçons)\n - L
 e mercredi 27 décembre 2017\n - Codex épreuve FMVM0042\n - Depart Individue
 l\n - Catégorie(s) : U10 (Garçons)\n - Le mercredi 27 décembre 2017\n - Cod
 ex épreuve FMVM0043\n - Depart Individuel\n - Catégorie(s) : U12 (Garçons)\
 n - Voir les informations dans l'agenda... (/index.php?option=com_jevents&a
 mp;task=icalevent.detail&amp;evid=868&amp;Itemid=6283) Cet évènement a été 
 importé depuis :https://skivosges.net/agenda/export-synchronisation/detaile
 venement/873/-/promo-foyer-journee-nordique-trophee-sport-passion?tmpl=comp
 onent (https://skivosges.net/agenda/export-synchronisation/detailevenement/
 873/-/promo-foyer-journee-nordique-trophee-sport-passion?tmpl=component)
X-ALT-DESC;FMTTYPE=text/html:<!-- #gskiepreuve code généré par le plugin jevents pour GskiEpreuves. Ne p
 as modifier cette ligne, ni tout le contenu suivant  #gskiepreuve --><div c
 lass="gski-evenement_infos"><div class="gski-evenement-nom">PROMO FOYER Jou
 rnée nordique      TROPHÉE SPORT PASSION</div><div class="gski-evenement-re
 port"></div><ul class="gski-evenement-liste-infos"><li>Codex évenement FMVT
 0040</li><li>Station : LAC BLANC</li><li>Organisateur : 14379 LAC BLANC SKI
  NORDIQUE CV ORBEY</li></ul><div class="gski-evenement-infos-2"><div class=
 "gski-evenement-info-inscriptions"><div class="gski-evenement-inscriptions-
 periodes">Période d'inscription à l'evènement du mercredi 20 décembre 2017 
 à 00:00 au lundi 25 décembre 2017 à 12:00 <span class="gski-evenement-inscr
 iptions-impossibles">(Inscriptions impossibles).</span><div class="gski-eve
 nement-inscriptions-types-titres">Inscriptions ouvertes aux detenteurs des 
 titres Fédéraux valides suivants : Licenciés Compétiteurs et Titres Loisirs
  et Dirigeants</div></div></div><div class="gski-evenement-epreuves"><div c
 lass="gski-evenement-epreuves-titres">Epreuves :</div><ul class="gski-evene
 ment-epreuves-list"><li><div class="gski-epreuve-date">Le mercredi 27 décem
 bre 2017</div><ul class="gski-epreuve-liste-infos"><li>Codex épreuve FMVF00
 41</li><li>Depart Individuel</li><li>Catégorie(s) : U8 (Filles)</li></ul></
 li><li><div class="gski-epreuve-date">Le mercredi 27 décembre 2017</div><ul
  class="gski-epreuve-liste-infos"><li>Codex épreuve FMVF0042</li><li>Depart
  Individuel</li><li>Catégorie(s) : U10 (Filles)</li></ul></li><li><div clas
 s="gski-epreuve-date">Le mercredi 27 décembre 2017</div><ul class="gski-epr
 euve-liste-infos"><li>Codex épreuve FMVF0043</li><li>Depart Individuel</li>
 <li>Catégorie(s) : U12 (Filles)</li></ul></li><li><div class="gski-epreuve-
 date">Le mercredi 27 décembre 2017</div><ul class="gski-epreuve-liste-infos
 "><li>Codex épreuve FMVM0041</li><li>Depart Individuel</li><li>Catégorie(s)
  : U8 (Garçons)</li></ul></li><li><div class="gski-epreuve-date">Le mercred
 i 27 décembre 2017</div><ul class="gski-epreuve-liste-infos"><li>Codex épre
 uve FMVM0042</li><li>Depart Individuel</li><li>Catégorie(s) : U10 (Garçons)
 </li></ul></li><li><div class="gski-epreuve-date">Le mercredi 27 décembre 2
 017</div><ul class="gski-epreuve-liste-infos"><li>Codex épreuve FMVM0043</l
 i><li>Depart Individuel</li><li>Catégorie(s) : U12 (Garçons)</li></ul></li>
 </ul></div><div class="gskiepreuves-links"><ul><li><a href="https://skivosg
 es.net/index.php?option=com_jevents&task=icalevent.detail&evid=868&Itemid=6
 283">Voir les informations dans l'agenda...</a></li></ul></div></div"><!-- 
 #/gskiepreuve fin du dode généré par le plugin jevents pour GskiEpreuves. .
  Ne pas modifier cette ligne, ni tout le contenu précedant.  #/gskiepreuve 
 --> <a href="https://skivosges.net/agenda/export-synchronisation/detaileven
 ement/873/-/promo-foyer-journee-nordique-trophee-sport-passion?tmpl=compone
 nt">Cet évènement a été importé depuis :https://skivosges.net/agenda/export
 -synchronisation/detailevenement/873/-/promo-foyer-journee-nordique-trophee
 -sport-passion?tmpl=component</a>DTSTAMP:20260420T183845
DTSTART;TZID=Europe/Paris;VALUE=DATE:20171227
DTEND;TZID=Europe/Paris;VALUE=DATE:20171228
SEQUENCE:0
TRANSP:OPAQUE
END:VEVENT
END:VCALENDAR