BEGIN:VCALENDAR
VERSION:2.0
PRODID:-//jEvents 2.0 for Joomla//EN
CALSCALE:GREGORIAN
METHOD:PUBLISH
BEGIN:VTIMEZONE
TZID:Europe/Paris
BEGIN:STANDARD
DTSTART:20161229T000000
RDATE:20170326T030000
TZOFFSETFROM:+0200
TZOFFSETTO:+0100
TZNAME:Europe/Paris CET
END:STANDARD
BEGIN:STANDARD
DTSTART:20171029T020000
RDATE:20180325T030000
TZOFFSETFROM:+0200
TZOFFSETTO:+0100
TZNAME:Europe/Paris CET
END:STANDARD
BEGIN:STANDARD
DTSTART:20181028T020000
RDATE:20190331T030000
TZOFFSETFROM:+0200
TZOFFSETTO:+0100
TZNAME:Europe/Paris CET
END:STANDARD
BEGIN:STANDARD
DTSTART:20191027T020000
RDATE:20200329T030000
TZOFFSETFROM:+0200
TZOFFSETTO:+0100
TZNAME:Europe/Paris CET
END:STANDARD
BEGIN:STANDARD
DTSTART:20201025T020000
RDATE:20210328T030000
TZOFFSETFROM:+0200
TZOFFSETTO:+0100
TZNAME:Europe/Paris CET
END:STANDARD
BEGIN:STANDARD
DTSTART:20211031T020000
RDATE:20220327T030000
TZOFFSETFROM:+0200
TZOFFSETTO:+0100
TZNAME:Europe/Paris CET
END:STANDARD
BEGIN:STANDARD
DTSTART:20221030T020000
RDATE:20230326T030000
TZOFFSETFROM:+0200
TZOFFSETTO:+0100
TZNAME:Europe/Paris CET
END:STANDARD
BEGIN:STANDARD
DTSTART:20231029T020000
RDATE:20240331T030000
TZOFFSETFROM:+0200
TZOFFSETTO:+0100
TZNAME:Europe/Paris CET
END:STANDARD
BEGIN:STANDARD
DTSTART:20241027T020000
RDATE:20250330T030000
TZOFFSETFROM:+0200
TZOFFSETTO:+0100
TZNAME:Europe/Paris CET
END:STANDARD
BEGIN:STANDARD
DTSTART:20251026T020000
RDATE:20260329T030000
TZOFFSETFROM:+0200
TZOFFSETTO:+0100
TZNAME:Europe/Paris CET
END:STANDARD
BEGIN:STANDARD
DTSTART:20261025T020000
RDATE:20270328T030000
TZOFFSETFROM:+0200
TZOFFSETTO:+0100
TZNAME:Europe/Paris CET
END:STANDARD
BEGIN:DAYLIGHT
DTSTART:20170326T030000
RDATE:20171029T020000
TZOFFSETFROM:+0100
TZOFFSETTO:+0200
TZNAME:Europe/Paris CEST
END:DAYLIGHT
BEGIN:DAYLIGHT
DTSTART:20180325T030000
RDATE:20181028T020000
TZOFFSETFROM:+0100
TZOFFSETTO:+0200
TZNAME:Europe/Paris CEST
END:DAYLIGHT
BEGIN:DAYLIGHT
DTSTART:20190331T030000
RDATE:20191027T020000
TZOFFSETFROM:+0100
TZOFFSETTO:+0200
TZNAME:Europe/Paris CEST
END:DAYLIGHT
BEGIN:DAYLIGHT
DTSTART:20200329T030000
RDATE:20201025T020000
TZOFFSETFROM:+0100
TZOFFSETTO:+0200
TZNAME:Europe/Paris CEST
END:DAYLIGHT
BEGIN:DAYLIGHT
DTSTART:20210328T030000
RDATE:20211031T020000
TZOFFSETFROM:+0100
TZOFFSETTO:+0200
TZNAME:Europe/Paris CEST
END:DAYLIGHT
BEGIN:DAYLIGHT
DTSTART:20220327T030000
RDATE:20221030T020000
TZOFFSETFROM:+0100
TZOFFSETTO:+0200
TZNAME:Europe/Paris CEST
END:DAYLIGHT
BEGIN:DAYLIGHT
DTSTART:20230326T030000
RDATE:20231029T020000
TZOFFSETFROM:+0100
TZOFFSETTO:+0200
TZNAME:Europe/Paris CEST
END:DAYLIGHT
BEGIN:DAYLIGHT
DTSTART:20240331T030000
RDATE:20241027T020000
TZOFFSETFROM:+0100
TZOFFSETTO:+0200
TZNAME:Europe/Paris CEST
END:DAYLIGHT
BEGIN:DAYLIGHT
DTSTART:20250330T030000
RDATE:20251026T020000
TZOFFSETFROM:+0100
TZOFFSETTO:+0200
TZNAME:Europe/Paris CEST
END:DAYLIGHT
BEGIN:DAYLIGHT
DTSTART:20260329T030000
RDATE:20261025T020000
TZOFFSETFROM:+0100
TZOFFSETTO:+0200
TZNAME:Europe/Paris CEST
END:DAYLIGHT
END:VTIMEZONE
BEGIN:VEVENT
UID:d861fff9c8ceab0d3c02b429ef69f213
CATEGORIES:Compétition Saut
CREATED:20171121T093310
SUMMARY:BUSSANG  / Larcenaire - Coupe des Vosges  Larcenaire K30m K15m
URL;VALUE=URI:https://skivosges.net/agenda/export-synchronisation/detailevenement/875/-/b
 ussang-larcenaire-coupe-des-vosges-larcenaire-k30m-k15m?tmpl=component
DESCRIPTION:<!-- #gskiepreuve code généré par le plugin jevents pour GskiEpreuves. Ne p
 as modifier cette ligne, ni tout le contenu suivant  #gskiepreuve --><div c
 lass="gski-evenement_infos"><div class="gski-evenement-nom">BUSSANG  / Larc
 enaire - Coupe des Vosges  Larcenaire K30m K15m</div><div class="gski-evene
 ment-report"></div><ul class="gski-evenement-liste-infos"><li>Codex éveneme
 nt TMVT0010</li><li>Station : BUSSANG LARCENAIRE</li><li>Organisateur : 140
 07 UNION SPORTIVE BUSSANG</li></ul><div class="gski-evenement-infos-2"><div
  class="gski-evenement-info-inscriptions"><div class="gski-evenement-inscri
 ptions-periodes">Période d'inscription à l'evènement du samedi 23 décembre 
 2017 à 00:00 au jeudi 28 décembre 2017 à 12:00 <span class="gski-evenement-
 inscriptions-impossibles">(Inscriptions impossibles).</span><div class="gsk
 i-evenement-inscriptions-types-titres">Inscriptions ouvertes aux detenteurs
  des titres Fédéraux valides suivants : Licenciés Compétiteurs</div></div><
 /div><div class="gski-evenement-epreuves"><div class="gski-evenement-epreuv
 es-titres">Epreuves :</div><ul class="gski-evenement-epreuves-list"><li><di
 v class="gski-epreuve-date">Le samedi 30 décembre 2017</div><ul class="gski
 -epreuve-liste-infos"><li>Codex épreuve TMVF0011</li><li>Saut Special</li><
 li>Catégorie(s) : U7 a U20 (Filles)</li></ul></li><li><div class="gski-epre
 uve-date">Le samedi 30 décembre 2017</div><ul class="gski-epreuve-liste-inf
 os"><li>Codex épreuve TMVF0012</li><li>Saut Special</li><li>Catégorie(s) : 
 Senior (Dames)</li></ul></li><li><div class="gski-epreuve-date">Le samedi 3
 0 décembre 2017</div><ul class="gski-epreuve-liste-infos"><li>Codex épreuve
  TMVM0011</li><li>Saut Special</li><li>Catégorie(s) : U7 a U20 (Garçons)</l
 i></ul></li><li><div class="gski-epreuve-date">Le samedi 30 décembre 2017</
 div><ul class="gski-epreuve-liste-infos"><li>Codex épreuve TMVM0012</li><li
 >Saut Special</li><li>Catégorie(s) : Senior (Hommes)</li></ul></li></ul></d
 iv><div class="gskiepreuves-links"><ul><li><a href="/index.php?option=com_j
 events&task=icalevent.detail&evid=870&Itemid=6283">Voir les informations da
 ns l'agenda...</a></li></ul></div></div"><!-- #/gskiepreuve fin du dode gén
 éré par le plugin jevents pour GskiEpreuves. . Ne pas modifier cette ligne,
  ni tout le contenu précedant.  #/gskiepreuve --> <a href="https://skivosge
 s.net/agenda/export-synchronisation/detailevenement/875/-/bussang-larcenair
 e-coupe-des-vosges-larcenaire-k30m-k15m?tmpl=component">Cet évènement a été
  importé depuis :https://skivosges.net/agenda/export-synchronisation/detail
 evenement/875/-/bussang-larcenaire-coupe-des-vosges-larcenaire-k30m-k15m?tm
 pl=component</a>
X-ALT-DESC;FMTTYPE=text/html:<!-- #gskiepreuve code généré par le plugin jevents pour GskiEpreuves. Ne p
 as modifier cette ligne, ni tout le contenu suivant  #gskiepreuve --><div c
 lass="gski-evenement_infos"><div class="gski-evenement-nom">BUSSANG  / Larc
 enaire - Coupe des Vosges  Larcenaire K30m K15m</div><div class="gski-evene
 ment-report"></div><ul class="gski-evenement-liste-infos"><li>Codex éveneme
 nt TMVT0010</li><li>Station : BUSSANG LARCENAIRE</li><li>Organisateur : 140
 07 UNION SPORTIVE BUSSANG</li></ul><div class="gski-evenement-infos-2"><div
  class="gski-evenement-info-inscriptions"><div class="gski-evenement-inscri
 ptions-periodes">Période d'inscription à l'evènement du samedi 23 décembre 
 2017 à 00:00 au jeudi 28 décembre 2017 à 12:00 <span class="gski-evenement-
 inscriptions-impossibles">(Inscriptions impossibles).</span><div class="gsk
 i-evenement-inscriptions-types-titres">Inscriptions ouvertes aux detenteurs
  des titres Fédéraux valides suivants : Licenciés Compétiteurs</div></div><
 /div><div class="gski-evenement-epreuves"><div class="gski-evenement-epreuv
 es-titres">Epreuves :</div><ul class="gski-evenement-epreuves-list"><li><di
 v class="gski-epreuve-date">Le samedi 30 décembre 2017</div><ul class="gski
 -epreuve-liste-infos"><li>Codex épreuve TMVF0011</li><li>Saut Special</li><
 li>Catégorie(s) : U7 a U20 (Filles)</li></ul></li><li><div class="gski-epre
 uve-date">Le samedi 30 décembre 2017</div><ul class="gski-epreuve-liste-inf
 os"><li>Codex épreuve TMVF0012</li><li>Saut Special</li><li>Catégorie(s) : 
 Senior (Dames)</li></ul></li><li><div class="gski-epreuve-date">Le samedi 3
 0 décembre 2017</div><ul class="gski-epreuve-liste-infos"><li>Codex épreuve
  TMVM0011</li><li>Saut Special</li><li>Catégorie(s) : U7 a U20 (Garçons)</l
 i></ul></li><li><div class="gski-epreuve-date">Le samedi 30 décembre 2017</
 div><ul class="gski-epreuve-liste-infos"><li>Codex épreuve TMVM0012</li><li
 >Saut Special</li><li>Catégorie(s) : Senior (Hommes)</li></ul></li></ul></d
 iv><div class="gskiepreuves-links"><ul><li><a href="https://skivosges.net/i
 ndex.php?option=com_jevents&task=icalevent.detail&evid=870&Itemid=6283">Voi
 r les informations dans l'agenda...</a></li></ul></div></div"><!-- #/gskiep
 reuve fin du dode généré par le plugin jevents pour GskiEpreuves. . Ne pas 
 modifier cette ligne, ni tout le contenu précedant.  #/gskiepreuve --> <a h
 ref="https://skivosges.net/agenda/export-synchronisation/detailevenement/87
 5/-/bussang-larcenaire-coupe-des-vosges-larcenaire-k30m-k15m?tmpl=component
 ">Cet évènement a été importé depuis :https://skivosges.net/agenda/export-s
 ynchronisation/detailevenement/875/-/bussang-larcenaire-coupe-des-vosges-la
 rcenaire-k30m-k15m?tmpl=component</a>DTSTAMP:20260420T184253
DTSTART;TZID=Europe/Paris;VALUE=DATE:20171230
DTEND;TZID=Europe/Paris;VALUE=DATE:20171231
SEQUENCE:0
TRANSP:OPAQUE
END:VEVENT
END:VCALENDAR