BEGIN:VCALENDAR
VERSION:2.0
PRODID:-//jEvents 2.0 for Joomla//EN
CALSCALE:GREGORIAN
METHOD:PUBLISH
BEGIN:VTIMEZONE
TZID:Europe/Paris
BEGIN:STANDARD
DTSTART:20170106T000000
RDATE:20170326T030000
TZOFFSETFROM:+0200
TZOFFSETTO:+0100
TZNAME:Europe/Paris CET
END:STANDARD
BEGIN:STANDARD
DTSTART:20171029T020000
RDATE:20180325T030000
TZOFFSETFROM:+0200
TZOFFSETTO:+0100
TZNAME:Europe/Paris CET
END:STANDARD
BEGIN:STANDARD
DTSTART:20181028T020000
RDATE:20190331T030000
TZOFFSETFROM:+0200
TZOFFSETTO:+0100
TZNAME:Europe/Paris CET
END:STANDARD
BEGIN:STANDARD
DTSTART:20191027T020000
RDATE:20200329T030000
TZOFFSETFROM:+0200
TZOFFSETTO:+0100
TZNAME:Europe/Paris CET
END:STANDARD
BEGIN:STANDARD
DTSTART:20201025T020000
RDATE:20210328T030000
TZOFFSETFROM:+0200
TZOFFSETTO:+0100
TZNAME:Europe/Paris CET
END:STANDARD
BEGIN:STANDARD
DTSTART:20211031T020000
RDATE:20220327T030000
TZOFFSETFROM:+0200
TZOFFSETTO:+0100
TZNAME:Europe/Paris CET
END:STANDARD
BEGIN:STANDARD
DTSTART:20221030T020000
RDATE:20230326T030000
TZOFFSETFROM:+0200
TZOFFSETTO:+0100
TZNAME:Europe/Paris CET
END:STANDARD
BEGIN:STANDARD
DTSTART:20231029T020000
RDATE:20240331T030000
TZOFFSETFROM:+0200
TZOFFSETTO:+0100
TZNAME:Europe/Paris CET
END:STANDARD
BEGIN:STANDARD
DTSTART:20241027T020000
RDATE:20250330T030000
TZOFFSETFROM:+0200
TZOFFSETTO:+0100
TZNAME:Europe/Paris CET
END:STANDARD
BEGIN:STANDARD
DTSTART:20251026T020000
RDATE:20260329T030000
TZOFFSETFROM:+0200
TZOFFSETTO:+0100
TZNAME:Europe/Paris CET
END:STANDARD
BEGIN:STANDARD
DTSTART:20261025T020000
RDATE:20270328T030000
TZOFFSETFROM:+0200
TZOFFSETTO:+0100
TZNAME:Europe/Paris CET
END:STANDARD
BEGIN:DAYLIGHT
DTSTART:20170326T030000
RDATE:20171029T020000
TZOFFSETFROM:+0100
TZOFFSETTO:+0200
TZNAME:Europe/Paris CEST
END:DAYLIGHT
BEGIN:DAYLIGHT
DTSTART:20180325T030000
RDATE:20181028T020000
TZOFFSETFROM:+0100
TZOFFSETTO:+0200
TZNAME:Europe/Paris CEST
END:DAYLIGHT
BEGIN:DAYLIGHT
DTSTART:20190331T030000
RDATE:20191027T020000
TZOFFSETFROM:+0100
TZOFFSETTO:+0200
TZNAME:Europe/Paris CEST
END:DAYLIGHT
BEGIN:DAYLIGHT
DTSTART:20200329T030000
RDATE:20201025T020000
TZOFFSETFROM:+0100
TZOFFSETTO:+0200
TZNAME:Europe/Paris CEST
END:DAYLIGHT
BEGIN:DAYLIGHT
DTSTART:20210328T030000
RDATE:20211031T020000
TZOFFSETFROM:+0100
TZOFFSETTO:+0200
TZNAME:Europe/Paris CEST
END:DAYLIGHT
BEGIN:DAYLIGHT
DTSTART:20220327T030000
RDATE:20221030T020000
TZOFFSETFROM:+0100
TZOFFSETTO:+0200
TZNAME:Europe/Paris CEST
END:DAYLIGHT
BEGIN:DAYLIGHT
DTSTART:20230326T030000
RDATE:20231029T020000
TZOFFSETFROM:+0100
TZOFFSETTO:+0200
TZNAME:Europe/Paris CEST
END:DAYLIGHT
BEGIN:DAYLIGHT
DTSTART:20240331T030000
RDATE:20241027T020000
TZOFFSETFROM:+0100
TZOFFSETTO:+0200
TZNAME:Europe/Paris CEST
END:DAYLIGHT
BEGIN:DAYLIGHT
DTSTART:20250330T030000
RDATE:20251026T020000
TZOFFSETFROM:+0100
TZOFFSETTO:+0200
TZNAME:Europe/Paris CEST
END:DAYLIGHT
BEGIN:DAYLIGHT
DTSTART:20260329T030000
RDATE:20261025T020000
TZOFFSETFROM:+0100
TZOFFSETTO:+0200
TZNAME:Europe/Paris CEST
END:DAYLIGHT
END:VTIMEZONE
BEGIN:VEVENT
UID:7df4cce958ebb5af20a57528343a395b
CATEGORIES:Circuit Massif Adultes (alpin)
CREATED:20171121T093310
SUMMARY:CAM Challenge Thérèse Leduc
URL;VALUE=URI:https://skivosges.net/agenda/export-synchronisation/detailevenement/881/-/c
 am-challenge-therese-leduc?tmpl=component
DESCRIPTION:CAM Challenge Thérèse Leduc\n - Codex évenement AMVT0070\n - Station : FRER
 E JOSEPH\n - Piste : Thérèse Leduc\n - Organisateur : 14083 U.S VENTRON\n -
  Courriel : RegularLabs.EmailProtector.unCloak("ep_bde782cb");\n - Délégué 
 Technique : DODIN YVESPériode d'inscription à l'evènement du dimanche 31 dé
 cembre 2017 à 00:00 au vendredi 05 janvier 2018 à 18:00 (Inscriptions impos
 sibles).Inscriptions ouvertes aux detenteurs des titres Fédéraux valides su
 ivants : Licenciés CompétiteursEpreuves :\n - Le dimanche 07 janvier 2018 à
  10:00\n - Codex épreuve AMVM0071\n - Slalom\n - Catégorie(s) : U16 (Garçon
 s)\n - Le dimanche 07 janvier 2018 à 10:00\n - Codex épreuve AMVF0071\n - S
 lalom\n - Catégorie(s) : U16 (Filles)\n - Le dimanche 07 janvier 2018 à 10:
 00\n - Codex épreuve AMVM0072\n - Slalom\n - Catégorie(s) : U18 a Masters (
 Hommes)\n - Le dimanche 07 janvier 2018 à 10:00\n - Codex épreuve AMVF0072\
 n - Slalom\n - Catégorie(s) : U18 a Masters (Dames)\n - Voir les informatio
 ns dans l'agenda... (/index.php?option=com_jevents&amp;task=icalevent.detai
 l&amp;evid=876&amp;Itemid=6283)\n - Vers les résultats... (/index.php?optio
 n=com_gskiepreuves&amp;view=afficheresultats&amp;format_option=tous&amp;fil
 ter[search]=AMVT0070&amp;filter[date_debut]=07-01-2018&amp;filter[date_fin]
 =07-01-2018&amp;code_activite=ALP&amp;Itemid=6283) Cet évènement a été impo
 rté depuis :https://skivosges.net/agenda/export-synchronisation/detailevene
 ment/881/-/cam-challenge-therese-leduc?tmpl=component
X-ALT-DESC;FMTTYPE=text/html:<!-- #gskiepreuve code généré par le plugin jevents pour GskiEpreuves. Ne p
 as modifier cette ligne, ni tout le contenu suivant  #gskiepreuve --><div c
 lass="gski-evenement_infos"><div class="gski-evenement-nom">CAM Challenge T
 hérèse Leduc</div><div class="gski-evenement-report"></div><ul class="gski-
 evenement-liste-infos"><li>Codex évenement AMVT0070</li><li>Station : FRERE
  JOSEPH</li><li>Piste : Th&eacute;r&egrave;se Leduc</li><li>Organisateur : 
 14083 U.S VENTRON</li><li>Courriel : <!-- Cette adresse électronique est pr
 otégée contre les robots spammeurs. --><span class="cloaked_email ep_bde782
 cb"><span data-ep-b="&#108;&#101;&#46;&#102;&#114;" data-ep-a="&#115;t&#101
 ;&#112;h"><span data-ep-b="&#114;i&#99;&#97;&#98;" data-ep-a="&#97;n&#101;.
 &#103;"><span data-ep-b="&#64;n&#117;&#109;e" data-ep-a="&#105;g&#97;nt"></
 span></span></span></span><script>RegularLabs.EmailProtector.unCloak("ep_bd
 e782cb");</script></li><li><span class="gski-evenement-obs">Délégué Techniq
 ue : DODIN YVES</span></li></ul><div class="gski-evenement-infos-2"><div cl
 ass="gski-evenement-info-inscriptions"><div class="gski-evenement-inscripti
 ons-periodes">Période d'inscription à l'evènement du dimanche 31 décembre 2
 017 à 00:00 au vendredi 05 janvier 2018 à 18:00 <span class="gski-evenement
 -inscriptions-impossibles">(Inscriptions impossibles).</span><div class="gs
 ki-evenement-inscriptions-types-titres">Inscriptions ouvertes aux detenteur
 s des titres Fédéraux valides suivants : Licenciés Compétiteurs</div></div>
 </div><div class="gski-evenement-epreuves"><div class="gski-evenement-epreu
 ves-titres">Epreuves :</div><ul class="gski-evenement-epreuves-list"><li><d
 iv class="gski-epreuve-date">Le dimanche 07 janvier 2018 à 10:00</div><ul c
 lass="gski-epreuve-liste-infos"><li>Codex épreuve AMVM0071</li><li>Slalom</
 li><li>Catégorie(s) : U16 (Garçons)</li></ul></li><li><div class="gski-epre
 uve-date">Le dimanche 07 janvier 2018 à 10:00</div><ul class="gski-epreuve-
 liste-infos"><li>Codex épreuve AMVF0071</li><li>Slalom</li><li>Catégorie(s)
  : U16 (Filles)</li></ul></li><li><div class="gski-epreuve-date">Le dimanch
 e 07 janvier 2018 à 10:00</div><ul class="gski-epreuve-liste-infos"><li>Cod
 ex épreuve AMVM0072</li><li>Slalom</li><li>Catégorie(s) : U18 a Masters (Ho
 mmes)</li></ul></li><li><div class="gski-epreuve-date">Le dimanche 07 janvi
 er 2018 à 10:00</div><ul class="gski-epreuve-liste-infos"><li>Codex épreuve
  AMVF0072</li><li>Slalom</li><li>Catégorie(s) : U18 a Masters (Dames)</li><
 /ul></li></ul></div><div class="gskiepreuves-links"><ul><li><a href="https:
 //skivosges.net/index.php?option=com_jevents&task=icalevent.detail&evid=876
 &Itemid=6283">Voir les informations dans l'agenda...</a></li><li><a href="h
 ttps://skivosges.net/index.php?option=com_gskiepreuves&view=afficheresultat
 s&format_option=tous&filter[search]=AMVT0070&filter[date_debut]=07-01-2018&
 filter[date_fin]=07-01-2018&code_activite=ALP&Itemid=6283">Vers les résulta
 ts...</a></li></ul></div></div"><!-- #/gskiepreuve fin du dode généré par l
 e plugin jevents pour GskiEpreuves. . Ne pas modifier cette ligne, ni tout 
 le contenu précedant.  #/gskiepreuve --> <a href="https://skivosges.net/age
 nda/export-synchronisation/detailevenement/881/-/cam-challenge-therese-ledu
 c?tmpl=component">Cet évènement a été importé depuis :https://skivosges.net
 /agenda/export-synchronisation/detailevenement/881/-/cam-challenge-therese-
 leduc?tmpl=component</a>DTSTAMP:20260420T131532
DTSTART;TZID=Europe/Paris;VALUE=DATE:20180107
DTEND;TZID=Europe/Paris;VALUE=DATE:20180108
SEQUENCE:0
TRANSP:OPAQUE
END:VEVENT
END:VCALENDAR