BEGIN:VCALENDAR
VERSION:2.0
PRODID:-//jEvents 2.0 for Joomla//EN
CALSCALE:GREGORIAN
METHOD:PUBLISH
BEGIN:VTIMEZONE
TZID:Europe/Paris
BEGIN:STANDARD
DTSTART:20170106T000000
RDATE:20170326T030000
TZOFFSETFROM:+0200
TZOFFSETTO:+0100
TZNAME:Europe/Paris CET
END:STANDARD
BEGIN:STANDARD
DTSTART:20171029T020000
RDATE:20180325T030000
TZOFFSETFROM:+0200
TZOFFSETTO:+0100
TZNAME:Europe/Paris CET
END:STANDARD
BEGIN:STANDARD
DTSTART:20181028T020000
RDATE:20190331T030000
TZOFFSETFROM:+0200
TZOFFSETTO:+0100
TZNAME:Europe/Paris CET
END:STANDARD
BEGIN:STANDARD
DTSTART:20191027T020000
RDATE:20200329T030000
TZOFFSETFROM:+0200
TZOFFSETTO:+0100
TZNAME:Europe/Paris CET
END:STANDARD
BEGIN:STANDARD
DTSTART:20201025T020000
RDATE:20210328T030000
TZOFFSETFROM:+0200
TZOFFSETTO:+0100
TZNAME:Europe/Paris CET
END:STANDARD
BEGIN:STANDARD
DTSTART:20211031T020000
RDATE:20220327T030000
TZOFFSETFROM:+0200
TZOFFSETTO:+0100
TZNAME:Europe/Paris CET
END:STANDARD
BEGIN:STANDARD
DTSTART:20221030T020000
RDATE:20230326T030000
TZOFFSETFROM:+0200
TZOFFSETTO:+0100
TZNAME:Europe/Paris CET
END:STANDARD
BEGIN:STANDARD
DTSTART:20231029T020000
RDATE:20240331T030000
TZOFFSETFROM:+0200
TZOFFSETTO:+0100
TZNAME:Europe/Paris CET
END:STANDARD
BEGIN:STANDARD
DTSTART:20241027T020000
RDATE:20250330T030000
TZOFFSETFROM:+0200
TZOFFSETTO:+0100
TZNAME:Europe/Paris CET
END:STANDARD
BEGIN:STANDARD
DTSTART:20251026T020000
RDATE:20260329T030000
TZOFFSETFROM:+0200
TZOFFSETTO:+0100
TZNAME:Europe/Paris CET
END:STANDARD
BEGIN:STANDARD
DTSTART:20261025T020000
RDATE:20270328T030000
TZOFFSETFROM:+0200
TZOFFSETTO:+0100
TZNAME:Europe/Paris CET
END:STANDARD
BEGIN:DAYLIGHT
DTSTART:20170326T030000
RDATE:20171029T020000
TZOFFSETFROM:+0100
TZOFFSETTO:+0200
TZNAME:Europe/Paris CEST
END:DAYLIGHT
BEGIN:DAYLIGHT
DTSTART:20180325T030000
RDATE:20181028T020000
TZOFFSETFROM:+0100
TZOFFSETTO:+0200
TZNAME:Europe/Paris CEST
END:DAYLIGHT
BEGIN:DAYLIGHT
DTSTART:20190331T030000
RDATE:20191027T020000
TZOFFSETFROM:+0100
TZOFFSETTO:+0200
TZNAME:Europe/Paris CEST
END:DAYLIGHT
BEGIN:DAYLIGHT
DTSTART:20200329T030000
RDATE:20201025T020000
TZOFFSETFROM:+0100
TZOFFSETTO:+0200
TZNAME:Europe/Paris CEST
END:DAYLIGHT
BEGIN:DAYLIGHT
DTSTART:20210328T030000
RDATE:20211031T020000
TZOFFSETFROM:+0100
TZOFFSETTO:+0200
TZNAME:Europe/Paris CEST
END:DAYLIGHT
BEGIN:DAYLIGHT
DTSTART:20220327T030000
RDATE:20221030T020000
TZOFFSETFROM:+0100
TZOFFSETTO:+0200
TZNAME:Europe/Paris CEST
END:DAYLIGHT
BEGIN:DAYLIGHT
DTSTART:20230326T030000
RDATE:20231029T020000
TZOFFSETFROM:+0100
TZOFFSETTO:+0200
TZNAME:Europe/Paris CEST
END:DAYLIGHT
BEGIN:DAYLIGHT
DTSTART:20240331T030000
RDATE:20241027T020000
TZOFFSETFROM:+0100
TZOFFSETTO:+0200
TZNAME:Europe/Paris CEST
END:DAYLIGHT
BEGIN:DAYLIGHT
DTSTART:20250330T030000
RDATE:20251026T020000
TZOFFSETFROM:+0100
TZOFFSETTO:+0200
TZNAME:Europe/Paris CEST
END:DAYLIGHT
BEGIN:DAYLIGHT
DTSTART:20260329T030000
RDATE:20261025T020000
TZOFFSETFROM:+0100
TZOFFSETTO:+0200
TZNAME:Europe/Paris CEST
END:DAYLIGHT
END:VTIMEZONE
BEGIN:VEVENT
UID:cc2ed93ec2b0f1406f1ec9d81bc1db27
CATEGORIES:Circuit Massif D2 (alpin)
CREATED:20171121T093310
SUMMARY:CD2 RESTAURANT LE BISTROT DE LA PERLE GERARDMER
URL;VALUE=URI:https://skivosges.net/agenda/export-synchronisation/detailevenement/882/-/c
 d2-restaurant-le-bistrot-de-la-perle-gerardmer?tmpl=component
DESCRIPTION:<!-- #gskiepreuve code généré par le plugin jevents pour GskiEpreuves. Ne p
 as modifier cette ligne, ni tout le contenu suivant  #gskiepreuve --><div c
 lass="gski-evenement_infos"><div class="gski-evenement-nom">CD2 RESTAURANT 
 LE BISTROT DE LA PERLE GERARDMER</div><div class="gski-evenement-report"></
 div><ul class="gski-evenement-liste-infos"><li>Codex évenement AMVT0080</li
 ><li>Station : GERARDMER</li><li>Piste : Stade</li><li>Organisateur : 14089
  GERARDMER SKI ALPIN</li><li>Courriel : <!-- Cette adresse électronique est
  protégée contre les robots spammeurs. --><span class="cloaked_email ep_1ce
 84426"><span data-ep-a="&#97;&#115;g&#115;&#107;" data-ep-b="&#102;r"><span
  data-ep-b="&#97;&#100;&#111;&#111;." data-ep-a="&#105;&#46;&#103;&#101;&#1
 14;"><span data-ep-a="&#97;r&#100;&#109;e" data-ep-b="r&#64;&#119;&#97;&#11
 0;"></span></span></span></span><script>RegularLabs.EmailProtector.unCloak(
 "ep_1ce84426");</script></li><li>Téléphone : 03 29 60 98 04</li><li><span c
 lass="gski-evenement-obs">Délégué Technique : TURRI TIZIANO</span></li></ul
 ><div class="gski-evenement-infos-2"><div class="gski-evenement-info-inscri
 ptions"><div class="gski-evenement-inscriptions-periodes">Période d'inscrip
 tion à l'evènement du vendredi 29 décembre 2017 à 00:00 au vendredi 05 janv
 ier 2018 à 17:00 <span class="gski-evenement-inscriptions-impossibles">(Ins
 criptions impossibles).</span><div class="gski-evenement-inscriptions-types
 -titres">Inscriptions ouvertes aux detenteurs des titres Fédéraux valides s
 uivants : Licenciés Compétiteurs</div></div></div><div class="gski-evenemen
 t-info-live">L'épreuve sera chronometrée avec les résultats publiés en dire
 ct (live)</div><div class="gski-evenement-epreuves"><div class="gski-evenem
 ent-epreuves-titres">Epreuves :</div><ul class="gski-evenement-epreuves-lis
 t"><li><div class="gski-epreuve-date">Le dimanche 07 janvier 2018</div><ul 
 class="gski-epreuve-liste-infos"><li>Codex épreuve AMVM0081</li><li>Slalom<
 /li><li>Catégorie(s) : U16 (Garçons)</li></ul></li><li><div class="gski-epr
 euve-date">Le dimanche 07 janvier 2018</div><ul class="gski-epreuve-liste-i
 nfos"><li>Codex épreuve AMVF0081</li><li>Slalom</li><li>Catégorie(s) : U16 
 (Filles)</li></ul></li><li><div class="gski-epreuve-date">Le dimanche 07 ja
 nvier 2018</div><ul class="gski-epreuve-liste-infos"><li>Codex épreuve AMVM
 0082</li><li>Slalom</li><li>Catégorie(s) : U18 a Masters (Hommes)</li></ul>
 </li><li><div class="gski-epreuve-date">Le dimanche 07 janvier 2018</div><u
 l class="gski-epreuve-liste-infos"><li>Codex épreuve AMVF0082</li><li>Slalo
 m</li><li>Catégorie(s) : U18 a Masters (Dames)</li></ul></li></ul></div><di
 v class="gskiepreuves-links"><ul><li><a href="/index.php?option=com_jevents
 &task=icalevent.detail&evid=877&Itemid=6283">Voir les informations dans l'a
 genda...</a></li><li><a href="/index.php?option=com_gskiepreuves&view=affic
 heresultats&format_option=tous&filter[search]=AMVT0080&filter[date_debut]=0
 7-01-2018&filter[date_fin]=07-01-2018&code_activite=ALP&Itemid=6283">Vers l
 es résultats...</a></li></ul></div></div"><!-- #/gskiepreuve fin du dode gé
 néré par le plugin jevents pour GskiEpreuves. . Ne pas modifier cette ligne
 , ni tout le contenu précedant.  #/gskiepreuve --> <a href="https://skivosg
 es.net/agenda/export-synchronisation/detailevenement/882/-/cd2-restaurant-l
 e-bistrot-de-la-perle-gerardmer?tmpl=component">Cet évènement a été importé
  depuis :https://skivosges.net/agenda/export-synchronisation/detailevenemen
 t/882/-/cd2-restaurant-le-bistrot-de-la-perle-gerardmer?tmpl=component</a>
X-ALT-DESC;FMTTYPE=text/html:<!-- #gskiepreuve code généré par le plugin jevents pour GskiEpreuves. Ne p
 as modifier cette ligne, ni tout le contenu suivant  #gskiepreuve --><div c
 lass="gski-evenement_infos"><div class="gski-evenement-nom">CD2 RESTAURANT 
 LE BISTROT DE LA PERLE GERARDMER</div><div class="gski-evenement-report"></
 div><ul class="gski-evenement-liste-infos"><li>Codex évenement AMVT0080</li
 ><li>Station : GERARDMER</li><li>Piste : Stade</li><li>Organisateur : 14089
  GERARDMER SKI ALPIN</li><li>Courriel : <!-- Cette adresse électronique est
  protégée contre les robots spammeurs. --><span class="cloaked_email ep_1ce
 84426"><span data-ep-a="&#97;&#115;g&#115;&#107;" data-ep-b="&#102;r"><span
  data-ep-b="&#97;&#100;&#111;&#111;." data-ep-a="&#105;&#46;&#103;&#101;&#1
 14;"><span data-ep-a="&#97;r&#100;&#109;e" data-ep-b="r&#64;&#119;&#97;&#11
 0;"></span></span></span></span><script>RegularLabs.EmailProtector.unCloak(
 "ep_1ce84426");</script></li><li>Téléphone : 03 29 60 98 04</li><li><span c
 lass="gski-evenement-obs">Délégué Technique : TURRI TIZIANO</span></li></ul
 ><div class="gski-evenement-infos-2"><div class="gski-evenement-info-inscri
 ptions"><div class="gski-evenement-inscriptions-periodes">Période d'inscrip
 tion à l'evènement du vendredi 29 décembre 2017 à 00:00 au vendredi 05 janv
 ier 2018 à 17:00 <span class="gski-evenement-inscriptions-impossibles">(Ins
 criptions impossibles).</span><div class="gski-evenement-inscriptions-types
 -titres">Inscriptions ouvertes aux detenteurs des titres Fédéraux valides s
 uivants : Licenciés Compétiteurs</div></div></div><div class="gski-evenemen
 t-info-live">L'épreuve sera chronometrée avec les résultats publiés en dire
 ct (live)</div><div class="gski-evenement-epreuves"><div class="gski-evenem
 ent-epreuves-titres">Epreuves :</div><ul class="gski-evenement-epreuves-lis
 t"><li><div class="gski-epreuve-date">Le dimanche 07 janvier 2018</div><ul 
 class="gski-epreuve-liste-infos"><li>Codex épreuve AMVM0081</li><li>Slalom<
 /li><li>Catégorie(s) : U16 (Garçons)</li></ul></li><li><div class="gski-epr
 euve-date">Le dimanche 07 janvier 2018</div><ul class="gski-epreuve-liste-i
 nfos"><li>Codex épreuve AMVF0081</li><li>Slalom</li><li>Catégorie(s) : U16 
 (Filles)</li></ul></li><li><div class="gski-epreuve-date">Le dimanche 07 ja
 nvier 2018</div><ul class="gski-epreuve-liste-infos"><li>Codex épreuve AMVM
 0082</li><li>Slalom</li><li>Catégorie(s) : U18 a Masters (Hommes)</li></ul>
 </li><li><div class="gski-epreuve-date">Le dimanche 07 janvier 2018</div><u
 l class="gski-epreuve-liste-infos"><li>Codex épreuve AMVF0082</li><li>Slalo
 m</li><li>Catégorie(s) : U18 a Masters (Dames)</li></ul></li></ul></div><di
 v class="gskiepreuves-links"><ul><li><a href="https://skivosges.net/index.p
 hp?option=com_jevents&task=icalevent.detail&evid=877&Itemid=6283">Voir les 
 informations dans l'agenda...</a></li><li><a href="https://skivosges.net/in
 dex.php?option=com_gskiepreuves&view=afficheresultats&format_option=tous&fi
 lter[search]=AMVT0080&filter[date_debut]=07-01-2018&filter[date_fin]=07-01-
 2018&code_activite=ALP&Itemid=6283">Vers les résultats...</a></li></ul></di
 v></div"><!-- #/gskiepreuve fin du dode généré par le plugin jevents pour G
 skiEpreuves. . Ne pas modifier cette ligne, ni tout le contenu précedant.  
 #/gskiepreuve --> <a href="https://skivosges.net/agenda/export-synchronisat
 ion/detailevenement/882/-/cd2-restaurant-le-bistrot-de-la-perle-gerardmer?t
 mpl=component">Cet évènement a été importé depuis :https://skivosges.net/ag
 enda/export-synchronisation/detailevenement/882/-/cd2-restaurant-le-bistrot
 -de-la-perle-gerardmer?tmpl=component</a>DTSTAMP:20260420T193828
DTSTART;TZID=Europe/Paris;VALUE=DATE:20180107
DTEND;TZID=Europe/Paris;VALUE=DATE:20180108
SEQUENCE:0
TRANSP:OPAQUE
END:VEVENT
END:VCALENDAR