BEGIN:VCALENDAR
VERSION:2.0
PRODID:-//jEvents 2.0 for Joomla//EN
CALSCALE:GREGORIAN
METHOD:PUBLISH
BEGIN:VTIMEZONE
TZID:Europe/Paris
BEGIN:STANDARD
DTSTART:20170113T000000
RDATE:20170326T030000
TZOFFSETFROM:+0200
TZOFFSETTO:+0100
TZNAME:Europe/Paris CET
END:STANDARD
BEGIN:STANDARD
DTSTART:20171029T020000
RDATE:20180325T030000
TZOFFSETFROM:+0200
TZOFFSETTO:+0100
TZNAME:Europe/Paris CET
END:STANDARD
BEGIN:STANDARD
DTSTART:20181028T020000
RDATE:20190331T030000
TZOFFSETFROM:+0200
TZOFFSETTO:+0100
TZNAME:Europe/Paris CET
END:STANDARD
BEGIN:STANDARD
DTSTART:20191027T020000
RDATE:20200329T030000
TZOFFSETFROM:+0200
TZOFFSETTO:+0100
TZNAME:Europe/Paris CET
END:STANDARD
BEGIN:STANDARD
DTSTART:20201025T020000
RDATE:20210328T030000
TZOFFSETFROM:+0200
TZOFFSETTO:+0100
TZNAME:Europe/Paris CET
END:STANDARD
BEGIN:STANDARD
DTSTART:20211031T020000
RDATE:20220327T030000
TZOFFSETFROM:+0200
TZOFFSETTO:+0100
TZNAME:Europe/Paris CET
END:STANDARD
BEGIN:STANDARD
DTSTART:20221030T020000
RDATE:20230326T030000
TZOFFSETFROM:+0200
TZOFFSETTO:+0100
TZNAME:Europe/Paris CET
END:STANDARD
BEGIN:STANDARD
DTSTART:20231029T020000
RDATE:20240331T030000
TZOFFSETFROM:+0200
TZOFFSETTO:+0100
TZNAME:Europe/Paris CET
END:STANDARD
BEGIN:STANDARD
DTSTART:20241027T020000
RDATE:20250330T030000
TZOFFSETFROM:+0200
TZOFFSETTO:+0100
TZNAME:Europe/Paris CET
END:STANDARD
BEGIN:STANDARD
DTSTART:20251026T020000
RDATE:20260329T030000
TZOFFSETFROM:+0200
TZOFFSETTO:+0100
TZNAME:Europe/Paris CET
END:STANDARD
BEGIN:STANDARD
DTSTART:20261025T020000
RDATE:20270328T030000
TZOFFSETFROM:+0200
TZOFFSETTO:+0100
TZNAME:Europe/Paris CET
END:STANDARD
BEGIN:DAYLIGHT
DTSTART:20170326T030000
RDATE:20171029T020000
TZOFFSETFROM:+0100
TZOFFSETTO:+0200
TZNAME:Europe/Paris CEST
END:DAYLIGHT
BEGIN:DAYLIGHT
DTSTART:20180325T030000
RDATE:20181028T020000
TZOFFSETFROM:+0100
TZOFFSETTO:+0200
TZNAME:Europe/Paris CEST
END:DAYLIGHT
BEGIN:DAYLIGHT
DTSTART:20190331T030000
RDATE:20191027T020000
TZOFFSETFROM:+0100
TZOFFSETTO:+0200
TZNAME:Europe/Paris CEST
END:DAYLIGHT
BEGIN:DAYLIGHT
DTSTART:20200329T030000
RDATE:20201025T020000
TZOFFSETFROM:+0100
TZOFFSETTO:+0200
TZNAME:Europe/Paris CEST
END:DAYLIGHT
BEGIN:DAYLIGHT
DTSTART:20210328T030000
RDATE:20211031T020000
TZOFFSETFROM:+0100
TZOFFSETTO:+0200
TZNAME:Europe/Paris CEST
END:DAYLIGHT
BEGIN:DAYLIGHT
DTSTART:20220327T030000
RDATE:20221030T020000
TZOFFSETFROM:+0100
TZOFFSETTO:+0200
TZNAME:Europe/Paris CEST
END:DAYLIGHT
BEGIN:DAYLIGHT
DTSTART:20230326T030000
RDATE:20231029T020000
TZOFFSETFROM:+0100
TZOFFSETTO:+0200
TZNAME:Europe/Paris CEST
END:DAYLIGHT
BEGIN:DAYLIGHT
DTSTART:20240331T030000
RDATE:20241027T020000
TZOFFSETFROM:+0100
TZOFFSETTO:+0200
TZNAME:Europe/Paris CEST
END:DAYLIGHT
BEGIN:DAYLIGHT
DTSTART:20250330T030000
RDATE:20251026T020000
TZOFFSETFROM:+0100
TZOFFSETTO:+0200
TZNAME:Europe/Paris CEST
END:DAYLIGHT
BEGIN:DAYLIGHT
DTSTART:20260329T030000
RDATE:20261025T020000
TZOFFSETFROM:+0100
TZOFFSETTO:+0200
TZNAME:Europe/Paris CEST
END:DAYLIGHT
END:VTIMEZONE
BEGIN:VEVENT
UID:5cb74b420f1e1d564787bfb1d3614f41
CATEGORIES:Circuit Massif Adultes (alpin)
CREATED:20171121T093310
SUMMARY:CAM Coupe Zinglé et Mémorial Schandené
URL;VALUE=URI:https://skivosges.net/agenda/export-synchronisation/detailevenement/892/-/c
 am-coupe-zingle-et-memorial-schandene?tmpl=component
DESCRIPTION:CAM Coupe Zinglé et Mémorial Schandené\n - Codex évenement AMVT0110\n - Sta
 tion : SCHNEPFENRIED\n - Organisateur : 14140 LES AMIS DE LA NATURE MUNSTER
 \n - Courriel : RegularLabs.EmailProtector.unCloak("ep_f0c879df");\n - Délé
 gué Technique : DODIN YVESPériode d'inscription à l'evènement du dimanche 0
 7 janvier 2018 à 00:00 au vendredi 12 janvier 2018 à 18:00 (Inscriptions im
 possibles).Inscriptions ouvertes aux detenteurs des titres Fédéraux valides
  suivants : Licenciés CompétiteursEpreuves :\n - Le dimanche 14 janvier 201
 8\n - Codex épreuve AMVM0111\n - Slalom\n - Catégorie(s) : U16 (Garçons)\n 
 - Le dimanche 14 janvier 2018\n - Codex épreuve AMVF0111\n - Slalom\n - Cat
 égorie(s) : U16 (Filles)\n - Le dimanche 14 janvier 2018\n - Codex épreuve 
 AMVM0112\n - Slalom\n - Catégorie(s) : U18 a Masters (Hommes)\n - Le dimanc
 he 14 janvier 2018\n - Codex épreuve AMVF0112\n - Slalom\n - Catégorie(s) :
  U18 a Masters (Dames)\n - Voir les informations dans l'agenda... (/index.p
 hp?option=com_jevents&amp;task=icalevent.detail&amp;evid=887&amp;Itemid=628
 3)\n - Vers les résultats... (/index.php?option=com_gskiepreuves&amp;view=a
 fficheresultats&amp;format_option=tous&amp;filter[search]=AMVT0110&amp;filt
 er[date_debut]=14-01-2018&amp;filter[date_fin]=14-01-2018&amp;code_activite
 =ALP&amp;Itemid=6283)\n - Publications concernant cet évènement :\n - Vendr
 edi 12 Janvier 2018 à 20:18 : Le 14/01/2018 SCHNEPFENRIED Liste de départs 
 Cet évènement a été importé depuis :https://skivosges.net/agenda/export-syn
 chronisation/detailevenement/892/-/cam-coupe-zingle-et-memorial-schandene?t
 mpl=component (https://skivosges.net/agenda/export-synchronisation/detailev
 enement/892/-/cam-coupe-zingle-et-memorial-schandene?tmpl=component)
X-ALT-DESC;FMTTYPE=text/html:<!-- #gskiepreuve code généré par le plugin jevents pour GskiEpreuves. Ne p
 as modifier cette ligne, ni tout le contenu suivant  #gskiepreuve --><div c
 lass="gski-evenement_infos"><div class="gski-evenement-nom">CAM Coupe Zingl
 é et Mémorial Schandené</div><div class="gski-evenement-report"></div><ul c
 lass="gski-evenement-liste-infos"><li>Codex évenement AMVT0110</li><li>Stat
 ion : SCHNEPFENRIED</li><li>Organisateur : 14140 LES AMIS DE LA NATURE MUNS
 TER</li><li>Courriel : <!-- Cette adresse électronique est protégée contre 
 les robots spammeurs. --><span class="cloaked_email ep_f0c879df"><span data
 -ep-b="g&#101;&#46;&#102;&#114;" data-ep-a="&#112;&#104;i&#108;&#105;"><spa
 n data-ep-b="&#64;o&#114;&#97;&#110;" data-ep-a="pp&#101;&#46;&#109;"><span
  data-ep-b="&#110;d54&#55;" data-ep-a="&#97;rc&#104;&#97;"></span></span></
 span></span><script>RegularLabs.EmailProtector.unCloak("ep_f0c879df");</scr
 ipt></li><li><span class="gski-evenement-obs">Délégué Technique : DODIN YVE
 S</span></li></ul><div class="gski-evenement-infos-2"><div class="gski-even
 ement-info-inscriptions"><div class="gski-evenement-inscriptions-periodes">
 Période d'inscription à l'evènement du dimanche 07 janvier 2018 à 00:00 au 
 vendredi 12 janvier 2018 à 18:00 <span class="gski-evenement-inscriptions-i
 mpossibles">(Inscriptions impossibles).</span><div class="gski-evenement-in
 scriptions-types-titres">Inscriptions ouvertes aux detenteurs des titres Fé
 déraux valides suivants : Licenciés Compétiteurs</div></div></div><div clas
 s="gski-evenement-epreuves"><div class="gski-evenement-epreuves-titres">Epr
 euves :</div><ul class="gski-evenement-epreuves-list"><li><div class="gski-
 epreuve-date">Le dimanche 14 janvier 2018</div><ul class="gski-epreuve-list
 e-infos"><li>Codex épreuve AMVM0111</li><li>Slalom</li><li>Catégorie(s) : U
 16 (Garçons)</li></ul></li><li><div class="gski-epreuve-date">Le dimanche 1
 4 janvier 2018</div><ul class="gski-epreuve-liste-infos"><li>Codex épreuve 
 AMVF0111</li><li>Slalom</li><li>Catégorie(s) : U16 (Filles)</li></ul></li><
 li><div class="gski-epreuve-date">Le dimanche 14 janvier 2018</div><ul clas
 s="gski-epreuve-liste-infos"><li>Codex épreuve AMVM0112</li><li>Slalom</li>
 <li>Catégorie(s) : U18 a Masters (Hommes)</li></ul></li><li><div class="gsk
 i-epreuve-date">Le dimanche 14 janvier 2018</div><ul class="gski-epreuve-li
 ste-infos"><li>Codex épreuve AMVF0112</li><li>Slalom</li><li>Catégorie(s) :
  U18 a Masters (Dames)</li></ul></li></ul></div><div class="gskiepreuves-li
 nks"><ul><li><a href="https://skivosges.net/index.php?option=com_jevents&ta
 sk=icalevent.detail&evid=887&Itemid=6283">Voir les informations dans l'agen
 da...</a></li><li><a href="https://skivosges.net/index.php?option=com_gskie
 preuves&view=afficheresultats&format_option=tous&filter[search]=AMVT0110&fi
 lter[date_debut]=14-01-2018&filter[date_fin]=14-01-2018&code_activite=ALP&I
 temid=6283">Vers les résultats...</a></li><li>Publications concernant cet é
 vènement :<ul><li><a href="https://skivosges.net/index.php?option=com_conte
 nt&view=article&id=6026&Itemid=6283">Vendredi 12 Janvier 2018 à 20:18 : Le 
 14/01/2018 SCHNEPFENRIED Liste de départs</a></li></ul></li></ul></div></di
 v"><!-- #/gskiepreuve fin du dode généré par le plugin jevents pour GskiEpr
 euves. . Ne pas modifier cette ligne, ni tout le contenu précedant.  #/gski
 epreuve --> <a href="https://skivosges.net/agenda/export-synchronisation/de
 tailevenement/892/-/cam-coupe-zingle-et-memorial-schandene?tmpl=component">
 Cet évènement a été importé depuis :https://skivosges.net/agenda/export-syn
 chronisation/detailevenement/892/-/cam-coupe-zingle-et-memorial-schandene?t
 mpl=component</a>DTSTAMP:20260420T145635
DTSTART;TZID=Europe/Paris;VALUE=DATE:20180114
DTEND;TZID=Europe/Paris;VALUE=DATE:20180115
SEQUENCE:0
TRANSP:OPAQUE
END:VEVENT
END:VCALENDAR