BEGIN:VCALENDAR
VERSION:2.0
PRODID:-//jEvents 2.0 for Joomla//EN
CALSCALE:GREGORIAN
METHOD:PUBLISH
BEGIN:VTIMEZONE
TZID:Europe/Paris
BEGIN:STANDARD
DTSTART:20170116T000000
RDATE:20170326T030000
TZOFFSETFROM:+0200
TZOFFSETTO:+0100
TZNAME:Europe/Paris CET
END:STANDARD
BEGIN:STANDARD
DTSTART:20171029T020000
RDATE:20180325T030000
TZOFFSETFROM:+0200
TZOFFSETTO:+0100
TZNAME:Europe/Paris CET
END:STANDARD
BEGIN:STANDARD
DTSTART:20181028T020000
RDATE:20190331T030000
TZOFFSETFROM:+0200
TZOFFSETTO:+0100
TZNAME:Europe/Paris CET
END:STANDARD
BEGIN:STANDARD
DTSTART:20191027T020000
RDATE:20200329T030000
TZOFFSETFROM:+0200
TZOFFSETTO:+0100
TZNAME:Europe/Paris CET
END:STANDARD
BEGIN:STANDARD
DTSTART:20201025T020000
RDATE:20210328T030000
TZOFFSETFROM:+0200
TZOFFSETTO:+0100
TZNAME:Europe/Paris CET
END:STANDARD
BEGIN:STANDARD
DTSTART:20211031T020000
RDATE:20220327T030000
TZOFFSETFROM:+0200
TZOFFSETTO:+0100
TZNAME:Europe/Paris CET
END:STANDARD
BEGIN:STANDARD
DTSTART:20221030T020000
RDATE:20230326T030000
TZOFFSETFROM:+0200
TZOFFSETTO:+0100
TZNAME:Europe/Paris CET
END:STANDARD
BEGIN:STANDARD
DTSTART:20231029T020000
RDATE:20240331T030000
TZOFFSETFROM:+0200
TZOFFSETTO:+0100
TZNAME:Europe/Paris CET
END:STANDARD
BEGIN:STANDARD
DTSTART:20241027T020000
RDATE:20250330T030000
TZOFFSETFROM:+0200
TZOFFSETTO:+0100
TZNAME:Europe/Paris CET
END:STANDARD
BEGIN:STANDARD
DTSTART:20251026T020000
RDATE:20260329T030000
TZOFFSETFROM:+0200
TZOFFSETTO:+0100
TZNAME:Europe/Paris CET
END:STANDARD
BEGIN:STANDARD
DTSTART:20261025T020000
RDATE:20270328T030000
TZOFFSETFROM:+0200
TZOFFSETTO:+0100
TZNAME:Europe/Paris CET
END:STANDARD
BEGIN:DAYLIGHT
DTSTART:20170326T030000
RDATE:20171029T020000
TZOFFSETFROM:+0100
TZOFFSETTO:+0200
TZNAME:Europe/Paris CEST
END:DAYLIGHT
BEGIN:DAYLIGHT
DTSTART:20180325T030000
RDATE:20181028T020000
TZOFFSETFROM:+0100
TZOFFSETTO:+0200
TZNAME:Europe/Paris CEST
END:DAYLIGHT
BEGIN:DAYLIGHT
DTSTART:20190331T030000
RDATE:20191027T020000
TZOFFSETFROM:+0100
TZOFFSETTO:+0200
TZNAME:Europe/Paris CEST
END:DAYLIGHT
BEGIN:DAYLIGHT
DTSTART:20200329T030000
RDATE:20201025T020000
TZOFFSETFROM:+0100
TZOFFSETTO:+0200
TZNAME:Europe/Paris CEST
END:DAYLIGHT
BEGIN:DAYLIGHT
DTSTART:20210328T030000
RDATE:20211031T020000
TZOFFSETFROM:+0100
TZOFFSETTO:+0200
TZNAME:Europe/Paris CEST
END:DAYLIGHT
BEGIN:DAYLIGHT
DTSTART:20220327T030000
RDATE:20221030T020000
TZOFFSETFROM:+0100
TZOFFSETTO:+0200
TZNAME:Europe/Paris CEST
END:DAYLIGHT
BEGIN:DAYLIGHT
DTSTART:20230326T030000
RDATE:20231029T020000
TZOFFSETFROM:+0100
TZOFFSETTO:+0200
TZNAME:Europe/Paris CEST
END:DAYLIGHT
BEGIN:DAYLIGHT
DTSTART:20240331T030000
RDATE:20241027T020000
TZOFFSETFROM:+0100
TZOFFSETTO:+0200
TZNAME:Europe/Paris CEST
END:DAYLIGHT
BEGIN:DAYLIGHT
DTSTART:20250330T030000
RDATE:20251026T020000
TZOFFSETFROM:+0100
TZOFFSETTO:+0200
TZNAME:Europe/Paris CEST
END:DAYLIGHT
BEGIN:DAYLIGHT
DTSTART:20260329T030000
RDATE:20261025T020000
TZOFFSETFROM:+0100
TZOFFSETTO:+0200
TZNAME:Europe/Paris CEST
END:DAYLIGHT
END:VTIMEZONE
BEGIN:VEVENT
UID:107d45f8da3a76feb20012a37fb471aa
CATEGORIES:Compétition Ski Alpin
CREATED:20171121T093310
SUMMARY:UGSEL
URL;VALUE=URI:https://skivosges.net/agenda/export-synchronisation/detailevenement/899/-/u
 gsel?tmpl=component
DESCRIPTION:UGSEL\n - Codex évenement AMVT1040\n - Station : GERARDMER\n - Organisateur
  : \n - Courriel : RegularLabs.EmailProtector.unCloak("ep_7b9d5e3e");\n - T
 éléphone : 03 29 60 98 04Période d'inscription à l'evènement du mercredi 10
  janvier 2018 à 00:00 au lundi 15 janvier 2018 à 12:00 (Inscriptions imposs
 ibles).Inscriptions ouvertes aux detenteurs des titres Fédéraux valides sui
 vants : Licenciés Compétiteurs et Titres Loisirs et DirigeantsEpreuves :\n 
 - Le mercredi 17 janvier 2018\n - Codex épreuve AMVM1041\n - Slalom Geant\n
  - Catégorie(s) : U12 a U16 (Garçons)\n - Le mercredi 17 janvier 2018\n - C
 odex épreuve AMVF1041\n - Slalom Geant\n - Catégorie(s) : U12 a U16 (Filles
 )\n - Voir les informations dans l'agenda... (/index.php?option=com_jevents
 &amp;task=icalevent.detail&amp;evid=894&amp;Itemid=6283) Cet évènement a ét
 é importé depuis :https://skivosges.net/agenda/export-synchronisation/detai
 levenement/899/-/ugsel?tmpl=component (https://skivosges.net/agenda/export-
 synchronisation/detailevenement/899/-/ugsel?tmpl=component)
X-ALT-DESC;FMTTYPE=text/html:<!-- #gskiepreuve code généré par le plugin jevents pour GskiEpreuves. Ne p
 as modifier cette ligne, ni tout le contenu suivant  #gskiepreuve --><div c
 lass="gski-evenement_infos"><div class="gski-evenement-nom">UGSEL</div><div
  class="gski-evenement-report"></div><ul class="gski-evenement-liste-infos"
 ><li>Codex évenement AMVT1040</li><li>Station : GERARDMER</li><li>Organisat
 eur : </li><li>Courriel : <!-- Cette adresse électronique est protégée cont
 re les robots spammeurs. --><span class="cloaked_email ep_7b9d5e3e"><span d
 ata-ep-b="&#102;r" data-ep-a="&#97;&#115;&#103;&#115;&#107;"><span data-ep-
 a="&#105;&#46;&#103;&#101;&#114;" data-ep-b="ad&#111;&#111;&#46;"><span dat
 a-ep-b="&#114;&#64;&#119;&#97;n" data-ep-a="a&#114;dme"></span></span></spa
 n></span><script>RegularLabs.EmailProtector.unCloak("ep_7b9d5e3e");</script
 ></li><li>Téléphone : 03 29 60 98 04</li></ul><div class="gski-evenement-in
 fos-2"><div class="gski-evenement-info-inscriptions"><div class="gski-evene
 ment-inscriptions-periodes">Période d'inscription à l'evènement du mercredi
  10 janvier 2018 à 00:00 au lundi 15 janvier 2018 à 12:00 <span class="gski
 -evenement-inscriptions-impossibles">(Inscriptions impossibles).</span><div
  class="gski-evenement-inscriptions-types-titres">Inscriptions ouvertes aux
  detenteurs des titres Fédéraux valides suivants : Licenciés Compétiteurs e
 t Titres Loisirs et Dirigeants</div></div></div><div class="gski-evenement-
 epreuves"><div class="gski-evenement-epreuves-titres">Epreuves :</div><ul c
 lass="gski-evenement-epreuves-list"><li><div class="gski-epreuve-date">Le m
 ercredi 17 janvier 2018</div><ul class="gski-epreuve-liste-infos"><li>Codex
  épreuve AMVM1041</li><li>Slalom Geant</li><li>Catégorie(s) : U12 a U16 (Ga
 rçons)</li></ul></li><li><div class="gski-epreuve-date">Le mercredi 17 janv
 ier 2018</div><ul class="gski-epreuve-liste-infos"><li>Codex épreuve AMVF10
 41</li><li>Slalom Geant</li><li>Catégorie(s) : U12 a U16 (Filles)</li></ul>
 </li></ul></div><div class="gskiepreuves-links"><ul><li><a href="https://sk
 ivosges.net/index.php?option=com_jevents&task=icalevent.detail&evid=894&Ite
 mid=6283">Voir les informations dans l'agenda...</a></li></ul></div></div">
 <!-- #/gskiepreuve fin du dode généré par le plugin jevents pour GskiEpreuv
 es. . Ne pas modifier cette ligne, ni tout le contenu précedant.  #/gskiepr
 euve --> <a href="https://skivosges.net/agenda/export-synchronisation/detai
 levenement/899/-/ugsel?tmpl=component">Cet évènement a été importé depuis :
 https://skivosges.net/agenda/export-synchronisation/detailevenement/899/-/u
 gsel?tmpl=component</a>DTSTAMP:20260421T014146
DTSTART;TZID=Europe/Paris;VALUE=DATE:20180117
DTEND;TZID=Europe/Paris;VALUE=DATE:20180118
SEQUENCE:0
TRANSP:OPAQUE
END:VEVENT
END:VCALENDAR