BEGIN:VCALENDAR
VERSION:2.0
PRODID:-//jEvents 2.0 for Joomla//EN
CALSCALE:GREGORIAN
METHOD:PUBLISH
BEGIN:VTIMEZONE
TZID:Europe/Paris
BEGIN:STANDARD
DTSTART:20170120T000000
RDATE:20170326T030000
TZOFFSETFROM:+0200
TZOFFSETTO:+0100
TZNAME:Europe/Paris CET
END:STANDARD
BEGIN:STANDARD
DTSTART:20171029T020000
RDATE:20180325T030000
TZOFFSETFROM:+0200
TZOFFSETTO:+0100
TZNAME:Europe/Paris CET
END:STANDARD
BEGIN:STANDARD
DTSTART:20181028T020000
RDATE:20190331T030000
TZOFFSETFROM:+0200
TZOFFSETTO:+0100
TZNAME:Europe/Paris CET
END:STANDARD
BEGIN:STANDARD
DTSTART:20191027T020000
RDATE:20200329T030000
TZOFFSETFROM:+0200
TZOFFSETTO:+0100
TZNAME:Europe/Paris CET
END:STANDARD
BEGIN:STANDARD
DTSTART:20201025T020000
RDATE:20210328T030000
TZOFFSETFROM:+0200
TZOFFSETTO:+0100
TZNAME:Europe/Paris CET
END:STANDARD
BEGIN:STANDARD
DTSTART:20211031T020000
RDATE:20220327T030000
TZOFFSETFROM:+0200
TZOFFSETTO:+0100
TZNAME:Europe/Paris CET
END:STANDARD
BEGIN:STANDARD
DTSTART:20221030T020000
RDATE:20230326T030000
TZOFFSETFROM:+0200
TZOFFSETTO:+0100
TZNAME:Europe/Paris CET
END:STANDARD
BEGIN:STANDARD
DTSTART:20231029T020000
RDATE:20240331T030000
TZOFFSETFROM:+0200
TZOFFSETTO:+0100
TZNAME:Europe/Paris CET
END:STANDARD
BEGIN:STANDARD
DTSTART:20241027T020000
RDATE:20250330T030000
TZOFFSETFROM:+0200
TZOFFSETTO:+0100
TZNAME:Europe/Paris CET
END:STANDARD
BEGIN:STANDARD
DTSTART:20251026T020000
RDATE:20260329T030000
TZOFFSETFROM:+0200
TZOFFSETTO:+0100
TZNAME:Europe/Paris CET
END:STANDARD
BEGIN:STANDARD
DTSTART:20261025T020000
RDATE:20270328T030000
TZOFFSETFROM:+0200
TZOFFSETTO:+0100
TZNAME:Europe/Paris CET
END:STANDARD
BEGIN:DAYLIGHT
DTSTART:20170326T030000
RDATE:20171029T020000
TZOFFSETFROM:+0100
TZOFFSETTO:+0200
TZNAME:Europe/Paris CEST
END:DAYLIGHT
BEGIN:DAYLIGHT
DTSTART:20180325T030000
RDATE:20181028T020000
TZOFFSETFROM:+0100
TZOFFSETTO:+0200
TZNAME:Europe/Paris CEST
END:DAYLIGHT
BEGIN:DAYLIGHT
DTSTART:20190331T030000
RDATE:20191027T020000
TZOFFSETFROM:+0100
TZOFFSETTO:+0200
TZNAME:Europe/Paris CEST
END:DAYLIGHT
BEGIN:DAYLIGHT
DTSTART:20200329T030000
RDATE:20201025T020000
TZOFFSETFROM:+0100
TZOFFSETTO:+0200
TZNAME:Europe/Paris CEST
END:DAYLIGHT
BEGIN:DAYLIGHT
DTSTART:20210328T030000
RDATE:20211031T020000
TZOFFSETFROM:+0100
TZOFFSETTO:+0200
TZNAME:Europe/Paris CEST
END:DAYLIGHT
BEGIN:DAYLIGHT
DTSTART:20220327T030000
RDATE:20221030T020000
TZOFFSETFROM:+0100
TZOFFSETTO:+0200
TZNAME:Europe/Paris CEST
END:DAYLIGHT
BEGIN:DAYLIGHT
DTSTART:20230326T030000
RDATE:20231029T020000
TZOFFSETFROM:+0100
TZOFFSETTO:+0200
TZNAME:Europe/Paris CEST
END:DAYLIGHT
BEGIN:DAYLIGHT
DTSTART:20240331T030000
RDATE:20241027T020000
TZOFFSETFROM:+0100
TZOFFSETTO:+0200
TZNAME:Europe/Paris CEST
END:DAYLIGHT
BEGIN:DAYLIGHT
DTSTART:20250330T030000
RDATE:20251026T020000
TZOFFSETFROM:+0100
TZOFFSETTO:+0200
TZNAME:Europe/Paris CEST
END:DAYLIGHT
BEGIN:DAYLIGHT
DTSTART:20260329T030000
RDATE:20261025T020000
TZOFFSETFROM:+0100
TZOFFSETTO:+0200
TZNAME:Europe/Paris CEST
END:DAYLIGHT
END:VTIMEZONE
BEGIN:VEVENT
UID:5af178e2173658a4adc54e5170c4e19d
CATEGORIES:Opens et Promos (alpin)
CREATED:20171121T093310
SUMMARY:OPEN Critérium Régional Corpo **REPORTE**
URL;VALUE=URI:https://skivosges.net/agenda/export-synchronisation/detailevenement/907/-/o
 pen-criterium-regional-corpo-reporte?tmpl=component
DESCRIPTION:OPEN Critérium Régional Corpo (Epreuve reportée, date à determiner)\n - Cod
 ex évenement AMVT0200\n - Station : CHAMP DU FEU\n - Organisateur : 14071 A
 .S DES CHEMINOTS STRASBOURG\n - Courriel : RegularLabs.EmailProtector.unClo
 ak("ep_825f48e8");\n - Délégué Technique : SILBER JEAN GEORGESPériode d'ins
 cription à l'evènement du dimanche 14 janvier 2018 à 00:00 au vendredi 19 j
 anvier 2018 à 18:00 (Inscriptions impossibles).Inscriptions ouvertes aux de
 tenteurs des titres Fédéraux valides suivants : Licenciés CompétiteursEpreu
 ves :\n - Le dimanche 21 janvier 2018\n - Codex épreuve AMVM0201\n - Slalom
 \n - Catégorie(s) : U16 (Garçons)\n - Le dimanche 21 janvier 2018\n - Codex
  épreuve AMVF0201\n - Slalom\n - Catégorie(s) : U16 (Filles)\n - Le dimanch
 e 21 janvier 2018\n - Codex épreuve AMVF0202\n - Slalom\n - Catégorie(s) : 
 U18 a Masters (Dames)\n - Le dimanche 21 janvier 2018\n - Codex épreuve AMV
 M0202\n - Slalom\n - Catégorie(s) : U18 a Masters (Hommes)\n - Voir les inf
 ormations dans l'agenda... (/index.php?option=com_jevents&amp;task=icaleven
 t.detail&amp;evid=902&amp;Itemid=6283) Cet évènement a été importé depuis :
 https://skivosges.net/agenda/export-synchronisation/detailevenement/907/-/o
 pen-criterium-regional-corpo-reporte?tmpl=component (https://skivosges.net/
 agenda/export-synchronisation/detailevenement/907/-/open-criterium-regional
 -corpo-reporte?tmpl=component)
X-ALT-DESC;FMTTYPE=text/html:<!-- #gskiepreuve code généré par le plugin jevents pour GskiEpreuves. Ne p
 as modifier cette ligne, ni tout le contenu suivant  #gskiepreuve --><div c
 lass="gski-evenement_infos"><div class="gski-evenement-nom">OPEN Critérium 
 Régional Corpo</div><div class="gski-evenement-report"> <font class="gskiat
 tention">(Epreuve reportée, date à determiner)</font></div><ul class="gski-
 evenement-liste-infos"><li>Codex évenement AMVT0200</li><li>Station : CHAMP
  DU FEU</li><li>Organisateur : 14071 A.S DES CHEMINOTS STRASBOURG</li><li>C
 ourriel : <!-- Cette adresse électronique est protégée contre les robots sp
 ammeurs. --><span class="cloaked_email ep_825f48e8"><span data-ep-a="&#104;
 &#101;&#114;v&#101;" data-ep-b=""><span data-ep-a="&#46;b&#114;&#105;g" dat
 a-ep-b="&#101;&#46;&#110;&#101;&#116;"><span data-ep-b="&#97;&#112;&#111;&#
 115;t" data-ep-a="no&#110;&#64;&#108;"></span></span></span></span><script>
 RegularLabs.EmailProtector.unCloak("ep_825f48e8");</script></li><li><span c
 lass="gski-evenement-obs">Délégué Technique : SILBER JEAN GEORGES</span></l
 i></ul><div class="gski-evenement-infos-2"><div class="gski-evenement-info-
 inscriptions"><div class="gski-evenement-inscriptions-periodes">Période d'i
 nscription à l'evènement du dimanche 14 janvier 2018 à 00:00 au vendredi 19
  janvier 2018 à 18:00 <span class="gski-evenement-inscriptions-impossibles"
 >(Inscriptions impossibles).</span><div class="gski-evenement-inscriptions-
 types-titres">Inscriptions ouvertes aux detenteurs des titres Fédéraux vali
 des suivants : Licenciés Compétiteurs</div></div></div><div class="gski-eve
 nement-epreuves"><div class="gski-evenement-epreuves-titres">Epreuves :</di
 v><ul class="gski-evenement-epreuves-list"><li><div class="gski-epreuve-dat
 e">Le dimanche 21 janvier 2018</div><ul class="gski-epreuve-liste-infos"><l
 i>Codex épreuve AMVM0201</li><li>Slalom</li><li>Catégorie(s) : U16 (Garçons
 )</li></ul></li><li><div class="gski-epreuve-date">Le dimanche 21 janvier 2
 018</div><ul class="gski-epreuve-liste-infos"><li>Codex épreuve AMVF0201</l
 i><li>Slalom</li><li>Catégorie(s) : U16 (Filles)</li></ul></li><li><div cla
 ss="gski-epreuve-date">Le dimanche 21 janvier 2018</div><ul class="gski-epr
 euve-liste-infos"><li>Codex épreuve AMVF0202</li><li>Slalom</li><li>Catégor
 ie(s) : U18 a Masters (Dames)</li></ul></li><li><div class="gski-epreuve-da
 te">Le dimanche 21 janvier 2018</div><ul class="gski-epreuve-liste-infos"><
 li>Codex épreuve AMVM0202</li><li>Slalom</li><li>Catégorie(s) : U18 a Maste
 rs (Hommes)</li></ul></li></ul></div><div class="gskiepreuves-links"><ul><l
 i><a href="https://skivosges.net/index.php?option=com_jevents&task=icaleven
 t.detail&evid=902&Itemid=6283">Voir les informations dans l'agenda...</a></
 li></ul></div></div"><!-- #/gskiepreuve fin du dode généré par le plugin je
 vents pour GskiEpreuves. . Ne pas modifier cette ligne, ni tout le contenu 
 précedant.  #/gskiepreuve --> <a href="https://skivosges.net/agenda/export-
 synchronisation/detailevenement/907/-/open-criterium-regional-corpo-reporte
 ?tmpl=component">Cet évènement a été importé depuis :https://skivosges.net/
 agenda/export-synchronisation/detailevenement/907/-/open-criterium-regional
 -corpo-reporte?tmpl=component</a>DTSTAMP:20260421T050438
DTSTART;TZID=Europe/Paris;VALUE=DATE:20180121
DTEND;TZID=Europe/Paris;VALUE=DATE:20180122
SEQUENCE:0
TRANSP:OPAQUE
END:VEVENT
END:VCALENDAR