BEGIN:VCALENDAR
VERSION:2.0
PRODID:-//jEvents 2.0 for Joomla//EN
CALSCALE:GREGORIAN
METHOD:PUBLISH
BEGIN:VTIMEZONE
TZID:Europe/Paris
BEGIN:STANDARD
DTSTART:20170118T000000
RDATE:20170326T030000
TZOFFSETFROM:+0200
TZOFFSETTO:+0100
TZNAME:Europe/Paris CET
END:STANDARD
BEGIN:STANDARD
DTSTART:20171029T020000
RDATE:20180325T030000
TZOFFSETFROM:+0200
TZOFFSETTO:+0100
TZNAME:Europe/Paris CET
END:STANDARD
BEGIN:STANDARD
DTSTART:20181028T020000
RDATE:20190331T030000
TZOFFSETFROM:+0200
TZOFFSETTO:+0100
TZNAME:Europe/Paris CET
END:STANDARD
BEGIN:STANDARD
DTSTART:20191027T020000
RDATE:20200329T030000
TZOFFSETFROM:+0200
TZOFFSETTO:+0100
TZNAME:Europe/Paris CET
END:STANDARD
BEGIN:STANDARD
DTSTART:20201025T020000
RDATE:20210328T030000
TZOFFSETFROM:+0200
TZOFFSETTO:+0100
TZNAME:Europe/Paris CET
END:STANDARD
BEGIN:STANDARD
DTSTART:20211031T020000
RDATE:20220327T030000
TZOFFSETFROM:+0200
TZOFFSETTO:+0100
TZNAME:Europe/Paris CET
END:STANDARD
BEGIN:STANDARD
DTSTART:20221030T020000
RDATE:20230326T030000
TZOFFSETFROM:+0200
TZOFFSETTO:+0100
TZNAME:Europe/Paris CET
END:STANDARD
BEGIN:STANDARD
DTSTART:20231029T020000
RDATE:20240331T030000
TZOFFSETFROM:+0200
TZOFFSETTO:+0100
TZNAME:Europe/Paris CET
END:STANDARD
BEGIN:STANDARD
DTSTART:20241027T020000
RDATE:20250330T030000
TZOFFSETFROM:+0200
TZOFFSETTO:+0100
TZNAME:Europe/Paris CET
END:STANDARD
BEGIN:STANDARD
DTSTART:20251026T020000
RDATE:20260329T030000
TZOFFSETFROM:+0200
TZOFFSETTO:+0100
TZNAME:Europe/Paris CET
END:STANDARD
BEGIN:STANDARD
DTSTART:20261025T020000
RDATE:20270328T030000
TZOFFSETFROM:+0200
TZOFFSETTO:+0100
TZNAME:Europe/Paris CET
END:STANDARD
BEGIN:DAYLIGHT
DTSTART:20170326T030000
RDATE:20171029T020000
TZOFFSETFROM:+0100
TZOFFSETTO:+0200
TZNAME:Europe/Paris CEST
END:DAYLIGHT
BEGIN:DAYLIGHT
DTSTART:20180325T030000
RDATE:20181028T020000
TZOFFSETFROM:+0100
TZOFFSETTO:+0200
TZNAME:Europe/Paris CEST
END:DAYLIGHT
BEGIN:DAYLIGHT
DTSTART:20190331T030000
RDATE:20191027T020000
TZOFFSETFROM:+0100
TZOFFSETTO:+0200
TZNAME:Europe/Paris CEST
END:DAYLIGHT
BEGIN:DAYLIGHT
DTSTART:20200329T030000
RDATE:20201025T020000
TZOFFSETFROM:+0100
TZOFFSETTO:+0200
TZNAME:Europe/Paris CEST
END:DAYLIGHT
BEGIN:DAYLIGHT
DTSTART:20210328T030000
RDATE:20211031T020000
TZOFFSETFROM:+0100
TZOFFSETTO:+0200
TZNAME:Europe/Paris CEST
END:DAYLIGHT
BEGIN:DAYLIGHT
DTSTART:20220327T030000
RDATE:20221030T020000
TZOFFSETFROM:+0100
TZOFFSETTO:+0200
TZNAME:Europe/Paris CEST
END:DAYLIGHT
BEGIN:DAYLIGHT
DTSTART:20230326T030000
RDATE:20231029T020000
TZOFFSETFROM:+0100
TZOFFSETTO:+0200
TZNAME:Europe/Paris CEST
END:DAYLIGHT
BEGIN:DAYLIGHT
DTSTART:20240331T030000
RDATE:20241027T020000
TZOFFSETFROM:+0100
TZOFFSETTO:+0200
TZNAME:Europe/Paris CEST
END:DAYLIGHT
BEGIN:DAYLIGHT
DTSTART:20250330T030000
RDATE:20251026T020000
TZOFFSETFROM:+0100
TZOFFSETTO:+0200
TZNAME:Europe/Paris CEST
END:DAYLIGHT
BEGIN:DAYLIGHT
DTSTART:20260329T030000
RDATE:20261025T020000
TZOFFSETFROM:+0100
TZOFFSETTO:+0200
TZNAME:Europe/Paris CEST
END:DAYLIGHT
END:VTIMEZONE
BEGIN:VEVENT
UID:e8e0e771ba56641f5c9c7bc949104023
CATEGORIES:Circuit Massif Masters (alpin)
CREATED:20171121T093310
SUMMARY:CMM  Esprit Racing GP WOLF **REPORTE(E) au 23/02/2018**
URL;VALUE=URI:https://skivosges.net/agenda/export-synchronisation/detailevenement/922/-/c
 mm-esprit-racing-gp-wolf-reporte-e-au-23-02-2018?tmpl=component
DESCRIPTION:CMM  Esprit Racing GP WOLF (Epreuve reportée au 23/02/2018)\n - Codex évene
 ment AMVT0320\n - Station : MARKSTEIN\n - Organisateur : 14356 S.C.O.S.E.G.
  GUEBWILLER\n - Courriel : RegularLabs.EmailProtector.unCloak("ep_bd9be2ad"
 );\n - Délégué Technique : VONTHRON JEAN MARIEPériode d'inscription à l'evè
 nement du vendredi 12 janvier 2018 à 00:00 au mercredi 17 janvier 2018 à 12
 :00 (Inscriptions impossibles).Inscriptions ouvertes aux detenteurs des tit
 res Fédéraux valides suivants : Licenciés CompétiteursEpreuves :\n - Le ven
 dredi 19 janvier 2018\n - Codex épreuve AMVM0321\n - Slalom\n - Catégorie(s
 ) : Tous les Masters+U30 Hommes (Hommes)\n - Le vendredi 19 janvier 2018\n 
 - Codex épreuve AMVF0321\n - Slalom\n - Catégorie(s) : Tous les Masters+U30
  Dames (Dames)\n - Voir les informations dans l'agenda... (/index.php?optio
 n=com_jevents&amp;task=icalevent.detail&amp;evid=917&amp;Itemid=6283)\n - V
 ers les résultats... (/index.php?option=com_gskiepreuves&amp;view=affichere
 sultats&amp;format_option=tous&amp;filter[search]=AMVT0320&amp;filter[date_
 debut]=23-02-2018&amp;filter[date_fin]=23-02-2018&amp;code_activite=ALP&amp
 ;Itemid=6283)\n - Publications concernant cet évènement :\n - Vendredi 23 F
 évrier 2018 à 13:36 : Le 19/01/2018 MARKSTEIN Liste de départs Cet évènemen
 t a été importé depuis :https://skivosges.net/agenda/export-synchronisation
 /detailevenement/922/-/cmm-esprit-racing-gp-wolf-reporte-e-au-23-02-2018?tm
 pl=component
X-ALT-DESC;FMTTYPE=text/html:<!-- #gskiepreuve code généré par le plugin jevents pour GskiEpreuves. Ne p
 as modifier cette ligne, ni tout le contenu suivant  #gskiepreuve --><div c
 lass="gski-evenement_infos"><div class="gski-evenement-nom">CMM  Esprit Rac
 ing GP WOLF</div><div class="gski-evenement-report"> <font class="gskiatten
 tion">(Epreuve reportée au 23/02/2018)</font></div><ul class="gski-evenemen
 t-liste-infos"><li>Codex évenement AMVT0320</li><li>Station : MARKSTEIN</li
 ><li>Organisateur : 14356 S.C.O.S.E.G. GUEBWILLER</li><li>Courriel : <!-- C
 ette adresse électronique est protégée contre les robots spammeurs. --><spa
 n class="cloaked_email ep_bd9be2ad"><span data-ep-a="&#103;&#101;ng" data-e
 p-b="fr"><span data-ep-b="&#100;&#111;&#111;." data-ep-a="&#46;&#99;la"><sp
 an data-ep-b="&#119;a&#110;a" data-ep-a="u&#100;e&#64;"></span></span></spa
 n></span><script>RegularLabs.EmailProtector.unCloak("ep_bd9be2ad");</script
 ></li><li><span class="gski-evenement-obs">Délégué Technique : VONTHRON JEA
 N MARIE</span></li></ul><div class="gski-evenement-infos-2"><div class="gsk
 i-evenement-info-inscriptions"><div class="gski-evenement-inscriptions-peri
 odes">Période d'inscription à l'evènement du vendredi 12 janvier 2018 à 00:
 00 au mercredi 17 janvier 2018 à 12:00 <span class="gski-evenement-inscript
 ions-impossibles">(Inscriptions impossibles).</span><div class="gski-evenem
 ent-inscriptions-types-titres">Inscriptions ouvertes aux detenteurs des tit
 res Fédéraux valides suivants : Licenciés Compétiteurs</div></div></div><di
 v class="gski-evenement-epreuves"><div class="gski-evenement-epreuves-titre
 s">Epreuves :</div><ul class="gski-evenement-epreuves-list"><li><div class=
 "gski-epreuve-date">Le vendredi 19 janvier 2018</div><ul class="gski-epreuv
 e-liste-infos"><li>Codex épreuve AMVM0321</li><li>Slalom</li><li>Catégorie(
 s) : Tous les Masters+U30 Hommes (Hommes)</li></ul></li><li><div class="gsk
 i-epreuve-date">Le vendredi 19 janvier 2018</div><ul class="gski-epreuve-li
 ste-infos"><li>Codex épreuve AMVF0321</li><li>Slalom</li><li>Catégorie(s) :
  Tous les Masters+U30 Dames (Dames)</li></ul></li></ul></div><div class="gs
 kiepreuves-links"><ul><li><a href="https://skivosges.net/index.php?option=c
 om_jevents&task=icalevent.detail&evid=917&Itemid=6283">Voir les information
 s dans l'agenda...</a></li><li><a href="https://skivosges.net/index.php?opt
 ion=com_gskiepreuves&view=afficheresultats&format_option=tous&filter[search
 ]=AMVT0320&filter[date_debut]=23-02-2018&filter[date_fin]=23-02-2018&code_a
 ctivite=ALP&Itemid=6283">Vers les résultats...</a></li><li>Publications con
 cernant cet évènement :<ul><li><a href="https://skivosges.net/index.php?opt
 ion=com_content&view=article&id=6175&Itemid=6283">Vendredi 23 Février 2018 
 à 13:36 : Le 19/01/2018 MARKSTEIN Liste de départs</a></li></ul></li></ul><
 /div></div"><!-- #/gskiepreuve fin du dode généré par le plugin jevents pou
 r GskiEpreuves. . Ne pas modifier cette ligne, ni tout le contenu précedant
 .  #/gskiepreuve --> <a href="https://skivosges.net/agenda/export-synchroni
 sation/detailevenement/922/-/cmm-esprit-racing-gp-wolf-reporte-e-au-23-02-2
 018?tmpl=component">Cet évènement a été importé depuis :https://skivosges.n
 et/agenda/export-synchronisation/detailevenement/922/-/cmm-esprit-racing-gp
 -wolf-reporte-e-au-23-02-2018?tmpl=component</a>DTSTAMP:20260420T220733
DTSTART;TZID=Europe/Paris;VALUE=DATE:20180119
DTEND;TZID=Europe/Paris;VALUE=DATE:20180120
SEQUENCE:0
TRANSP:OPAQUE
END:VEVENT
END:VCALENDAR