BEGIN:VCALENDAR
VERSION:2.0
PRODID:-//jEvents 2.0 for Joomla//EN
CALSCALE:GREGORIAN
METHOD:PUBLISH
BEGIN:VTIMEZONE
TZID:Europe/Paris
BEGIN:STANDARD
DTSTART:20170202T000000
RDATE:20170326T030000
TZOFFSETFROM:+0200
TZOFFSETTO:+0100
TZNAME:Europe/Paris CET
END:STANDARD
BEGIN:STANDARD
DTSTART:20171029T020000
RDATE:20180325T030000
TZOFFSETFROM:+0200
TZOFFSETTO:+0100
TZNAME:Europe/Paris CET
END:STANDARD
BEGIN:STANDARD
DTSTART:20181028T020000
RDATE:20190331T030000
TZOFFSETFROM:+0200
TZOFFSETTO:+0100
TZNAME:Europe/Paris CET
END:STANDARD
BEGIN:STANDARD
DTSTART:20191027T020000
RDATE:20200329T030000
TZOFFSETFROM:+0200
TZOFFSETTO:+0100
TZNAME:Europe/Paris CET
END:STANDARD
BEGIN:STANDARD
DTSTART:20201025T020000
RDATE:20210328T030000
TZOFFSETFROM:+0200
TZOFFSETTO:+0100
TZNAME:Europe/Paris CET
END:STANDARD
BEGIN:STANDARD
DTSTART:20211031T020000
RDATE:20220327T030000
TZOFFSETFROM:+0200
TZOFFSETTO:+0100
TZNAME:Europe/Paris CET
END:STANDARD
BEGIN:STANDARD
DTSTART:20221030T020000
RDATE:20230326T030000
TZOFFSETFROM:+0200
TZOFFSETTO:+0100
TZNAME:Europe/Paris CET
END:STANDARD
BEGIN:STANDARD
DTSTART:20231029T020000
RDATE:20240331T030000
TZOFFSETFROM:+0200
TZOFFSETTO:+0100
TZNAME:Europe/Paris CET
END:STANDARD
BEGIN:STANDARD
DTSTART:20241027T020000
RDATE:20250330T030000
TZOFFSETFROM:+0200
TZOFFSETTO:+0100
TZNAME:Europe/Paris CET
END:STANDARD
BEGIN:STANDARD
DTSTART:20251026T020000
RDATE:20260329T030000
TZOFFSETFROM:+0200
TZOFFSETTO:+0100
TZNAME:Europe/Paris CET
END:STANDARD
BEGIN:STANDARD
DTSTART:20261025T020000
RDATE:20270328T030000
TZOFFSETFROM:+0200
TZOFFSETTO:+0100
TZNAME:Europe/Paris CET
END:STANDARD
BEGIN:DAYLIGHT
DTSTART:20170326T030000
RDATE:20171029T020000
TZOFFSETFROM:+0100
TZOFFSETTO:+0200
TZNAME:Europe/Paris CEST
END:DAYLIGHT
BEGIN:DAYLIGHT
DTSTART:20180325T030000
RDATE:20181028T020000
TZOFFSETFROM:+0100
TZOFFSETTO:+0200
TZNAME:Europe/Paris CEST
END:DAYLIGHT
BEGIN:DAYLIGHT
DTSTART:20190331T030000
RDATE:20191027T020000
TZOFFSETFROM:+0100
TZOFFSETTO:+0200
TZNAME:Europe/Paris CEST
END:DAYLIGHT
BEGIN:DAYLIGHT
DTSTART:20200329T030000
RDATE:20201025T020000
TZOFFSETFROM:+0100
TZOFFSETTO:+0200
TZNAME:Europe/Paris CEST
END:DAYLIGHT
BEGIN:DAYLIGHT
DTSTART:20210328T030000
RDATE:20211031T020000
TZOFFSETFROM:+0100
TZOFFSETTO:+0200
TZNAME:Europe/Paris CEST
END:DAYLIGHT
BEGIN:DAYLIGHT
DTSTART:20220327T030000
RDATE:20221030T020000
TZOFFSETFROM:+0100
TZOFFSETTO:+0200
TZNAME:Europe/Paris CEST
END:DAYLIGHT
BEGIN:DAYLIGHT
DTSTART:20230326T030000
RDATE:20231029T020000
TZOFFSETFROM:+0100
TZOFFSETTO:+0200
TZNAME:Europe/Paris CEST
END:DAYLIGHT
BEGIN:DAYLIGHT
DTSTART:20240331T030000
RDATE:20241027T020000
TZOFFSETFROM:+0100
TZOFFSETTO:+0200
TZNAME:Europe/Paris CEST
END:DAYLIGHT
BEGIN:DAYLIGHT
DTSTART:20250330T030000
RDATE:20251026T020000
TZOFFSETFROM:+0100
TZOFFSETTO:+0200
TZNAME:Europe/Paris CEST
END:DAYLIGHT
BEGIN:DAYLIGHT
DTSTART:20260329T030000
RDATE:20261025T020000
TZOFFSETFROM:+0100
TZOFFSETTO:+0200
TZNAME:Europe/Paris CEST
END:DAYLIGHT
END:VTIMEZONE
BEGIN:VEVENT
UID:f792d3e046f9dd314654f3eed92d0ee2
CATEGORIES:Circuit Massif Adultes (alpin)
CREATED:20171121T093310
SUMMARY:CAM Grand Prix Adultes L'excellence pour vos machines ent Wolff **REPORTE**
URL;VALUE=URI:https://skivosges.net/agenda/export-synchronisation/detailevenement/927/-/c
 am-grand-prix-adultes-lexcellence-pour-vos-machines-ent-wolff-reporte?tmpl=
 component
DESCRIPTION:<!-- #gskiepreuve code généré par le plugin jevents pour GskiEpreuves. Ne p
 as modifier cette ligne, ni tout le contenu suivant  #gskiepreuve --><div c
 lass="gski-evenement_infos"><div class="gski-evenement-nom">CAM Grand Prix 
 Adultes L'excellence pour vos machines ent Wolff</div><div class="gski-even
 ement-report"> <font class="gskiattention">(Epreuve reportée, date à determ
 iner)</font></div><ul class="gski-evenement-liste-infos"><li>Codex évenemen
 t AMVT0330</li><li>Station : GERARDMER</li><li>Organisateur : 14089 GERARDM
 ER SKI ALPIN</li><li>Courriel : <!-- Cette adresse électronique est protégé
 e contre les robots spammeurs. --><span class="cloaked_email ep_01faf6b8"><
 span data-ep-a="asg&#115;&#107;" data-ep-b="&#102;&#114;"><span data-ep-a="
 &#105;.g&#101;&#114;" data-ep-b="&#97;&#100;o&#111;&#46;"><span data-ep-a="
 &#97;&#114;&#100;me" data-ep-b="&#114;&#64;&#119;&#97;&#110;"></span></span
 ></span></span><script>RegularLabs.EmailProtector.unCloak("ep_01faf6b8");</
 script></li><li>Téléphone : 03 29 60 98 04</li><li><span class="gski-evenem
 ent-obs">Délégué Technique : MULLER JEAN CLAUDE</span></li></ul><div class=
 "gski-evenement-infos-2"><div class="gski-evenement-info-inscriptions"><div
  class="gski-evenement-inscriptions-periodes">Période d'inscription à l'evè
 nement du samedi 27 janvier 2018 à 00:00 au jeudi 01 février 2018 à 12:00 <
 span class="gski-evenement-inscriptions-impossibles">(Inscriptions impossib
 les).</span><div class="gski-evenement-inscriptions-types-titres">Inscripti
 ons ouvertes aux detenteurs des titres Fédéraux valides suivants : Licencié
 s Compétiteurs</div></div></div><div class="gski-evenement-epreuves"><div c
 lass="gski-evenement-epreuves-titres">Epreuves :</div><ul class="gski-evene
 ment-epreuves-list"><li><div class="gski-epreuve-date">Le samedi 03 février
  2018</div><ul class="gski-epreuve-liste-infos"><li>Codex épreuve AMVM0331<
 /li><li>Slalom</li><li>Catégorie(s) : U16 (Garçons)</li></ul></li><li><div 
 class="gski-epreuve-date">Le samedi 03 février 2018</div><ul class="gski-ep
 reuve-liste-infos"><li>Codex épreuve AMVF0331</li><li>Slalom</li><li>Catégo
 rie(s) : U16 (Filles)</li></ul></li><li><div class="gski-epreuve-date">Le s
 amedi 03 février 2018</div><ul class="gski-epreuve-liste-infos"><li>Codex é
 preuve AMVM0332</li><li>Slalom</li><li>Catégorie(s) : U18 a Masters (Hommes
 )</li></ul></li><li><div class="gski-epreuve-date">Le samedi 03 février 201
 8</div><ul class="gski-epreuve-liste-infos"><li>Codex épreuve AMVF0332</li>
 <li>Slalom</li><li>Catégorie(s) : U18 a Masters (Dames)</li></ul></li></ul>
 </div><div class="gskiepreuves-links"><ul><li><a href="/index.php?option=co
 m_jevents&task=icalevent.detail&evid=922&Itemid=6283">Voir les informations
  dans l'agenda...</a></li></ul></div></div"><!-- #/gskiepreuve fin du dode 
 généré par le plugin jevents pour GskiEpreuves. . Ne pas modifier cette lig
 ne, ni tout le contenu précedant.  #/gskiepreuve --> <a href="https://skivo
 sges.net/agenda/export-synchronisation/detailevenement/927/-/cam-grand-prix
 -adultes-lexcellence-pour-vos-machines-ent-wolff-reporte?tmpl=component">Ce
 t évènement a été importé depuis :https://skivosges.net/agenda/export-synch
 ronisation/detailevenement/927/-/cam-grand-prix-adultes-lexcellence-pour-vo
 s-machines-ent-wolff-reporte?tmpl=component</a>
X-ALT-DESC;FMTTYPE=text/html:<!-- #gskiepreuve code généré par le plugin jevents pour GskiEpreuves. Ne p
 as modifier cette ligne, ni tout le contenu suivant  #gskiepreuve --><div c
 lass="gski-evenement_infos"><div class="gski-evenement-nom">CAM Grand Prix 
 Adultes L'excellence pour vos machines ent Wolff</div><div class="gski-even
 ement-report"> <font class="gskiattention">(Epreuve reportée, date à determ
 iner)</font></div><ul class="gski-evenement-liste-infos"><li>Codex évenemen
 t AMVT0330</li><li>Station : GERARDMER</li><li>Organisateur : 14089 GERARDM
 ER SKI ALPIN</li><li>Courriel : <!-- Cette adresse électronique est protégé
 e contre les robots spammeurs. --><span class="cloaked_email ep_01faf6b8"><
 span data-ep-a="asg&#115;&#107;" data-ep-b="&#102;&#114;"><span data-ep-a="
 &#105;.g&#101;&#114;" data-ep-b="&#97;&#100;o&#111;&#46;"><span data-ep-a="
 &#97;&#114;&#100;me" data-ep-b="&#114;&#64;&#119;&#97;&#110;"></span></span
 ></span></span><script>RegularLabs.EmailProtector.unCloak("ep_01faf6b8");</
 script></li><li>Téléphone : 03 29 60 98 04</li><li><span class="gski-evenem
 ent-obs">Délégué Technique : MULLER JEAN CLAUDE</span></li></ul><div class=
 "gski-evenement-infos-2"><div class="gski-evenement-info-inscriptions"><div
  class="gski-evenement-inscriptions-periodes">Période d'inscription à l'evè
 nement du samedi 27 janvier 2018 à 00:00 au jeudi 01 février 2018 à 12:00 <
 span class="gski-evenement-inscriptions-impossibles">(Inscriptions impossib
 les).</span><div class="gski-evenement-inscriptions-types-titres">Inscripti
 ons ouvertes aux detenteurs des titres Fédéraux valides suivants : Licencié
 s Compétiteurs</div></div></div><div class="gski-evenement-epreuves"><div c
 lass="gski-evenement-epreuves-titres">Epreuves :</div><ul class="gski-evene
 ment-epreuves-list"><li><div class="gski-epreuve-date">Le samedi 03 février
  2018</div><ul class="gski-epreuve-liste-infos"><li>Codex épreuve AMVM0331<
 /li><li>Slalom</li><li>Catégorie(s) : U16 (Garçons)</li></ul></li><li><div 
 class="gski-epreuve-date">Le samedi 03 février 2018</div><ul class="gski-ep
 reuve-liste-infos"><li>Codex épreuve AMVF0331</li><li>Slalom</li><li>Catégo
 rie(s) : U16 (Filles)</li></ul></li><li><div class="gski-epreuve-date">Le s
 amedi 03 février 2018</div><ul class="gski-epreuve-liste-infos"><li>Codex é
 preuve AMVM0332</li><li>Slalom</li><li>Catégorie(s) : U18 a Masters (Hommes
 )</li></ul></li><li><div class="gski-epreuve-date">Le samedi 03 février 201
 8</div><ul class="gski-epreuve-liste-infos"><li>Codex épreuve AMVF0332</li>
 <li>Slalom</li><li>Catégorie(s) : U18 a Masters (Dames)</li></ul></li></ul>
 </div><div class="gskiepreuves-links"><ul><li><a href="https://skivosges.ne
 t/index.php?option=com_jevents&task=icalevent.detail&evid=922&Itemid=6283">
 Voir les informations dans l'agenda...</a></li></ul></div></div"><!-- #/gsk
 iepreuve fin du dode généré par le plugin jevents pour GskiEpreuves. . Ne p
 as modifier cette ligne, ni tout le contenu précedant.  #/gskiepreuve --> <
 a href="https://skivosges.net/agenda/export-synchronisation/detailevenement
 /927/-/cam-grand-prix-adultes-lexcellence-pour-vos-machines-ent-wolff-repor
 te?tmpl=component">Cet évènement a été importé depuis :https://skivosges.ne
 t/agenda/export-synchronisation/detailevenement/927/-/cam-grand-prix-adulte
 s-lexcellence-pour-vos-machines-ent-wolff-reporte?tmpl=component</a>DTSTAMP:20260420T184536
DTSTART;TZID=Europe/Paris;VALUE=DATE:20180203
DTEND;TZID=Europe/Paris;VALUE=DATE:20180204
SEQUENCE:0
TRANSP:OPAQUE
END:VEVENT
END:VCALENDAR