BEGIN:VCALENDAR
VERSION:2.0
PRODID:-//jEvents 2.0 for Joomla//EN
CALSCALE:GREGORIAN
METHOD:PUBLISH
BEGIN:VTIMEZONE
TZID:Europe/Paris
BEGIN:STANDARD
DTSTART:20170203T000000
RDATE:20170326T030000
TZOFFSETFROM:+0200
TZOFFSETTO:+0100
TZNAME:Europe/Paris CET
END:STANDARD
BEGIN:STANDARD
DTSTART:20171029T020000
RDATE:20180325T030000
TZOFFSETFROM:+0200
TZOFFSETTO:+0100
TZNAME:Europe/Paris CET
END:STANDARD
BEGIN:STANDARD
DTSTART:20181028T020000
RDATE:20190331T030000
TZOFFSETFROM:+0200
TZOFFSETTO:+0100
TZNAME:Europe/Paris CET
END:STANDARD
BEGIN:STANDARD
DTSTART:20191027T020000
RDATE:20200329T030000
TZOFFSETFROM:+0200
TZOFFSETTO:+0100
TZNAME:Europe/Paris CET
END:STANDARD
BEGIN:STANDARD
DTSTART:20201025T020000
RDATE:20210328T030000
TZOFFSETFROM:+0200
TZOFFSETTO:+0100
TZNAME:Europe/Paris CET
END:STANDARD
BEGIN:STANDARD
DTSTART:20211031T020000
RDATE:20220327T030000
TZOFFSETFROM:+0200
TZOFFSETTO:+0100
TZNAME:Europe/Paris CET
END:STANDARD
BEGIN:STANDARD
DTSTART:20221030T020000
RDATE:20230326T030000
TZOFFSETFROM:+0200
TZOFFSETTO:+0100
TZNAME:Europe/Paris CET
END:STANDARD
BEGIN:STANDARD
DTSTART:20231029T020000
RDATE:20240331T030000
TZOFFSETFROM:+0200
TZOFFSETTO:+0100
TZNAME:Europe/Paris CET
END:STANDARD
BEGIN:STANDARD
DTSTART:20241027T020000
RDATE:20250330T030000
TZOFFSETFROM:+0200
TZOFFSETTO:+0100
TZNAME:Europe/Paris CET
END:STANDARD
BEGIN:STANDARD
DTSTART:20251026T020000
RDATE:20260329T030000
TZOFFSETFROM:+0200
TZOFFSETTO:+0100
TZNAME:Europe/Paris CET
END:STANDARD
BEGIN:STANDARD
DTSTART:20261025T020000
RDATE:20270328T030000
TZOFFSETFROM:+0200
TZOFFSETTO:+0100
TZNAME:Europe/Paris CET
END:STANDARD
BEGIN:DAYLIGHT
DTSTART:20170326T030000
RDATE:20171029T020000
TZOFFSETFROM:+0100
TZOFFSETTO:+0200
TZNAME:Europe/Paris CEST
END:DAYLIGHT
BEGIN:DAYLIGHT
DTSTART:20180325T030000
RDATE:20181028T020000
TZOFFSETFROM:+0100
TZOFFSETTO:+0200
TZNAME:Europe/Paris CEST
END:DAYLIGHT
BEGIN:DAYLIGHT
DTSTART:20190331T030000
RDATE:20191027T020000
TZOFFSETFROM:+0100
TZOFFSETTO:+0200
TZNAME:Europe/Paris CEST
END:DAYLIGHT
BEGIN:DAYLIGHT
DTSTART:20200329T030000
RDATE:20201025T020000
TZOFFSETFROM:+0100
TZOFFSETTO:+0200
TZNAME:Europe/Paris CEST
END:DAYLIGHT
BEGIN:DAYLIGHT
DTSTART:20210328T030000
RDATE:20211031T020000
TZOFFSETFROM:+0100
TZOFFSETTO:+0200
TZNAME:Europe/Paris CEST
END:DAYLIGHT
BEGIN:DAYLIGHT
DTSTART:20220327T030000
RDATE:20221030T020000
TZOFFSETFROM:+0100
TZOFFSETTO:+0200
TZNAME:Europe/Paris CEST
END:DAYLIGHT
BEGIN:DAYLIGHT
DTSTART:20230326T030000
RDATE:20231029T020000
TZOFFSETFROM:+0100
TZOFFSETTO:+0200
TZNAME:Europe/Paris CEST
END:DAYLIGHT
BEGIN:DAYLIGHT
DTSTART:20240331T030000
RDATE:20241027T020000
TZOFFSETFROM:+0100
TZOFFSETTO:+0200
TZNAME:Europe/Paris CEST
END:DAYLIGHT
BEGIN:DAYLIGHT
DTSTART:20250330T030000
RDATE:20251026T020000
TZOFFSETFROM:+0100
TZOFFSETTO:+0200
TZNAME:Europe/Paris CEST
END:DAYLIGHT
BEGIN:DAYLIGHT
DTSTART:20260329T030000
RDATE:20261025T020000
TZOFFSETFROM:+0100
TZOFFSETTO:+0200
TZNAME:Europe/Paris CEST
END:DAYLIGHT
END:VTIMEZONE
BEGIN:VEVENT
UID:7716ad584f49bde4ce4a7526fcdcfd75
CATEGORIES:Circuit Alsace Jeunes (alpin)
CREATED:20171121T093310
SUMMARY:CJA Coupe de Bronze Mémorial Jacky Voison **REPORTE**
URL;VALUE=URI:https://skivosges.net/agenda/export-synchronisation/detailevenement/931/-/c
 ja-coupe-de-bronze-memorial-jacky-voison-reporte?tmpl=component
DESCRIPTION:CJA Coupe de Bronze Mémorial Jacky Voison (Epreuve reportée, date à determi
 ner)\n - Codex évenement AMVT0360\n - Lieu : LE BONHOMME\n - Station : LAC 
 BLANC\n - Piste : STADE DE SLALOM\n - Organisateur : 14343 SKI TEAM AVENIR 
 VALLEE DE WEISS\n - Courriel : RegularLabs.EmailProtector.unCloak("ep_67a71
 569");\n - Téléphone : 03 89 78 23 01\n - Délégué Technique : SCHLOSSER FRA
 NCKPériode d'inscription à l'evènement du dimanche 28 janvier 2018 à 00:00 
 au vendredi 02 février 2018 à 12:00 (Inscriptions impossibles).Inscriptions
  ouvertes aux detenteurs des titres Fédéraux valides suivants : Licenciés C
 ompétiteursEpreuves :\n - Le dimanche 04 février 2018\n - Codex épreuve AMV
 M0361\n - Slalom Geant\n - Catégorie(s) : U10/U12 (Garçons)\n - Le dimanche
  04 février 2018\n - Codex épreuve AMVF0361\n - Slalom Geant\n - Catégorie(
 s) : U10/U12 (Filles)\n - Le dimanche 04 février 2018\n - Codex épreuve AMV
 M0362\n - Slalom Geant\n - Catégorie(s) : U14 (Garçons)\n - Le dimanche 04 
 février 2018\n - Codex épreuve AMVF0362\n - Slalom Geant\n - Catégorie(s) :
  U14 (Filles)\n - Le dimanche 04 février 2018\n - Codex épreuve AMVM0363\n 
 - Slalom Geant\n - Catégorie(s) : U12/U14 (Garçons)\n - Le dimanche 04 févr
 ier 2018\n - Codex épreuve AMVF0363\n - Slalom Geant\n - Catégorie(s) : U12
 /U14 (Filles)\n - Voir les informations dans l'agenda... (/index.php?option
 =com_jevents&amp;task=icalevent.detail&amp;evid=926&amp;Itemid=6283)\n - Ve
 rs la liste de départs... (/index.php?option=com_gskiepreuves&amp;view=affi
 chedeparts&amp;format_option=tous&amp;filter[search]=AMVT0360&amp;filter[da
 te_debut]=04-02-2018&amp;filter[date_fin]=04-02-2018&amp;Itemid=6283) Cet é
 vènement a été importé depuis :https://skivosges.net/agenda/export-synchron
 isation/detailevenement/931/-/cja-coupe-de-bronze-memorial-jacky-voison-rep
 orte?tmpl=component
X-ALT-DESC;FMTTYPE=text/html:<!-- #gskiepreuve code généré par le plugin jevents pour GskiEpreuves. Ne p
 as modifier cette ligne, ni tout le contenu suivant  #gskiepreuve --><div c
 lass="gski-evenement_infos"><div class="gski-evenement-nom">CJA Coupe de Br
 onze Mémorial Jacky Voison</div><div class="gski-evenement-report"> <font c
 lass="gskiattention">(Epreuve reportée, date à determiner)</font></div><ul 
 class="gski-evenement-liste-infos"><li>Codex évenement AMVT0360</li><li>Lie
 u : LE BONHOMME</li><li>Station : LAC BLANC</li><li>Piste : STADE DE SLALOM
 </li><li>Organisateur : 14343 SKI TEAM AVENIR VALLEE DE WEISS</li><li>Courr
 iel : <!-- Cette adresse électronique est protégée contre les robots spamme
 urs. --><span class="cloaked_email ep_67a71569"><span data-ep-a="&#115;&#11
 6;&#97;" data-ep-b="r"><span data-ep-a="&#118;&#119;&#64;" data-ep-b="&#111
 ;.f"><span data-ep-a="&#119;&#97;n" data-ep-b="&#97;&#100;&#111;"></span></
 span></span></span><script>RegularLabs.EmailProtector.unCloak("ep_67a71569"
 );</script></li><li>Téléphone : 03 89 78 23 01</li><li><span class="gski-ev
 enement-obs">Délégué Technique : SCHLOSSER FRANCK</span></li></ul><div clas
 s="gski-evenement-infos-2"><div class="gski-evenement-info-inscriptions"><d
 iv class="gski-evenement-inscriptions-periodes">Période d'inscription à l'e
 vènement du dimanche 28 janvier 2018 à 00:00 au vendredi 02 février 2018 à 
 12:00 <span class="gski-evenement-inscriptions-impossibles">(Inscriptions i
 mpossibles).</span><div class="gski-evenement-inscriptions-types-titres">In
 scriptions ouvertes aux detenteurs des titres Fédéraux valides suivants : L
 icenciés Compétiteurs</div></div></div><div class="gski-evenement-epreuves"
 ><div class="gski-evenement-epreuves-titres">Epreuves :</div><ul class="gsk
 i-evenement-epreuves-list"><li><div class="gski-epreuve-date">Le dimanche 0
 4 février 2018</div><ul class="gski-epreuve-liste-infos"><li>Codex épreuve 
 AMVM0361</li><li>Slalom Geant</li><li>Catégorie(s) : U10/U12 (Garçons)</li>
 </ul></li><li><div class="gski-epreuve-date">Le dimanche 04 février 2018</d
 iv><ul class="gski-epreuve-liste-infos"><li>Codex épreuve AMVF0361</li><li>
 Slalom Geant</li><li>Catégorie(s) : U10/U12 (Filles)</li></ul></li><li><div
  class="gski-epreuve-date">Le dimanche 04 février 2018</div><ul class="gski
 -epreuve-liste-infos"><li>Codex épreuve AMVM0362</li><li>Slalom Geant</li><
 li>Catégorie(s) : U14 (Garçons)</li></ul></li><li><div class="gski-epreuve-
 date">Le dimanche 04 février 2018</div><ul class="gski-epreuve-liste-infos"
 ><li>Codex épreuve AMVF0362</li><li>Slalom Geant</li><li>Catégorie(s) : U14
  (Filles)</li></ul></li><li><div class="gski-epreuve-date">Le dimanche 04 f
 évrier 2018</div><ul class="gski-epreuve-liste-infos"><li>Codex épreuve AMV
 M0363</li><li>Slalom Geant</li><li>Catégorie(s) : U12/U14 (Garçons)</li></u
 l></li><li><div class="gski-epreuve-date">Le dimanche 04 février 2018</div>
 <ul class="gski-epreuve-liste-infos"><li>Codex épreuve AMVF0363</li><li>Sla
 lom Geant</li><li>Catégorie(s) : U12/U14 (Filles)</li></ul></li></ul></div>
 <div class="gskiepreuves-links"><ul><li><a href="https://skivosges.net/inde
 x.php?option=com_jevents&task=icalevent.detail&evid=926&Itemid=6283">Voir l
 es informations dans l'agenda...</a></li><li><a href="https://skivosges.net
 /index.php?option=com_gskiepreuves&view=affichedeparts&format_option=tous&f
 ilter[search]=AMVT0360&filter[date_debut]=04-02-2018&filter[date_fin]=04-02
 -2018&Itemid=6283">Vers la liste de départs...</a></li></ul></div></div"><!
 -- #/gskiepreuve fin du dode généré par le plugin jevents pour GskiEpreuves
 . . Ne pas modifier cette ligne, ni tout le contenu précedant.  #/gskiepreu
 ve --> <a href="https://skivosges.net/agenda/export-synchronisation/detaile
 venement/931/-/cja-coupe-de-bronze-memorial-jacky-voison-reporte?tmpl=compo
 nent">Cet évènement a été importé depuis :https://skivosges.net/agenda/expo
 rt-synchronisation/detailevenement/931/-/cja-coupe-de-bronze-memorial-jacky
 -voison-reporte?tmpl=component</a>DTSTAMP:20260421T050713
DTSTART;TZID=Europe/Paris;VALUE=DATE:20180204
DTEND;TZID=Europe/Paris;VALUE=DATE:20180205
SEQUENCE:0
TRANSP:OPAQUE
END:VEVENT
END:VCALENDAR