BEGIN:VCALENDAR
VERSION:2.0
PRODID:-//jEvents 2.0 for Joomla//EN
CALSCALE:GREGORIAN
METHOD:PUBLISH
BEGIN:VTIMEZONE
TZID:Europe/Paris
BEGIN:STANDARD
DTSTART:20170203T000000
RDATE:20170326T030000
TZOFFSETFROM:+0200
TZOFFSETTO:+0100
TZNAME:Europe/Paris CET
END:STANDARD
BEGIN:STANDARD
DTSTART:20171029T020000
RDATE:20180325T030000
TZOFFSETFROM:+0200
TZOFFSETTO:+0100
TZNAME:Europe/Paris CET
END:STANDARD
BEGIN:STANDARD
DTSTART:20181028T020000
RDATE:20190331T030000
TZOFFSETFROM:+0200
TZOFFSETTO:+0100
TZNAME:Europe/Paris CET
END:STANDARD
BEGIN:STANDARD
DTSTART:20191027T020000
RDATE:20200329T030000
TZOFFSETFROM:+0200
TZOFFSETTO:+0100
TZNAME:Europe/Paris CET
END:STANDARD
BEGIN:STANDARD
DTSTART:20201025T020000
RDATE:20210328T030000
TZOFFSETFROM:+0200
TZOFFSETTO:+0100
TZNAME:Europe/Paris CET
END:STANDARD
BEGIN:STANDARD
DTSTART:20211031T020000
RDATE:20220327T030000
TZOFFSETFROM:+0200
TZOFFSETTO:+0100
TZNAME:Europe/Paris CET
END:STANDARD
BEGIN:STANDARD
DTSTART:20221030T020000
RDATE:20230326T030000
TZOFFSETFROM:+0200
TZOFFSETTO:+0100
TZNAME:Europe/Paris CET
END:STANDARD
BEGIN:STANDARD
DTSTART:20231029T020000
RDATE:20240331T030000
TZOFFSETFROM:+0200
TZOFFSETTO:+0100
TZNAME:Europe/Paris CET
END:STANDARD
BEGIN:STANDARD
DTSTART:20241027T020000
RDATE:20250330T030000
TZOFFSETFROM:+0200
TZOFFSETTO:+0100
TZNAME:Europe/Paris CET
END:STANDARD
BEGIN:STANDARD
DTSTART:20251026T020000
RDATE:20260329T030000
TZOFFSETFROM:+0200
TZOFFSETTO:+0100
TZNAME:Europe/Paris CET
END:STANDARD
BEGIN:STANDARD
DTSTART:20261025T020000
RDATE:20270328T030000
TZOFFSETFROM:+0200
TZOFFSETTO:+0100
TZNAME:Europe/Paris CET
END:STANDARD
BEGIN:DAYLIGHT
DTSTART:20170326T030000
RDATE:20171029T020000
TZOFFSETFROM:+0100
TZOFFSETTO:+0200
TZNAME:Europe/Paris CEST
END:DAYLIGHT
BEGIN:DAYLIGHT
DTSTART:20180325T030000
RDATE:20181028T020000
TZOFFSETFROM:+0100
TZOFFSETTO:+0200
TZNAME:Europe/Paris CEST
END:DAYLIGHT
BEGIN:DAYLIGHT
DTSTART:20190331T030000
RDATE:20191027T020000
TZOFFSETFROM:+0100
TZOFFSETTO:+0200
TZNAME:Europe/Paris CEST
END:DAYLIGHT
BEGIN:DAYLIGHT
DTSTART:20200329T030000
RDATE:20201025T020000
TZOFFSETFROM:+0100
TZOFFSETTO:+0200
TZNAME:Europe/Paris CEST
END:DAYLIGHT
BEGIN:DAYLIGHT
DTSTART:20210328T030000
RDATE:20211031T020000
TZOFFSETFROM:+0100
TZOFFSETTO:+0200
TZNAME:Europe/Paris CEST
END:DAYLIGHT
BEGIN:DAYLIGHT
DTSTART:20220327T030000
RDATE:20221030T020000
TZOFFSETFROM:+0100
TZOFFSETTO:+0200
TZNAME:Europe/Paris CEST
END:DAYLIGHT
BEGIN:DAYLIGHT
DTSTART:20230326T030000
RDATE:20231029T020000
TZOFFSETFROM:+0100
TZOFFSETTO:+0200
TZNAME:Europe/Paris CEST
END:DAYLIGHT
BEGIN:DAYLIGHT
DTSTART:20240331T030000
RDATE:20241027T020000
TZOFFSETFROM:+0100
TZOFFSETTO:+0200
TZNAME:Europe/Paris CEST
END:DAYLIGHT
BEGIN:DAYLIGHT
DTSTART:20250330T030000
RDATE:20251026T020000
TZOFFSETFROM:+0100
TZOFFSETTO:+0200
TZNAME:Europe/Paris CEST
END:DAYLIGHT
BEGIN:DAYLIGHT
DTSTART:20260329T030000
RDATE:20261025T020000
TZOFFSETFROM:+0100
TZOFFSETTO:+0200
TZNAME:Europe/Paris CEST
END:DAYLIGHT
END:VTIMEZONE
BEGIN:VEVENT
UID:f78585275b6d3da827d4d722fbfceb5e
CATEGORIES:Opens et Promos (alpin)
CREATED:20171121T093310
SUMMARY:PROMO Dimanches de la Glisse
URL;VALUE=URI:https://skivosges.net/agenda/export-synchronisation/detailevenement/932/-/p
 romo-dimanches-de-la-glisse?tmpl=component
DESCRIPTION:PROMO Dimanches de la Glisse\n - Codex évenement AMVT0370\n - Station : CHA
 MP DU FEU\n - Organisateur : 14077 SKIEURS DE STRASBOURG\n - Courriel : Reg
 ularLabs.EmailProtector.unCloak("ep_d62aa88d");\n - Délégué Technique : EIS
 ENBLAETTER MAURICEPériode d'inscription à l'evènement du dimanche 28 janvie
 r 2018 à 00:00 au samedi 03 février 2018 à 18:00 (Inscriptions impossibles)
 .Inscriptions ouvertes aux detenteurs des titres Fédéraux valides suivants 
 : Licenciés Compétiteurs et Titres Loisirs et DirigeantsEpreuves :\n - Le d
 imanche 04 février 2018\n - Codex épreuve AMVM0371\n - KO-System 16\n - Cat
 égorie(s) : U8/U10 (Garçons)\n - Le dimanche 04 février 2018\n - Codex épre
 uve AMVF0371\n - KO-System 16\n - Catégorie(s) : U8/U10 (Filles)\n - Le dim
 anche 04 février 2018\n - Codex épreuve AMVF0372\n - KO-System 16\n - Catég
 orie(s) : U12 a U16 (Filles)\n - Le dimanche 04 février 2018\n - Codex épre
 uve AMVM0372\n - KO-System 16\n - Catégorie(s) : U12 a U16 (Garçons)\n - Le
  dimanche 04 février 2018\n - Codex épreuve AMVM0373\n - KO-System 16\n - C
 atégorie(s) : U18 a Masters (Hommes)\n - Le dimanche 04 février 2018\n - Co
 dex épreuve AMVF0373\n - KO-System 16\n - Catégorie(s) : U18 a Masters (Dam
 es)\n - Voir les informations dans l'agenda... (/index.php?option=com_jeven
 ts&amp;task=icalevent.detail&amp;evid=927&amp;Itemid=6283) Cet évènement a 
 été importé depuis :https://skivosges.net/agenda/export-synchronisation/det
 ailevenement/932/-/promo-dimanches-de-la-glisse?tmpl=component (https://ski
 vosges.net/agenda/export-synchronisation/detailevenement/932/-/promo-dimanc
 hes-de-la-glisse?tmpl=component)
X-ALT-DESC;FMTTYPE=text/html:<!-- #gskiepreuve code généré par le plugin jevents pour GskiEpreuves. Ne p
 as modifier cette ligne, ni tout le contenu suivant  #gskiepreuve --><div c
 lass="gski-evenement_infos"><div class="gski-evenement-nom">PROMO Dimanches
  de la Glisse</div><div class="gski-evenement-report"></div><ul class="gski
 -evenement-liste-infos"><li>Codex évenement AMVT0370</li><li>Station : CHAM
 P DU FEU</li><li>Organisateur : 14077 SKIEURS DE STRASBOURG</li><li>Courrie
 l : <!-- Cette adresse électronique est protégée contre les robots spammeur
 s. --><span class="cloaked_email ep_d62aa88d"><span data-ep-a="&#106;&#45;p
 &#104;" data-ep-b="&#114;"><span data-ep-b="&#103;e&#46;&#102;" data-ep-a="
 &#46;&#104;&#111;l"><span data-ep-a="w&#101;&#103;&#64;" data-ep-b="&#111;r
 &#97;&#110;"></span></span></span></span><script>RegularLabs.EmailProtector
 .unCloak("ep_d62aa88d");</script></li><li><span class="gski-evenement-obs">
 Délégué Technique : EISENBLAETTER MAURICE</span></li></ul><div class="gski-
 evenement-infos-2"><div class="gski-evenement-info-inscriptions"><div class
 ="gski-evenement-inscriptions-periodes">Période d'inscription à l'evènement
  du dimanche 28 janvier 2018 à 00:00 au samedi 03 février 2018 à 18:00 <spa
 n class="gski-evenement-inscriptions-impossibles">(Inscriptions impossibles
 ).</span><div class="gski-evenement-inscriptions-types-titres">Inscriptions
  ouvertes aux detenteurs des titres Fédéraux valides suivants : Licenciés C
 ompétiteurs et Titres Loisirs et Dirigeants</div></div></div><div class="gs
 ki-evenement-epreuves"><div class="gski-evenement-epreuves-titres">Epreuves
  :</div><ul class="gski-evenement-epreuves-list"><li><div class="gski-epreu
 ve-date">Le dimanche 04 février 2018</div><ul class="gski-epreuve-liste-inf
 os"><li>Codex épreuve AMVM0371</li><li>KO-System 16</li><li>Catégorie(s) : 
 U8/U10 (Garçons)</li></ul></li><li><div class="gski-epreuve-date">Le dimanc
 he 04 février 2018</div><ul class="gski-epreuve-liste-infos"><li>Codex épre
 uve AMVF0371</li><li>KO-System 16</li><li>Catégorie(s) : U8/U10 (Filles)</l
 i></ul></li><li><div class="gski-epreuve-date">Le dimanche 04 février 2018<
 /div><ul class="gski-epreuve-liste-infos"><li>Codex épreuve AMVF0372</li><l
 i>KO-System 16</li><li>Catégorie(s) : U12 a U16 (Filles)</li></ul></li><li>
 <div class="gski-epreuve-date">Le dimanche 04 février 2018</div><ul class="
 gski-epreuve-liste-infos"><li>Codex épreuve AMVM0372</li><li>KO-System 16</
 li><li>Catégorie(s) : U12 a U16 (Garçons)</li></ul></li><li><div class="gsk
 i-epreuve-date">Le dimanche 04 février 2018</div><ul class="gski-epreuve-li
 ste-infos"><li>Codex épreuve AMVM0373</li><li>KO-System 16</li><li>Catégori
 e(s) : U18 a Masters (Hommes)</li></ul></li><li><div class="gski-epreuve-da
 te">Le dimanche 04 février 2018</div><ul class="gski-epreuve-liste-infos"><
 li>Codex épreuve AMVF0373</li><li>KO-System 16</li><li>Catégorie(s) : U18 a
  Masters (Dames)</li></ul></li></ul></div><div class="gskiepreuves-links"><
 ul><li><a href="https://skivosges.net/index.php?option=com_jevents&task=ica
 levent.detail&evid=927&Itemid=6283">Voir les informations dans l'agenda...<
 /a></li></ul></div></div"><!-- #/gskiepreuve fin du dode généré par le plug
 in jevents pour GskiEpreuves. . Ne pas modifier cette ligne, ni tout le con
 tenu précedant.  #/gskiepreuve --> <a href="https://skivosges.net/agenda/ex
 port-synchronisation/detailevenement/932/-/promo-dimanches-de-la-glisse?tmp
 l=component">Cet évènement a été importé depuis :https://skivosges.net/agen
 da/export-synchronisation/detailevenement/932/-/promo-dimanches-de-la-gliss
 e?tmpl=component</a>DTSTAMP:20260421T014337
DTSTART;TZID=Europe/Paris;VALUE=DATE:20180204
DTEND;TZID=Europe/Paris;VALUE=DATE:20180205
SEQUENCE:0
TRANSP:OPAQUE
END:VEVENT
END:VCALENDAR