BEGIN:VCALENDAR
VERSION:2.0
PRODID:-//jEvents 2.0 for Joomla//EN
CALSCALE:GREGORIAN
METHOD:PUBLISH
BEGIN:VTIMEZONE
TZID:Europe/Paris
BEGIN:STANDARD
DTSTART:20170323T000000
RDATE:20170326T030000
TZOFFSETFROM:+0200
TZOFFSETTO:+0100
TZNAME:Europe/Paris CET
END:STANDARD
BEGIN:STANDARD
DTSTART:20171029T020000
RDATE:20180325T030000
TZOFFSETFROM:+0200
TZOFFSETTO:+0100
TZNAME:Europe/Paris CET
END:STANDARD
BEGIN:STANDARD
DTSTART:20181028T020000
RDATE:20190331T030000
TZOFFSETFROM:+0200
TZOFFSETTO:+0100
TZNAME:Europe/Paris CET
END:STANDARD
BEGIN:STANDARD
DTSTART:20191027T020000
RDATE:20200329T030000
TZOFFSETFROM:+0200
TZOFFSETTO:+0100
TZNAME:Europe/Paris CET
END:STANDARD
BEGIN:STANDARD
DTSTART:20201025T020000
RDATE:20210328T030000
TZOFFSETFROM:+0200
TZOFFSETTO:+0100
TZNAME:Europe/Paris CET
END:STANDARD
BEGIN:STANDARD
DTSTART:20211031T020000
RDATE:20220327T030000
TZOFFSETFROM:+0200
TZOFFSETTO:+0100
TZNAME:Europe/Paris CET
END:STANDARD
BEGIN:STANDARD
DTSTART:20221030T020000
RDATE:20230326T030000
TZOFFSETFROM:+0200
TZOFFSETTO:+0100
TZNAME:Europe/Paris CET
END:STANDARD
BEGIN:STANDARD
DTSTART:20231029T020000
RDATE:20240331T030000
TZOFFSETFROM:+0200
TZOFFSETTO:+0100
TZNAME:Europe/Paris CET
END:STANDARD
BEGIN:STANDARD
DTSTART:20241027T020000
RDATE:20250330T030000
TZOFFSETFROM:+0200
TZOFFSETTO:+0100
TZNAME:Europe/Paris CET
END:STANDARD
BEGIN:STANDARD
DTSTART:20251026T020000
RDATE:20260329T030000
TZOFFSETFROM:+0200
TZOFFSETTO:+0100
TZNAME:Europe/Paris CET
END:STANDARD
BEGIN:STANDARD
DTSTART:20261025T020000
RDATE:20270328T030000
TZOFFSETFROM:+0200
TZOFFSETTO:+0100
TZNAME:Europe/Paris CET
END:STANDARD
BEGIN:DAYLIGHT
DTSTART:20170326T030000
RDATE:20171029T020000
TZOFFSETFROM:+0100
TZOFFSETTO:+0200
TZNAME:Europe/Paris CEST
END:DAYLIGHT
BEGIN:DAYLIGHT
DTSTART:20180325T030000
RDATE:20181028T020000
TZOFFSETFROM:+0100
TZOFFSETTO:+0200
TZNAME:Europe/Paris CEST
END:DAYLIGHT
BEGIN:DAYLIGHT
DTSTART:20190331T030000
RDATE:20191027T020000
TZOFFSETFROM:+0100
TZOFFSETTO:+0200
TZNAME:Europe/Paris CEST
END:DAYLIGHT
BEGIN:DAYLIGHT
DTSTART:20200329T030000
RDATE:20201025T020000
TZOFFSETFROM:+0100
TZOFFSETTO:+0200
TZNAME:Europe/Paris CEST
END:DAYLIGHT
BEGIN:DAYLIGHT
DTSTART:20210328T030000
RDATE:20211031T020000
TZOFFSETFROM:+0100
TZOFFSETTO:+0200
TZNAME:Europe/Paris CEST
END:DAYLIGHT
BEGIN:DAYLIGHT
DTSTART:20220327T030000
RDATE:20221030T020000
TZOFFSETFROM:+0100
TZOFFSETTO:+0200
TZNAME:Europe/Paris CEST
END:DAYLIGHT
BEGIN:DAYLIGHT
DTSTART:20230326T030000
RDATE:20231029T020000
TZOFFSETFROM:+0100
TZOFFSETTO:+0200
TZNAME:Europe/Paris CEST
END:DAYLIGHT
BEGIN:DAYLIGHT
DTSTART:20240331T030000
RDATE:20241027T020000
TZOFFSETFROM:+0100
TZOFFSETTO:+0200
TZNAME:Europe/Paris CEST
END:DAYLIGHT
BEGIN:DAYLIGHT
DTSTART:20250330T030000
RDATE:20251026T020000
TZOFFSETFROM:+0100
TZOFFSETTO:+0200
TZNAME:Europe/Paris CEST
END:DAYLIGHT
BEGIN:DAYLIGHT
DTSTART:20260329T030000
RDATE:20261025T020000
TZOFFSETFROM:+0100
TZOFFSETTO:+0200
TZNAME:Europe/Paris CEST
END:DAYLIGHT
END:VTIMEZONE
BEGIN:VEVENT
UID:b414da23050c5f41f58cf6f98e868ebc
CATEGORIES:Circuit Massif Masters (alpin)
CREATED:20171121T093310
SUMMARY:CMM  Esprit Racing Coupe du Grand Valtin
URL;VALUE=URI:https://skivosges.net/agenda/detailevenement/1005/-/cmm-esprit-racing-coupe
 -du-grand-valtin?tmpl=component
DESCRIPTION:<!-- #gskiepreuve code généré par le plugin jevents pour GskiEpreuves. Ne p
 as modifier cette ligne, ni tout le contenu suivant  #gskiepreuve --><div c
 lass="gski-evenement_infos"><div class="gski-evenement-nom">CMM  Esprit Rac
 ing Coupe du Grand Valtin</div><div class="gski-evenement-report"></div><ul
  class="gski-evenement-liste-infos"><li>Codex évenement AMVT0270</li><li>Li
 eu : Haut du stade</li><li>Station : GERARDMER</li><li>Piste : Le Stade</li
 ><li>Organisateur : 14409 A.S DU VALTIN</li><li>Courriel : <!-- Cette adres
 se électronique est protégée contre les robots spammeurs. --><span class="c
 loaked_email ep_d0c8137b"><span data-ep-b="&#102;&#114;" data-ep-a="as&#103
 ;s&#107;"><span data-ep-b="ad&#111;&#111;&#46;" data-ep-a="&#105;&#46;g&#10
 1;&#114;"><span data-ep-b="&#114;&#64;w&#97;&#110;" data-ep-a="&#97;r&#100;
 &#109;&#101;"></span></span></span></span><script>RegularLabs.EmailProtecto
 r.unCloak("ep_d0c8137b");</script></li><li>Téléphone : 03 29 60 98 04</li><
 li><span class="gski-evenement-obs">Délégué Technique : BANZET RICHARD</spa
 n></li></ul><div class="gski-evenement-infos-2"><div class="gski-evenement-
 info-inscriptions"><div class="gski-evenement-inscriptions-periodes">Périod
 e d'inscription à l'evènement du samedi 17 mars 2018 à 00:00 au vendredi 23
  mars 2018 à 15:00 <span class="gski-evenement-inscriptions-impossibles">(I
 nscriptions impossibles).</span><div class="gski-evenement-inscriptions-typ
 es-titres">Inscriptions ouvertes aux detenteurs des titres Fédéraux valides
  suivants : Licenciés Compétiteurs</div></div></div><div class="gski-evenem
 ent-info-live">L'épreuve sera chronometrée avec les résultats publiés en di
 rect (live)</div><div class="gski-evenement-epreuves"><div class="gski-even
 ement-epreuves-titres">Epreuves :</div><ul class="gski-evenement-epreuves-l
 ist"><li><div class="gski-epreuve-date">Le samedi 24 mars 2018 à 11:30</div
 ><ul class="gski-epreuve-liste-infos"><li>Codex épreuve AMVM0271</li><li>Sl
 alom</li><li>Catégorie(s) : Tous les Masters+U30 Hommes (Hommes)</li></ul><
 /li><li><div class="gski-epreuve-date">Le samedi 24 mars 2018 à 11:30</div>
 <ul class="gski-epreuve-liste-infos"><li>Codex épreuve AMVF0271</li><li>Sla
 lom</li><li>Catégorie(s) : Tous les Masters+U30 Dames (Dames)</li></ul></li
 ><li><div class="gski-epreuve-date">Le samedi 24 mars 2018</div><ul class="
 gski-epreuve-liste-infos"><li>Codex épreuve AMVM0272</li><li>Slalom</li><li
 >Catégorie(s) : Tous les Masters+U30 Hommes (Hommes)</li></ul></li><li><div
  class="gski-epreuve-date">Le samedi 24 mars 2018</div><ul class="gski-epre
 uve-liste-infos"><li>Codex épreuve AMVF0272</li><li>Slalom</li><li>Catégori
 e(s) : Tous les Masters+U30 Dames (Dames)</li></ul></li></ul></div><div cla
 ss="gskiepreuves-links"><ul><li><a href="/index.php?option=com_jevents&task
 =icalevent.detail&evid=1000&Itemid=1703">Voir les informations dans l'agend
 a...</a></li><li><a href="/index.php?option=com_gskiepreuves&view=affichere
 sultats&format_option=tous&filter[search]=AMVT0270&filter[date_debut]=24-03
 -2018&filter[date_fin]=24-03-2018&code_activite=ALP&Itemid=1703">Vers les r
 ésultats...</a></li></ul></div></div"><!-- #/gskiepreuve fin du dode généré
  par le plugin jevents pour GskiEpreuves. . Ne pas modifier cette ligne, ni
  tout le contenu précedant.  #/gskiepreuve --> <a href="https://skivosges.n
 et/agenda/detailevenement/1005/-/cmm-esprit-racing-coupe-du-grand-valtin?tm
 pl=component">Cet évènement a été importé depuis :https://skivosges.net/age
 nda/detailevenement/1005/-/cmm-esprit-racing-coupe-du-grand-valtin?tmpl=com
 ponent</a>
X-ALT-DESC;FMTTYPE=text/html:<!-- #gskiepreuve code généré par le plugin jevents pour GskiEpreuves. Ne p
 as modifier cette ligne, ni tout le contenu suivant  #gskiepreuve --><div c
 lass="gski-evenement_infos"><div class="gski-evenement-nom">CMM  Esprit Rac
 ing Coupe du Grand Valtin</div><div class="gski-evenement-report"></div><ul
  class="gski-evenement-liste-infos"><li>Codex évenement AMVT0270</li><li>Li
 eu : Haut du stade</li><li>Station : GERARDMER</li><li>Piste : Le Stade</li
 ><li>Organisateur : 14409 A.S DU VALTIN</li><li>Courriel : <!-- Cette adres
 se électronique est protégée contre les robots spammeurs. --><span class="c
 loaked_email ep_d0c8137b"><span data-ep-b="&#102;&#114;" data-ep-a="as&#103
 ;s&#107;"><span data-ep-b="ad&#111;&#111;&#46;" data-ep-a="&#105;&#46;g&#10
 1;&#114;"><span data-ep-b="&#114;&#64;w&#97;&#110;" data-ep-a="&#97;r&#100;
 &#109;&#101;"></span></span></span></span><script>RegularLabs.EmailProtecto
 r.unCloak("ep_d0c8137b");</script></li><li>Téléphone : 03 29 60 98 04</li><
 li><span class="gski-evenement-obs">Délégué Technique : BANZET RICHARD</spa
 n></li></ul><div class="gski-evenement-infos-2"><div class="gski-evenement-
 info-inscriptions"><div class="gski-evenement-inscriptions-periodes">Périod
 e d'inscription à l'evènement du samedi 17 mars 2018 à 00:00 au vendredi 23
  mars 2018 à 15:00 <span class="gski-evenement-inscriptions-impossibles">(I
 nscriptions impossibles).</span><div class="gski-evenement-inscriptions-typ
 es-titres">Inscriptions ouvertes aux detenteurs des titres Fédéraux valides
  suivants : Licenciés Compétiteurs</div></div></div><div class="gski-evenem
 ent-info-live">L'épreuve sera chronometrée avec les résultats publiés en di
 rect (live)</div><div class="gski-evenement-epreuves"><div class="gski-even
 ement-epreuves-titres">Epreuves :</div><ul class="gski-evenement-epreuves-l
 ist"><li><div class="gski-epreuve-date">Le samedi 24 mars 2018 à 11:30</div
 ><ul class="gski-epreuve-liste-infos"><li>Codex épreuve AMVM0271</li><li>Sl
 alom</li><li>Catégorie(s) : Tous les Masters+U30 Hommes (Hommes)</li></ul><
 /li><li><div class="gski-epreuve-date">Le samedi 24 mars 2018 à 11:30</div>
 <ul class="gski-epreuve-liste-infos"><li>Codex épreuve AMVF0271</li><li>Sla
 lom</li><li>Catégorie(s) : Tous les Masters+U30 Dames (Dames)</li></ul></li
 ><li><div class="gski-epreuve-date">Le samedi 24 mars 2018</div><ul class="
 gski-epreuve-liste-infos"><li>Codex épreuve AMVM0272</li><li>Slalom</li><li
 >Catégorie(s) : Tous les Masters+U30 Hommes (Hommes)</li></ul></li><li><div
  class="gski-epreuve-date">Le samedi 24 mars 2018</div><ul class="gski-epre
 uve-liste-infos"><li>Codex épreuve AMVF0272</li><li>Slalom</li><li>Catégori
 e(s) : Tous les Masters+U30 Dames (Dames)</li></ul></li></ul></div><div cla
 ss="gskiepreuves-links"><ul><li><a href="https://skivosges.net/index.php?op
 tion=com_jevents&task=icalevent.detail&evid=1000&Itemid=1703">Voir les info
 rmations dans l'agenda...</a></li><li><a href="https://skivosges.net/index.
 php?option=com_gskiepreuves&view=afficheresultats&format_option=tous&filter
 [search]=AMVT0270&filter[date_debut]=24-03-2018&filter[date_fin]=24-03-2018
 &code_activite=ALP&Itemid=1703">Vers les résultats...</a></li></ul></div></
 div"><!-- #/gskiepreuve fin du dode généré par le plugin jevents pour GskiE
 preuves. . Ne pas modifier cette ligne, ni tout le contenu précedant.  #/gs
 kiepreuve --> <a href="https://skivosges.net/agenda/detailevenement/1005/-/
 cmm-esprit-racing-coupe-du-grand-valtin?tmpl=component">Cet évènement a été
  importé depuis :https://skivosges.net/agenda/detailevenement/1005/-/cmm-es
 prit-racing-coupe-du-grand-valtin?tmpl=component</a>DTSTAMP:20260421T015559
DTSTART;TZID=Europe/Paris;VALUE=DATE:20180324
DTEND;TZID=Europe/Paris;VALUE=DATE:20180325
SEQUENCE:0
TRANSP:OPAQUE
END:VEVENT
END:VCALENDAR