BEGIN:VCALENDAR
VERSION:2.0
PRODID:-//jEvents 2.0 for Joomla//EN
CALSCALE:GREGORIAN
METHOD:PUBLISH
BEGIN:VTIMEZONE
TZID:Europe/Paris
BEGIN:STANDARD
DTSTART:20170324T000000
RDATE:20170326T030000
TZOFFSETFROM:+0200
TZOFFSETTO:+0100
TZNAME:Europe/Paris CET
END:STANDARD
BEGIN:STANDARD
DTSTART:20171029T020000
RDATE:20180325T030000
TZOFFSETFROM:+0200
TZOFFSETTO:+0100
TZNAME:Europe/Paris CET
END:STANDARD
BEGIN:STANDARD
DTSTART:20181028T020000
RDATE:20190331T030000
TZOFFSETFROM:+0200
TZOFFSETTO:+0100
TZNAME:Europe/Paris CET
END:STANDARD
BEGIN:STANDARD
DTSTART:20191027T020000
RDATE:20200329T030000
TZOFFSETFROM:+0200
TZOFFSETTO:+0100
TZNAME:Europe/Paris CET
END:STANDARD
BEGIN:STANDARD
DTSTART:20201025T020000
RDATE:20210328T030000
TZOFFSETFROM:+0200
TZOFFSETTO:+0100
TZNAME:Europe/Paris CET
END:STANDARD
BEGIN:STANDARD
DTSTART:20211031T020000
RDATE:20220327T030000
TZOFFSETFROM:+0200
TZOFFSETTO:+0100
TZNAME:Europe/Paris CET
END:STANDARD
BEGIN:STANDARD
DTSTART:20221030T020000
RDATE:20230326T030000
TZOFFSETFROM:+0200
TZOFFSETTO:+0100
TZNAME:Europe/Paris CET
END:STANDARD
BEGIN:STANDARD
DTSTART:20231029T020000
RDATE:20240331T030000
TZOFFSETFROM:+0200
TZOFFSETTO:+0100
TZNAME:Europe/Paris CET
END:STANDARD
BEGIN:STANDARD
DTSTART:20241027T020000
RDATE:20250330T030000
TZOFFSETFROM:+0200
TZOFFSETTO:+0100
TZNAME:Europe/Paris CET
END:STANDARD
BEGIN:STANDARD
DTSTART:20251026T020000
RDATE:20260329T030000
TZOFFSETFROM:+0200
TZOFFSETTO:+0100
TZNAME:Europe/Paris CET
END:STANDARD
BEGIN:STANDARD
DTSTART:20261025T020000
RDATE:20270328T030000
TZOFFSETFROM:+0200
TZOFFSETTO:+0100
TZNAME:Europe/Paris CET
END:STANDARD
BEGIN:DAYLIGHT
DTSTART:20170326T030000
RDATE:20171029T020000
TZOFFSETFROM:+0100
TZOFFSETTO:+0200
TZNAME:Europe/Paris CEST
END:DAYLIGHT
BEGIN:DAYLIGHT
DTSTART:20180325T030000
RDATE:20181028T020000
TZOFFSETFROM:+0100
TZOFFSETTO:+0200
TZNAME:Europe/Paris CEST
END:DAYLIGHT
BEGIN:DAYLIGHT
DTSTART:20190331T030000
RDATE:20191027T020000
TZOFFSETFROM:+0100
TZOFFSETTO:+0200
TZNAME:Europe/Paris CEST
END:DAYLIGHT
BEGIN:DAYLIGHT
DTSTART:20200329T030000
RDATE:20201025T020000
TZOFFSETFROM:+0100
TZOFFSETTO:+0200
TZNAME:Europe/Paris CEST
END:DAYLIGHT
BEGIN:DAYLIGHT
DTSTART:20210328T030000
RDATE:20211031T020000
TZOFFSETFROM:+0100
TZOFFSETTO:+0200
TZNAME:Europe/Paris CEST
END:DAYLIGHT
BEGIN:DAYLIGHT
DTSTART:20220327T030000
RDATE:20221030T020000
TZOFFSETFROM:+0100
TZOFFSETTO:+0200
TZNAME:Europe/Paris CEST
END:DAYLIGHT
BEGIN:DAYLIGHT
DTSTART:20230326T030000
RDATE:20231029T020000
TZOFFSETFROM:+0100
TZOFFSETTO:+0200
TZNAME:Europe/Paris CEST
END:DAYLIGHT
BEGIN:DAYLIGHT
DTSTART:20240331T030000
RDATE:20241027T020000
TZOFFSETFROM:+0100
TZOFFSETTO:+0200
TZNAME:Europe/Paris CEST
END:DAYLIGHT
BEGIN:DAYLIGHT
DTSTART:20250330T030000
RDATE:20251026T020000
TZOFFSETFROM:+0100
TZOFFSETTO:+0200
TZNAME:Europe/Paris CEST
END:DAYLIGHT
BEGIN:DAYLIGHT
DTSTART:20260329T030000
RDATE:20261025T020000
TZOFFSETFROM:+0100
TZOFFSETTO:+0200
TZNAME:Europe/Paris CEST
END:DAYLIGHT
END:VTIMEZONE
BEGIN:VEVENT
UID:0a9ad23a1dc35fac704fff458fe71661
CATEGORIES:Circuit Alsace Jeunes (alpin)
CREATED:20171121T093310
SUMMARY:CJA Micro-Coupe  Championnat d'Alsace
URL;VALUE=URI:https://skivosges.net/agenda/detailevenement/1012/-/cja-micro-coupe-champio
 nnat-dalsace?tmpl=component
DESCRIPTION:CJA Micro-Coupe  Championnat d'Alsace\n - Codex évenement AMVT0850\n - Stat
 ion : SCHNEPFENRIED\n - Organisateur : 14003 SKI CLUB BARR\n - Courriel : R
 egularLabs.EmailProtector.unCloak("ep_c54e0376");\n - Téléphone : 067200779
 8\n - Délégué Technique : BRIGNON HERVEPériode d'inscription à l'evènement 
 du dimanche 18 mars 2018 à 00:00 au vendredi 23 mars 2018 à 18:00 (Inscript
 ions impossibles).Inscriptions ouvertes aux detenteurs des titres Fédéraux 
 valides suivants : Licenciés CompétiteursEpreuves :\n - Le dimanche 25 mars
  2018\n - Codex épreuve AMVM0851\n - Slalom Geant\n - Catégorie(s) : U8/U10
  (Garçons)\n - Le dimanche 25 mars 2018\n - Codex épreuve AMVF0851\n - Slal
 om Geant\n - Catégorie(s) : U8/U10 (Filles)\n - Voir les informations dans 
 l'agenda... (/index.php?option=com_jevents&amp;task=icalevent.detail&amp;ev
 id=1007&amp;Itemid=1703)\n - Vers les résultats... (/index.php?option=com_g
 skiepreuves&amp;view=afficheresultats&amp;format_option=tous&amp;filter[sea
 rch]=AMVT0850&amp;filter[date_debut]=25-03-2018&amp;filter[date_fin]=25-03-
 2018&amp;code_activite=ALP&amp;Itemid=1703)\n - Publications concernant cet
  évènement :\n - Dimanche 25 Mars 2018 à 17:05 : Le 25/03/2018 SCHNEPFENRIE
 D Résultats\n - Vendredi 23 Mars 2018 à 20:15 : Le 25/03/2018 SCHNEPFENRIED
  Liste de départs Cet évènement a été importé depuis :https://skivosges.net
 /agenda/detailevenement/1012/-/cja-micro-coupe-championnat-dalsace?tmpl=com
 ponent
X-ALT-DESC;FMTTYPE=text/html:<!-- #gskiepreuve code généré par le plugin jevents pour GskiEpreuves. Ne p
 as modifier cette ligne, ni tout le contenu suivant  #gskiepreuve --><div c
 lass="gski-evenement_infos"><div class="gski-evenement-nom">CJA Micro-Coupe
   Championnat d'Alsace</div><div class="gski-evenement-report"></div><ul cl
 ass="gski-evenement-liste-infos"><li>Codex évenement AMVT0850</li><li>Stati
 on : SCHNEPFENRIED</li><li>Organisateur : 14003 SKI CLUB BARR</li><li>Courr
 iel : <!-- Cette adresse électronique est protégée contre les robots spamme
 urs. --><span class="cloaked_email ep_c54e0376"><span data-ep-a="w&#105;e&#
 115;." data-ep-b=""><span data-ep-a="c&#104;&#114;is" data-ep-b="l.&#99;om"
 ><span data-ep-a="t&#111;p&#104;&#101;" data-ep-b="&#64;&#103;ma&#105;"></s
 pan></span></span></span><script>RegularLabs.EmailProtector.unCloak("ep_c54
 e0376");</script></li><li>Téléphone : 0672007798</li><li><span class="gski-
 evenement-obs">Délégué Technique : BRIGNON HERVE</span></li></ul><div class
 ="gski-evenement-infos-2"><div class="gski-evenement-info-inscriptions"><di
 v class="gski-evenement-inscriptions-periodes">Période d'inscription à l'ev
 ènement du dimanche 18 mars 2018 à 00:00 au vendredi 23 mars 2018 à 18:00 <
 span class="gski-evenement-inscriptions-impossibles">(Inscriptions impossib
 les).</span><div class="gski-evenement-inscriptions-types-titres">Inscripti
 ons ouvertes aux detenteurs des titres Fédéraux valides suivants : Licencié
 s Compétiteurs</div></div></div><div class="gski-evenement-epreuves"><div c
 lass="gski-evenement-epreuves-titres">Epreuves :</div><ul class="gski-evene
 ment-epreuves-list"><li><div class="gski-epreuve-date">Le dimanche 25 mars 
 2018</div><ul class="gski-epreuve-liste-infos"><li>Codex épreuve AMVM0851</
 li><li>Slalom Geant</li><li>Catégorie(s) : U8/U10 (Garçons)</li></ul></li><
 li><div class="gski-epreuve-date">Le dimanche 25 mars 2018</div><ul class="
 gski-epreuve-liste-infos"><li>Codex épreuve AMVF0851</li><li>Slalom Geant</
 li><li>Catégorie(s) : U8/U10 (Filles)</li></ul></li></ul></div><div class="
 gskiepreuves-links"><ul><li><a href="https://skivosges.net/index.php?option
 =com_jevents&task=icalevent.detail&evid=1007&Itemid=1703">Voir les informat
 ions dans l'agenda...</a></li><li><a href="https://skivosges.net/index.php?
 option=com_gskiepreuves&view=afficheresultats&format_option=tous&filter[sea
 rch]=AMVT0850&filter[date_debut]=25-03-2018&filter[date_fin]=25-03-2018&cod
 e_activite=ALP&Itemid=1703">Vers les résultats...</a></li><li>Publications 
 concernant cet évènement :<ul><li><a href="https://skivosges.net/index.php?
 option=com_content&view=article&id=6309&Itemid=1703">Dimanche 25 Mars 2018 
 à 17:05 : Le 25/03/2018 SCHNEPFENRIED Résultats</a></li><li><a href="https:
 //skivosges.net/index.php?option=com_content&view=article&id=6297&Itemid=17
 03">Vendredi 23 Mars 2018 à 20:15 : Le 25/03/2018 SCHNEPFENRIED Liste de dé
 parts</a></li></ul></li></ul></div></div"><!-- #/gskiepreuve fin du dode gé
 néré par le plugin jevents pour GskiEpreuves. . Ne pas modifier cette ligne
 , ni tout le contenu précedant.  #/gskiepreuve --> <a href="https://skivosg
 es.net/agenda/detailevenement/1012/-/cja-micro-coupe-championnat-dalsace?tm
 pl=component">Cet évènement a été importé depuis :https://skivosges.net/age
 nda/detailevenement/1012/-/cja-micro-coupe-championnat-dalsace?tmpl=compone
 nt</a>DTSTAMP:20260421T014531
DTSTART;TZID=Europe/Paris;VALUE=DATE:20180325
DTEND;TZID=Europe/Paris;VALUE=DATE:20180326
SEQUENCE:0
TRANSP:OPAQUE
END:VEVENT
END:VCALENDAR