BEGIN:VCALENDAR
VERSION:2.0
PRODID:-//jEvents 2.0 for Joomla//EN
CALSCALE:GREGORIAN
METHOD:PUBLISH
BEGIN:VTIMEZONE
TZID:Europe/Paris
BEGIN:STANDARD
DTSTART:20171029T020000
RDATE:20180325T030000
TZOFFSETFROM:+0200
TZOFFSETTO:+0100
TZNAME:Europe/Paris CET
END:STANDARD
BEGIN:STANDARD
DTSTART:20181028T020000
RDATE:20190331T030000
TZOFFSETFROM:+0200
TZOFFSETTO:+0100
TZNAME:Europe/Paris CET
END:STANDARD
BEGIN:STANDARD
DTSTART:20191027T020000
RDATE:20200329T030000
TZOFFSETFROM:+0200
TZOFFSETTO:+0100
TZNAME:Europe/Paris CET
END:STANDARD
BEGIN:STANDARD
DTSTART:20201025T020000
RDATE:20210328T030000
TZOFFSETFROM:+0200
TZOFFSETTO:+0100
TZNAME:Europe/Paris CET
END:STANDARD
BEGIN:STANDARD
DTSTART:20211031T020000
RDATE:20220327T030000
TZOFFSETFROM:+0200
TZOFFSETTO:+0100
TZNAME:Europe/Paris CET
END:STANDARD
BEGIN:STANDARD
DTSTART:20221030T020000
RDATE:20230326T030000
TZOFFSETFROM:+0200
TZOFFSETTO:+0100
TZNAME:Europe/Paris CET
END:STANDARD
BEGIN:STANDARD
DTSTART:20231029T020000
RDATE:20240331T030000
TZOFFSETFROM:+0200
TZOFFSETTO:+0100
TZNAME:Europe/Paris CET
END:STANDARD
BEGIN:STANDARD
DTSTART:20241027T020000
RDATE:20250330T030000
TZOFFSETFROM:+0200
TZOFFSETTO:+0100
TZNAME:Europe/Paris CET
END:STANDARD
BEGIN:STANDARD
DTSTART:20251026T020000
RDATE:20260329T030000
TZOFFSETFROM:+0200
TZOFFSETTO:+0100
TZNAME:Europe/Paris CET
END:STANDARD
BEGIN:STANDARD
DTSTART:20261025T020000
RDATE:20270328T030000
TZOFFSETFROM:+0200
TZOFFSETTO:+0100
TZNAME:Europe/Paris CET
END:STANDARD
BEGIN:DAYLIGHT
DTSTART:20170401T000000
RDATE:20171029T020000
TZOFFSETFROM:+0100
TZOFFSETTO:+0200
TZNAME:Europe/Paris CEST
END:DAYLIGHT
BEGIN:DAYLIGHT
DTSTART:20180325T030000
RDATE:20181028T020000
TZOFFSETFROM:+0100
TZOFFSETTO:+0200
TZNAME:Europe/Paris CEST
END:DAYLIGHT
BEGIN:DAYLIGHT
DTSTART:20190331T030000
RDATE:20191027T020000
TZOFFSETFROM:+0100
TZOFFSETTO:+0200
TZNAME:Europe/Paris CEST
END:DAYLIGHT
BEGIN:DAYLIGHT
DTSTART:20200329T030000
RDATE:20201025T020000
TZOFFSETFROM:+0100
TZOFFSETTO:+0200
TZNAME:Europe/Paris CEST
END:DAYLIGHT
BEGIN:DAYLIGHT
DTSTART:20210328T030000
RDATE:20211031T020000
TZOFFSETFROM:+0100
TZOFFSETTO:+0200
TZNAME:Europe/Paris CEST
END:DAYLIGHT
BEGIN:DAYLIGHT
DTSTART:20220327T030000
RDATE:20221030T020000
TZOFFSETFROM:+0100
TZOFFSETTO:+0200
TZNAME:Europe/Paris CEST
END:DAYLIGHT
BEGIN:DAYLIGHT
DTSTART:20230326T030000
RDATE:20231029T020000
TZOFFSETFROM:+0100
TZOFFSETTO:+0200
TZNAME:Europe/Paris CEST
END:DAYLIGHT
BEGIN:DAYLIGHT
DTSTART:20240331T030000
RDATE:20241027T020000
TZOFFSETFROM:+0100
TZOFFSETTO:+0200
TZNAME:Europe/Paris CEST
END:DAYLIGHT
BEGIN:DAYLIGHT
DTSTART:20250330T030000
RDATE:20251026T020000
TZOFFSETFROM:+0100
TZOFFSETTO:+0200
TZNAME:Europe/Paris CEST
END:DAYLIGHT
BEGIN:DAYLIGHT
DTSTART:20260329T030000
RDATE:20261025T020000
TZOFFSETFROM:+0100
TZOFFSETTO:+0200
TZNAME:Europe/Paris CEST
END:DAYLIGHT
END:VTIMEZONE
BEGIN:VEVENT
UID:a885ef7cc909f805d15bc290326601ec
CATEGORIES:Opens et Promos (alpin)
CREATED:20171121T093310
SUMMARY:OPEN MELLAU 32 ème Journée Française
URL;VALUE=URI:https://skivosges.net/agenda/detailevenement/1020/-/open-mellau-32-eme-jour
 nee-francaise?tmpl=component
DESCRIPTION:<!-- #gskiepreuve code généré par le plugin jevents pour GskiEpreuves. Ne p
 as modifier cette ligne, ni tout le contenu suivant  #gskiepreuve --><div c
 lass="gski-evenement_infos"><div class="gski-evenement-nom">OPEN MELLAU 32 
 ème Journée Française</div><div class="gski-evenement-report"></div><ul cla
 ss="gski-evenement-liste-infos"><li>Codex évenement AMVT0940</li><li>Lieu :
  Mellau (AUT)</li><li>Station : BERGBAHN MELLAU</li><li>Piste : ROSSTELLE</
 li><li>Organisateur : 14434 ALSACE SKI PLUS COLMAR</li><li>Courriel : <!-- 
 Cette adresse électronique est protégée contre les robots spammeurs. --><sp
 an class="cloaked_email ep_e420c19b"><span data-ep-a="v&#116;&#110;" data-e
 p-b=""><span data-ep-b="fr" data-ep-a="&#64;w&#97;"><span data-ep-b="&#111;
 o." data-ep-a="&#110;&#97;d"></span></span></span></span><script>RegularLab
 s.EmailProtector.unCloak("ep_e420c19b");</script></li><li>Téléphone : 03 89
  27 22 34</li><li><span class="gski-evenement-obs">Délégué Technique : VONT
 HRON JEAN MARIE</span></li></ul><div class="gski-evenement-infos-2"><div cl
 ass="gski-evenement-info-inscriptions"><div class="gski-evenement-inscripti
 ons-periodes">Période d'inscription à l'evènement du dimanche 04 mars 2018 
 à 00:00 au dimanche 25 mars 2018 à 12:00 <span class="gski-evenement-inscri
 ptions-impossibles">(Inscriptions impossibles).</span><div class="gski-even
 ement-inscriptions-types-titres">Inscriptions ouvertes aux detenteurs des t
 itres Fédéraux valides suivants : Licenciés Compétiteurs</div></div></div><
 div class="gski-evenement-epreuves"><div class="gski-evenement-epreuves-tit
 res">Epreuves :</div><ul class="gski-evenement-epreuves-list"><li><div clas
 s="gski-epreuve-date">Le lundi 02 avril 2018 à 09:00</div><ul class="gski-e
 preuve-liste-infos"><li>Codex épreuve AMVM0941</li><li>Slalom</li><li>Catég
 orie(s) : U14 (Garçons)</li></ul></li><li><div class="gski-epreuve-date">Le
  lundi 02 avril 2018 à 09:00</div><ul class="gski-epreuve-liste-infos"><li>
 Codex épreuve AMVF0941</li><li>Slalom</li><li>Catégorie(s) : U14 (Filles)</
 li></ul></li><li><div class="gski-epreuve-date">Le lundi 02 avril 2018 à 09
 :00</div><ul class="gski-epreuve-liste-infos"><li>Codex épreuve AMVM0942</l
 i><li>Slalom</li><li>Catégorie(s) : U16 (Garçons)</li></ul></li><li><div cl
 ass="gski-epreuve-date">Le lundi 02 avril 2018 à 09:00</div><ul class="gski
 -epreuve-liste-infos"><li>Codex épreuve AMVF0942</li><li>Slalom</li><li>Cat
 égorie(s) : U16 (Filles)</li></ul></li><li><div class="gski-epreuve-date">L
 e lundi 02 avril 2018 à 09:00</div><ul class="gski-epreuve-liste-infos"><li
 >Codex épreuve AMVM0943</li><li>Slalom</li><li>Catégorie(s) : U18 a Masters
  (Hommes)</li></ul></li><li><div class="gski-epreuve-date">Le lundi 02 avri
 l 2018 à 09:00</div><ul class="gski-epreuve-liste-infos"><li>Codex épreuve 
 AMVF0943</li><li>Slalom</li><li>Catégorie(s) : U18 a Masters (Dames)</li></
 ul></li></ul></div><div class="gskiepreuves-links"><ul><li><a href="/index.
 php?option=com_jevents&task=icalevent.detail&evid=1015&Itemid=1703">Voir le
 s informations dans l'agenda...</a></li></ul></div></div"><!-- #/gskiepreuv
 e fin du dode généré par le plugin jevents pour GskiEpreuves. . Ne pas modi
 fier cette ligne, ni tout le contenu précedant.  #/gskiepreuve --> <a href=
 "https://skivosges.net/agenda/detailevenement/1020/-/open-mellau-32-eme-jou
 rnee-francaise?tmpl=component">Cet évènement a été importé depuis :https://
 skivosges.net/agenda/detailevenement/1020/-/open-mellau-32-eme-journee-fran
 caise?tmpl=component</a>
X-ALT-DESC;FMTTYPE=text/html:<!-- #gskiepreuve code généré par le plugin jevents pour GskiEpreuves. Ne p
 as modifier cette ligne, ni tout le contenu suivant  #gskiepreuve --><div c
 lass="gski-evenement_infos"><div class="gski-evenement-nom">OPEN MELLAU 32 
 ème Journée Française</div><div class="gski-evenement-report"></div><ul cla
 ss="gski-evenement-liste-infos"><li>Codex évenement AMVT0940</li><li>Lieu :
  Mellau (AUT)</li><li>Station : BERGBAHN MELLAU</li><li>Piste : ROSSTELLE</
 li><li>Organisateur : 14434 ALSACE SKI PLUS COLMAR</li><li>Courriel : <!-- 
 Cette adresse électronique est protégée contre les robots spammeurs. --><sp
 an class="cloaked_email ep_e420c19b"><span data-ep-a="v&#116;&#110;" data-e
 p-b=""><span data-ep-b="fr" data-ep-a="&#64;w&#97;"><span data-ep-b="&#111;
 o." data-ep-a="&#110;&#97;d"></span></span></span></span><script>RegularLab
 s.EmailProtector.unCloak("ep_e420c19b");</script></li><li>Téléphone : 03 89
  27 22 34</li><li><span class="gski-evenement-obs">Délégué Technique : VONT
 HRON JEAN MARIE</span></li></ul><div class="gski-evenement-infos-2"><div cl
 ass="gski-evenement-info-inscriptions"><div class="gski-evenement-inscripti
 ons-periodes">Période d'inscription à l'evènement du dimanche 04 mars 2018 
 à 00:00 au dimanche 25 mars 2018 à 12:00 <span class="gski-evenement-inscri
 ptions-impossibles">(Inscriptions impossibles).</span><div class="gski-even
 ement-inscriptions-types-titres">Inscriptions ouvertes aux detenteurs des t
 itres Fédéraux valides suivants : Licenciés Compétiteurs</div></div></div><
 div class="gski-evenement-epreuves"><div class="gski-evenement-epreuves-tit
 res">Epreuves :</div><ul class="gski-evenement-epreuves-list"><li><div clas
 s="gski-epreuve-date">Le lundi 02 avril 2018 à 09:00</div><ul class="gski-e
 preuve-liste-infos"><li>Codex épreuve AMVM0941</li><li>Slalom</li><li>Catég
 orie(s) : U14 (Garçons)</li></ul></li><li><div class="gski-epreuve-date">Le
  lundi 02 avril 2018 à 09:00</div><ul class="gski-epreuve-liste-infos"><li>
 Codex épreuve AMVF0941</li><li>Slalom</li><li>Catégorie(s) : U14 (Filles)</
 li></ul></li><li><div class="gski-epreuve-date">Le lundi 02 avril 2018 à 09
 :00</div><ul class="gski-epreuve-liste-infos"><li>Codex épreuve AMVM0942</l
 i><li>Slalom</li><li>Catégorie(s) : U16 (Garçons)</li></ul></li><li><div cl
 ass="gski-epreuve-date">Le lundi 02 avril 2018 à 09:00</div><ul class="gski
 -epreuve-liste-infos"><li>Codex épreuve AMVF0942</li><li>Slalom</li><li>Cat
 égorie(s) : U16 (Filles)</li></ul></li><li><div class="gski-epreuve-date">L
 e lundi 02 avril 2018 à 09:00</div><ul class="gski-epreuve-liste-infos"><li
 >Codex épreuve AMVM0943</li><li>Slalom</li><li>Catégorie(s) : U18 a Masters
  (Hommes)</li></ul></li><li><div class="gski-epreuve-date">Le lundi 02 avri
 l 2018 à 09:00</div><ul class="gski-epreuve-liste-infos"><li>Codex épreuve 
 AMVF0943</li><li>Slalom</li><li>Catégorie(s) : U18 a Masters (Dames)</li></
 ul></li></ul></div><div class="gskiepreuves-links"><ul><li><a href="https:/
 /skivosges.net/index.php?option=com_jevents&task=icalevent.detail&evid=1015
 &Itemid=1703">Voir les informations dans l'agenda...</a></li></ul></div></d
 iv"><!-- #/gskiepreuve fin du dode généré par le plugin jevents pour GskiEp
 reuves. . Ne pas modifier cette ligne, ni tout le contenu précedant.  #/gsk
 iepreuve --> <a href="https://skivosges.net/agenda/detailevenement/1020/-/o
 pen-mellau-32-eme-journee-francaise?tmpl=component">Cet évènement a été imp
 orté depuis :https://skivosges.net/agenda/detailevenement/1020/-/open-mella
 u-32-eme-journee-francaise?tmpl=component</a>DTSTAMP:20260420T221559
DTSTART;TZID=Europe/Paris;VALUE=DATE:20180402
DTEND;TZID=Europe/Paris;VALUE=DATE:20180403
SEQUENCE:0
TRANSP:OPAQUE
END:VEVENT
END:VCALENDAR