BEGIN:VCALENDAR
VERSION:2.0
PRODID:-//jEvents 2.0 for Joomla//EN
CALSCALE:GREGORIAN
METHOD:PUBLISH
BEGIN:VTIMEZONE
TZID:Europe/Paris
BEGIN:STANDARD
DTSTART:20170204T000000
RDATE:20170326T030000
TZOFFSETFROM:+0200
TZOFFSETTO:+0100
TZNAME:Europe/Paris CET
END:STANDARD
BEGIN:STANDARD
DTSTART:20171029T020000
RDATE:20180325T030000
TZOFFSETFROM:+0200
TZOFFSETTO:+0100
TZNAME:Europe/Paris CET
END:STANDARD
BEGIN:STANDARD
DTSTART:20181028T020000
RDATE:20190331T030000
TZOFFSETFROM:+0200
TZOFFSETTO:+0100
TZNAME:Europe/Paris CET
END:STANDARD
BEGIN:STANDARD
DTSTART:20191027T020000
RDATE:20200329T030000
TZOFFSETFROM:+0200
TZOFFSETTO:+0100
TZNAME:Europe/Paris CET
END:STANDARD
BEGIN:STANDARD
DTSTART:20201025T020000
RDATE:20210328T030000
TZOFFSETFROM:+0200
TZOFFSETTO:+0100
TZNAME:Europe/Paris CET
END:STANDARD
BEGIN:STANDARD
DTSTART:20211031T020000
RDATE:20220327T030000
TZOFFSETFROM:+0200
TZOFFSETTO:+0100
TZNAME:Europe/Paris CET
END:STANDARD
BEGIN:STANDARD
DTSTART:20221030T020000
RDATE:20230326T030000
TZOFFSETFROM:+0200
TZOFFSETTO:+0100
TZNAME:Europe/Paris CET
END:STANDARD
BEGIN:STANDARD
DTSTART:20231029T020000
RDATE:20240331T030000
TZOFFSETFROM:+0200
TZOFFSETTO:+0100
TZNAME:Europe/Paris CET
END:STANDARD
BEGIN:STANDARD
DTSTART:20241027T020000
RDATE:20250330T030000
TZOFFSETFROM:+0200
TZOFFSETTO:+0100
TZNAME:Europe/Paris CET
END:STANDARD
BEGIN:STANDARD
DTSTART:20251026T020000
RDATE:20260329T030000
TZOFFSETFROM:+0200
TZOFFSETTO:+0100
TZNAME:Europe/Paris CET
END:STANDARD
BEGIN:STANDARD
DTSTART:20261025T020000
RDATE:20270328T030000
TZOFFSETFROM:+0200
TZOFFSETTO:+0100
TZNAME:Europe/Paris CET
END:STANDARD
BEGIN:DAYLIGHT
DTSTART:20170326T030000
RDATE:20171029T020000
TZOFFSETFROM:+0100
TZOFFSETTO:+0200
TZNAME:Europe/Paris CEST
END:DAYLIGHT
BEGIN:DAYLIGHT
DTSTART:20180325T030000
RDATE:20181028T020000
TZOFFSETFROM:+0100
TZOFFSETTO:+0200
TZNAME:Europe/Paris CEST
END:DAYLIGHT
BEGIN:DAYLIGHT
DTSTART:20190331T030000
RDATE:20191027T020000
TZOFFSETFROM:+0100
TZOFFSETTO:+0200
TZNAME:Europe/Paris CEST
END:DAYLIGHT
BEGIN:DAYLIGHT
DTSTART:20200329T030000
RDATE:20201025T020000
TZOFFSETFROM:+0100
TZOFFSETTO:+0200
TZNAME:Europe/Paris CEST
END:DAYLIGHT
BEGIN:DAYLIGHT
DTSTART:20210328T030000
RDATE:20211031T020000
TZOFFSETFROM:+0100
TZOFFSETTO:+0200
TZNAME:Europe/Paris CEST
END:DAYLIGHT
BEGIN:DAYLIGHT
DTSTART:20220327T030000
RDATE:20221030T020000
TZOFFSETFROM:+0100
TZOFFSETTO:+0200
TZNAME:Europe/Paris CEST
END:DAYLIGHT
BEGIN:DAYLIGHT
DTSTART:20230326T030000
RDATE:20231029T020000
TZOFFSETFROM:+0100
TZOFFSETTO:+0200
TZNAME:Europe/Paris CEST
END:DAYLIGHT
BEGIN:DAYLIGHT
DTSTART:20240331T030000
RDATE:20241027T020000
TZOFFSETFROM:+0100
TZOFFSETTO:+0200
TZNAME:Europe/Paris CEST
END:DAYLIGHT
BEGIN:DAYLIGHT
DTSTART:20250330T030000
RDATE:20251026T020000
TZOFFSETFROM:+0100
TZOFFSETTO:+0200
TZNAME:Europe/Paris CEST
END:DAYLIGHT
BEGIN:DAYLIGHT
DTSTART:20260329T030000
RDATE:20261025T020000
TZOFFSETFROM:+0100
TZOFFSETTO:+0200
TZNAME:Europe/Paris CEST
END:DAYLIGHT
END:VTIMEZONE
BEGIN:VEVENT
UID:00b35b524570b8209f44efc2474a5712
CATEGORIES:Compétition Ski Alpin
CREATED:20180122T113901
SUMMARY:Semaine International FIS Dames *** ANNULE(E) ***
URL;VALUE=URI:https://skivosges.net/agenda/detailevenement/1034/-/semaine-international-f
 is-dames-annule-e?tmpl=component
DESCRIPTION:Semaine International FIS Dames (Epreuve annulée)\n - Codex évenement FRA64
 82\n - Lieu : Gerardmer / Metabief\n - Organisateur : \n - Courriel : Regul
 arLabs.EmailProtector.unCloak("ep_8baccce8");\n - Téléphone : 03 29 60 98 0
 4Période d'inscription à l'evènement du lundi 29 janvier 2018 à 00:00 au sa
 medi 03 février 2018 à 12:00 (Inscriptions impossibles).Inscriptions ouvert
 es aux detenteurs des titres Fédéraux valides suivants : Licenciés Compétit
 eursEpreuves :\n - Le lundi 05 février 2018\n - Codex épreuve 6484\n - (GS)
 \n - Catégorie(s) : Toutes les Categories (Filles)\n - Le mardi 06 février 
 2018\n - Codex épreuve 6485\n - (GS)\n - Catégorie(s) : Toutes les Categori
 es (Filles)\n - Le jeudi 08 février 2018\n - Codex épreuve 6483\n - Slalom\
 n - Catégorie(s) : Toutes les Categories (Filles)\n - Le vendredi 09 févrie
 r 2018\n - Codex épreuve 6482\n - Slalom\n - Catégorie(s) : Toutes les Cate
 gories (Filles)\n - Voir les informations dans l'agenda... (/index.php?opti
 on=com_jevents&amp;task=icalevent.detail&amp;evid=1029&amp;Itemid=1703) Cet
  évènement a été importé depuis :https://skivosges.net/agenda/detaileveneme
 nt/1034/-/semaine-international-fis-dames-annule-e?tmpl=component
X-ALT-DESC;FMTTYPE=text/html:<!-- #gskiepreuve code généré par le plugin jevents pour GskiEpreuves. Ne p
 as modifier cette ligne, ni tout le contenu suivant  #gskiepreuve --><div c
 lass="gski-evenement_infos"><div class="gski-evenement-nom">Semaine Interna
 tional FIS Dames</div><div class="gski-evenement-report"> <font class="gski
 attention">(Epreuve annulée)</font></div><ul class="gski-evenement-liste-in
 fos"><li>Codex évenement FRA6482</li><li>Lieu : Gerardmer / Metabief</li><l
 i>Organisateur : </li><li>Courriel : <!-- Cette adresse électronique est pr
 otégée contre les robots spammeurs. --><span class="cloaked_email ep_8baccc
 e8"><span data-ep-a="&#103;&#101;&#114;ar" data-ep-b="&#101;&#46;&#102;&#11
 4;"><span data-ep-a="d&#109;&#101;r&#45;" data-ep-b="&#111;ra&#110;&#103;">
 <span data-ep-a="&#115;&#107;&#105;-&#97;" data-ep-b="&#108;&#112;i&#110;&#
 64;"></span></span></span></span><script>RegularLabs.EmailProtector.unCloak
 ("ep_8baccce8");</script></li><li>Téléphone : 03 29 60 98 04</li></ul><div 
 class="gski-evenement-infos-2"><div class="gski-evenement-info-inscriptions
 "><div class="gski-evenement-inscriptions-periodes">Période d'inscription à
  l'evènement du lundi 29 janvier 2018 à 00:00 au samedi 03 février 2018 à 1
 2:00 <span class="gski-evenement-inscriptions-impossibles">(Inscriptions im
 possibles).</span><div class="gski-evenement-inscriptions-types-titres">Ins
 criptions ouvertes aux detenteurs des titres Fédéraux valides suivants : Li
 cenciés Compétiteurs</div></div></div><div class="gski-evenement-epreuves">
 <div class="gski-evenement-epreuves-titres">Epreuves :</div><ul class="gski
 -evenement-epreuves-list"><li><div class="gski-epreuve-date">Le lundi 05 fé
 vrier 2018</div><ul class="gski-epreuve-liste-infos"><li>Codex épreuve 6484
 </li><li>(GS)</li><li>Catégorie(s) : Toutes les Categories (Filles)</li></u
 l></li><li><div class="gski-epreuve-date">Le mardi 06 février 2018</div><ul
  class="gski-epreuve-liste-infos"><li>Codex épreuve 6485</li><li>(GS)</li><
 li>Catégorie(s) : Toutes les Categories (Filles)</li></ul></li><li><div cla
 ss="gski-epreuve-date">Le jeudi 08 février 2018</div><ul class="gski-epreuv
 e-liste-infos"><li>Codex épreuve 6483</li><li>Slalom</li><li>Catégorie(s) :
  Toutes les Categories (Filles)</li></ul></li><li><div class="gski-epreuve-
 date">Le vendredi 09 février 2018</div><ul class="gski-epreuve-liste-infos"
 ><li>Codex épreuve 6482</li><li>Slalom</li><li>Catégorie(s) : Toutes les Ca
 tegories (Filles)</li></ul></li></ul></div><div class="gskiepreuves-links">
 <ul><li><a href="https://skivosges.net/index.php?option=com_jevents&task=ic
 alevent.detail&evid=1029&Itemid=1703">Voir les informations dans l'agenda..
 .</a></li></ul></div></div"><!-- #/gskiepreuve fin du dode généré par le pl
 ugin jevents pour GskiEpreuves. . Ne pas modifier cette ligne, ni tout le c
 ontenu précedant.  #/gskiepreuve --> <a href="https://skivosges.net/agenda/
 detailevenement/1034/-/semaine-international-fis-dames-annule-e?tmpl=compon
 ent">Cet évènement a été importé depuis :https://skivosges.net/agenda/detai
 levenement/1034/-/semaine-international-fis-dames-annule-e?tmpl=component</
 a>DTSTAMP:20260421T051117
DTSTART;TZID=Europe/Paris;VALUE=DATE:20180205
DTEND;TZID=Europe/Paris;VALUE=DATE:20180210
SEQUENCE:0
TRANSP:OPAQUE
END:VEVENT
END:VCALENDAR