BEGIN:VCALENDAR
VERSION:2.0
PRODID:-//jEvents 2.0 for Joomla//EN
CALSCALE:GREGORIAN
METHOD:PUBLISH
BEGIN:VTIMEZONE
TZID:Europe/Paris
BEGIN:STANDARD
DTSTART:20170324T000000
RDATE:20170326T030000
TZOFFSETFROM:+0200
TZOFFSETTO:+0100
TZNAME:Europe/Paris CET
END:STANDARD
BEGIN:STANDARD
DTSTART:20171029T020000
RDATE:20180325T030000
TZOFFSETFROM:+0200
TZOFFSETTO:+0100
TZNAME:Europe/Paris CET
END:STANDARD
BEGIN:STANDARD
DTSTART:20181028T020000
RDATE:20190331T030000
TZOFFSETFROM:+0200
TZOFFSETTO:+0100
TZNAME:Europe/Paris CET
END:STANDARD
BEGIN:STANDARD
DTSTART:20191027T020000
RDATE:20200329T030000
TZOFFSETFROM:+0200
TZOFFSETTO:+0100
TZNAME:Europe/Paris CET
END:STANDARD
BEGIN:STANDARD
DTSTART:20201025T020000
RDATE:20210328T030000
TZOFFSETFROM:+0200
TZOFFSETTO:+0100
TZNAME:Europe/Paris CET
END:STANDARD
BEGIN:STANDARD
DTSTART:20211031T020000
RDATE:20220327T030000
TZOFFSETFROM:+0200
TZOFFSETTO:+0100
TZNAME:Europe/Paris CET
END:STANDARD
BEGIN:STANDARD
DTSTART:20221030T020000
RDATE:20230326T030000
TZOFFSETFROM:+0200
TZOFFSETTO:+0100
TZNAME:Europe/Paris CET
END:STANDARD
BEGIN:STANDARD
DTSTART:20231029T020000
RDATE:20240331T030000
TZOFFSETFROM:+0200
TZOFFSETTO:+0100
TZNAME:Europe/Paris CET
END:STANDARD
BEGIN:STANDARD
DTSTART:20241027T020000
RDATE:20250330T030000
TZOFFSETFROM:+0200
TZOFFSETTO:+0100
TZNAME:Europe/Paris CET
END:STANDARD
BEGIN:STANDARD
DTSTART:20251026T020000
RDATE:20260329T030000
TZOFFSETFROM:+0200
TZOFFSETTO:+0100
TZNAME:Europe/Paris CET
END:STANDARD
BEGIN:STANDARD
DTSTART:20261025T020000
RDATE:20270328T030000
TZOFFSETFROM:+0200
TZOFFSETTO:+0100
TZNAME:Europe/Paris CET
END:STANDARD
BEGIN:DAYLIGHT
DTSTART:20170326T030000
RDATE:20171029T020000
TZOFFSETFROM:+0100
TZOFFSETTO:+0200
TZNAME:Europe/Paris CEST
END:DAYLIGHT
BEGIN:DAYLIGHT
DTSTART:20180325T030000
RDATE:20181028T020000
TZOFFSETFROM:+0100
TZOFFSETTO:+0200
TZNAME:Europe/Paris CEST
END:DAYLIGHT
BEGIN:DAYLIGHT
DTSTART:20190331T030000
RDATE:20191027T020000
TZOFFSETFROM:+0100
TZOFFSETTO:+0200
TZNAME:Europe/Paris CEST
END:DAYLIGHT
BEGIN:DAYLIGHT
DTSTART:20200329T030000
RDATE:20201025T020000
TZOFFSETFROM:+0100
TZOFFSETTO:+0200
TZNAME:Europe/Paris CEST
END:DAYLIGHT
BEGIN:DAYLIGHT
DTSTART:20210328T030000
RDATE:20211031T020000
TZOFFSETFROM:+0100
TZOFFSETTO:+0200
TZNAME:Europe/Paris CEST
END:DAYLIGHT
BEGIN:DAYLIGHT
DTSTART:20220327T030000
RDATE:20221030T020000
TZOFFSETFROM:+0100
TZOFFSETTO:+0200
TZNAME:Europe/Paris CEST
END:DAYLIGHT
BEGIN:DAYLIGHT
DTSTART:20230326T030000
RDATE:20231029T020000
TZOFFSETFROM:+0100
TZOFFSETTO:+0200
TZNAME:Europe/Paris CEST
END:DAYLIGHT
BEGIN:DAYLIGHT
DTSTART:20240331T030000
RDATE:20241027T020000
TZOFFSETFROM:+0100
TZOFFSETTO:+0200
TZNAME:Europe/Paris CEST
END:DAYLIGHT
BEGIN:DAYLIGHT
DTSTART:20250330T030000
RDATE:20251026T020000
TZOFFSETFROM:+0100
TZOFFSETTO:+0200
TZNAME:Europe/Paris CEST
END:DAYLIGHT
BEGIN:DAYLIGHT
DTSTART:20260329T030000
RDATE:20261025T020000
TZOFFSETFROM:+0100
TZOFFSETTO:+0200
TZNAME:Europe/Paris CEST
END:DAYLIGHT
END:VTIMEZONE
BEGIN:VEVENT
UID:78865976ccac40e1dd1fae40045b697d
CATEGORIES:Compétition Ski Alpin
CREATED:20180306T133053
SUMMARY:EPIC TETRAS CUP *** ANNULE(E) ***
URL;VALUE=URI:https://skivosges.net/agenda/detailevenement/1047/-/epic-tetras-cup-annule-
 e?tmpl=component
DESCRIPTION:EPIC TETRAS CUP (Epreuve annulée)\n - Codex évenement AMVT0620\n - Lieu : S
 tade\n - Station : GERARDMER\n - Piste : Stade de slalom\n - Organisateur :
  14089 GERARDMER SKI ALPIN\n - Courriel : RegularLabs.EmailProtector.unCloa
 k("ep_048419f5");\n - Téléphone : 03 29 60 98 04\n - Délégué Technique : TS
 CHEILLER DOMINIQUEPériode d'inscription à l'evènement du dimanche 18 mars 2
 018 à 00:00 au vendredi 23 mars 2018 à 15:00 (Inscriptions impossibles).Ins
 criptions ouvertes aux detenteurs des titres Fédéraux valides suivants : Li
 cenciés Compétiteurs, Titres Loisirs et Dirigeants et Tickets courseL'épreu
 ve sera chronometrée avec les résultats publiés en direct (live)Epreuves :\
 n - Le dimanche 25 mars 2018 à 10:00\n - Codex épreuve AMVM0621\n - Combine
  Alpin\n - Catégorie(s) : U8/U10 (Garçons)\n - Le dimanche 25 mars 2018 à 1
 0:00\n - Codex épreuve AMVF0621\n - Combine Alpin\n - Catégorie(s) : U8/U10
  (Filles)\n - Le dimanche 25 mars 2018 à 10:00\n - Codex épreuve AMVF0622\n
  - Combine Alpin\n - Catégorie(s) : U12 a U16 (Filles)\n - Le dimanche 25 m
 ars 2018 à 10:00\n - Codex épreuve AMVM0622\n - Combine Alpin\n - Catégorie
 (s) : U12 a U16 (Garçons)\n - Le dimanche 25 mars 2018 à 10:00\n - Codex ép
 reuve AMVM0623\n - Combine Alpin\n - Catégorie(s) : U18 a Masters (Hommes)\
 n - Le dimanche 25 mars 2018 à 10:00\n - Codex épreuve AMVF0623\n - Combine
  Alpin\n - Catégorie(s) : U18 a Masters (Dames)\n - Voir les informations d
 ans l'agenda... (/index.php?option=com_jevents&amp;task=icalevent.detail&am
 p;evid=1042&amp;Itemid=1703) Cet évènement a été importé depuis :https://sk
 ivosges.net/agenda/detailevenement/1047/-/epic-tetras-cup-annule-e?tmpl=com
 ponent
X-ALT-DESC;FMTTYPE=text/html:<!-- #gskiepreuve code généré par le plugin jevents pour GskiEpreuves. Ne p
 as modifier cette ligne, ni tout le contenu suivant  #gskiepreuve --><div c
 lass="gski-evenement_infos"><div class="gski-evenement-nom">EPIC TETRAS CUP
 </div><div class="gski-evenement-report"> <font class="gskiattention">(Epre
 uve annulée)</font></div><ul class="gski-evenement-liste-infos"><li>Codex é
 venement AMVT0620</li><li>Lieu : Stade</li><li>Station : GERARDMER</li><li>
 Piste : Stade de slalom</li><li>Organisateur : 14089 GERARDMER SKI ALPIN</l
 i><li>Courriel : <!-- Cette adresse électronique est protégée contre les ro
 bots spammeurs. --><span class="cloaked_email ep_048419f5"><span data-ep-a=
 "&#97;&#115;&#103;&#115;&#107;" data-ep-b="&#102;&#114;"><span data-ep-b="&
 #97;d&#111;o&#46;" data-ep-a="&#105;.&#103;e&#114;"><span data-ep-b="&#114;
 &#64;&#119;&#97;&#110;" data-ep-a="&#97;&#114;&#100;&#109;&#101;"></span></
 span></span></span><script>RegularLabs.EmailProtector.unCloak("ep_048419f5"
 );</script></li><li>Téléphone : 03 29 60 98 04</li><li><span class="gski-ev
 enement-obs">Délégué Technique : TSCHEILLER DOMINIQUE</span></li></ul><div 
 class="gski-evenement-infos-2"><div class="gski-evenement-info-inscriptions
 "><div class="gski-evenement-inscriptions-periodes">Période d'inscription à
  l'evènement du dimanche 18 mars 2018 à 00:00 au vendredi 23 mars 2018 à 15
 :00 <span class="gski-evenement-inscriptions-impossibles">(Inscriptions imp
 ossibles).</span><div class="gski-evenement-inscriptions-types-titres">Insc
 riptions ouvertes aux detenteurs des titres Fédéraux valides suivants : Lic
 enciés Compétiteurs, Titres Loisirs et Dirigeants et Tickets course</div></
 div></div><div class="gski-evenement-info-live">L'épreuve sera chronometrée
  avec les résultats publiés en direct (live)</div><div class="gski-evenemen
 t-epreuves"><div class="gski-evenement-epreuves-titres">Epreuves :</div><ul
  class="gski-evenement-epreuves-list"><li><div class="gski-epreuve-date">Le
  dimanche 25 mars 2018 à 10:00</div><ul class="gski-epreuve-liste-infos"><l
 i>Codex épreuve AMVM0621</li><li>Combine Alpin</li><li>Catégorie(s) : U8/U1
 0 (Garçons)</li></ul></li><li><div class="gski-epreuve-date">Le dimanche 25
  mars 2018 à 10:00</div><ul class="gski-epreuve-liste-infos"><li>Codex épre
 uve AMVF0621</li><li>Combine Alpin</li><li>Catégorie(s) : U8/U10 (Filles)</
 li></ul></li><li><div class="gski-epreuve-date">Le dimanche 25 mars 2018 à 
 10:00</div><ul class="gski-epreuve-liste-infos"><li>Codex épreuve AMVF0622<
 /li><li>Combine Alpin</li><li>Catégorie(s) : U12 a U16 (Filles)</li></ul></
 li><li><div class="gski-epreuve-date">Le dimanche 25 mars 2018 à 10:00</div
 ><ul class="gski-epreuve-liste-infos"><li>Codex épreuve AMVM0622</li><li>Co
 mbine Alpin</li><li>Catégorie(s) : U12 a U16 (Garçons)</li></ul></li><li><d
 iv class="gski-epreuve-date">Le dimanche 25 mars 2018 à 10:00</div><ul clas
 s="gski-epreuve-liste-infos"><li>Codex épreuve AMVM0623</li><li>Combine Alp
 in</li><li>Catégorie(s) : U18 a Masters (Hommes)</li></ul></li><li><div cla
 ss="gski-epreuve-date">Le dimanche 25 mars 2018 à 10:00</div><ul class="gsk
 i-epreuve-liste-infos"><li>Codex épreuve AMVF0623</li><li>Combine Alpin</li
 ><li>Catégorie(s) : U18 a Masters (Dames)</li></ul></li></ul></div><div cla
 ss="gskiepreuves-links"><ul><li><a href="https://skivosges.net/index.php?op
 tion=com_jevents&task=icalevent.detail&evid=1042&Itemid=1703">Voir les info
 rmations dans l'agenda...</a></li></ul></div></div"><!-- #/gskiepreuve fin 
 du dode généré par le plugin jevents pour GskiEpreuves. . Ne pas modifier c
 ette ligne, ni tout le contenu précedant.  #/gskiepreuve --> <a href="https
 ://skivosges.net/agenda/detailevenement/1047/-/epic-tetras-cup-annule-e?tmp
 l=component">Cet évènement a été importé depuis :https://skivosges.net/agen
 da/detailevenement/1047/-/epic-tetras-cup-annule-e?tmpl=component</a>DTSTAMP:20260420T221104
DTSTART;TZID=Europe/Paris;VALUE=DATE:20180325
DTEND;TZID=Europe/Paris;VALUE=DATE:20180326
SEQUENCE:0
TRANSP:OPAQUE
END:VEVENT
END:VCALENDAR