BEGIN:VCALENDAR
VERSION:2.0
PRODID:-//jEvents 2.0 for Joomla//EN
CALSCALE:GREGORIAN
METHOD:PUBLISH
BEGIN:VTIMEZONE
TZID:Europe/Paris
BEGIN:STANDARD
DTSTART:20171029T020000
RDATE:20180325T030000
TZOFFSETFROM:+0200
TZOFFSETTO:+0100
TZNAME:Europe/Paris CET
END:STANDARD
BEGIN:STANDARD
DTSTART:20181028T020000
RDATE:20190331T030000
TZOFFSETFROM:+0200
TZOFFSETTO:+0100
TZNAME:Europe/Paris CET
END:STANDARD
BEGIN:STANDARD
DTSTART:20191027T020000
RDATE:20200329T030000
TZOFFSETFROM:+0200
TZOFFSETTO:+0100
TZNAME:Europe/Paris CET
END:STANDARD
BEGIN:STANDARD
DTSTART:20201025T020000
RDATE:20210328T030000
TZOFFSETFROM:+0200
TZOFFSETTO:+0100
TZNAME:Europe/Paris CET
END:STANDARD
BEGIN:STANDARD
DTSTART:20211031T020000
RDATE:20220327T030000
TZOFFSETFROM:+0200
TZOFFSETTO:+0100
TZNAME:Europe/Paris CET
END:STANDARD
BEGIN:STANDARD
DTSTART:20221030T020000
RDATE:20230326T030000
TZOFFSETFROM:+0200
TZOFFSETTO:+0100
TZNAME:Europe/Paris CET
END:STANDARD
BEGIN:STANDARD
DTSTART:20231029T020000
RDATE:20240331T030000
TZOFFSETFROM:+0200
TZOFFSETTO:+0100
TZNAME:Europe/Paris CET
END:STANDARD
BEGIN:STANDARD
DTSTART:20241027T020000
RDATE:20250330T030000
TZOFFSETFROM:+0200
TZOFFSETTO:+0100
TZNAME:Europe/Paris CET
END:STANDARD
BEGIN:STANDARD
DTSTART:20251026T020000
RDATE:20260329T030000
TZOFFSETFROM:+0200
TZOFFSETTO:+0100
TZNAME:Europe/Paris CET
END:STANDARD
BEGIN:STANDARD
DTSTART:20261025T020000
RDATE:20270328T030000
TZOFFSETFROM:+0200
TZOFFSETTO:+0100
TZNAME:Europe/Paris CET
END:STANDARD
BEGIN:DAYLIGHT
DTSTART:20170726T000000
RDATE:20171029T020000
TZOFFSETFROM:+0100
TZOFFSETTO:+0200
TZNAME:Europe/Paris CEST
END:DAYLIGHT
BEGIN:DAYLIGHT
DTSTART:20180325T030000
RDATE:20181028T020000
TZOFFSETFROM:+0100
TZOFFSETTO:+0200
TZNAME:Europe/Paris CEST
END:DAYLIGHT
BEGIN:DAYLIGHT
DTSTART:20190331T030000
RDATE:20191027T020000
TZOFFSETFROM:+0100
TZOFFSETTO:+0200
TZNAME:Europe/Paris CEST
END:DAYLIGHT
BEGIN:DAYLIGHT
DTSTART:20200329T030000
RDATE:20201025T020000
TZOFFSETFROM:+0100
TZOFFSETTO:+0200
TZNAME:Europe/Paris CEST
END:DAYLIGHT
BEGIN:DAYLIGHT
DTSTART:20210328T030000
RDATE:20211031T020000
TZOFFSETFROM:+0100
TZOFFSETTO:+0200
TZNAME:Europe/Paris CEST
END:DAYLIGHT
BEGIN:DAYLIGHT
DTSTART:20220327T030000
RDATE:20221030T020000
TZOFFSETFROM:+0100
TZOFFSETTO:+0200
TZNAME:Europe/Paris CEST
END:DAYLIGHT
BEGIN:DAYLIGHT
DTSTART:20230326T030000
RDATE:20231029T020000
TZOFFSETFROM:+0100
TZOFFSETTO:+0200
TZNAME:Europe/Paris CEST
END:DAYLIGHT
BEGIN:DAYLIGHT
DTSTART:20240331T030000
RDATE:20241027T020000
TZOFFSETFROM:+0100
TZOFFSETTO:+0200
TZNAME:Europe/Paris CEST
END:DAYLIGHT
BEGIN:DAYLIGHT
DTSTART:20250330T030000
RDATE:20251026T020000
TZOFFSETFROM:+0100
TZOFFSETTO:+0200
TZNAME:Europe/Paris CEST
END:DAYLIGHT
BEGIN:DAYLIGHT
DTSTART:20260329T030000
RDATE:20261025T020000
TZOFFSETFROM:+0100
TZOFFSETTO:+0200
TZNAME:Europe/Paris CEST
END:DAYLIGHT
END:VTIMEZONE
BEGIN:VEVENT
UID:a5384d7f2bc014b3f0a7402ecc63c9e8
CATEGORIES:Compétition Saut
CREATED:20180810T134904
SUMMARY:7 ème Grand Prix d'été ville de la Bresse National Tour
URL;VALUE=URI:https://skivosges.net/agenda/detailevenement/1063/-/7-eme-grand-prix-dete-v
 ille-de-la-bresse-national-tour?tmpl=component
DESCRIPTION:7 ème Grand Prix d'été ville de la Bresse National Tour\n - Codex évenement
  TMVT0190\n - Station : LA BRESSE LISPACH\n - Organisateur : 14024 LA BRESS
 AUDE SECTION SKIPériode d'inscription à l'evènement du vendredi 20 juillet 
 2018 à 00:00 au mercredi 25 juillet 2018 à 12:00 (Inscriptions impossibles)
 .Inscriptions ouvertes aux detenteurs des titres Fédéraux valides suivants 
 : Licenciés CompétiteursEpreuves :\n - Le vendredi 27 juillet 2018\n - Code
 x épreuve TMVF0191\n - Saut Special\n - Catégorie(s) : U15 (Filles)\n - Le 
 vendredi 27 juillet 2018\n - Codex épreuve TMVM0191\n - Saut Special\n - Ca
 tégorie(s) : U15 (Garçons)\n - Voir les informations dans l'agenda... (/ind
 ex.php?option=com_jevents&amp;task=icalevent.detail&amp;evid=1058&amp;Itemi
 d=1703) Cet évènement a été importé depuis :https://skivosges.net/agenda/de
 tailevenement/1063/-/7-eme-grand-prix-dete-ville-de-la-bresse-national-tour
 ?tmpl=component
X-ALT-DESC;FMTTYPE=text/html:<!-- #gskiepreuve code généré par le plugin jevents pour GskiEpreuves. Ne p
 as modifier cette ligne, ni tout le contenu suivant  #gskiepreuve --><div c
 lass="gski-evenement_infos"><div class="gski-evenement-nom">7 ème Grand Pri
 x d'été ville de la Bresse National Tour</div><div class="gski-evenement-re
 port"></div><ul class="gski-evenement-liste-infos"><li>Codex évenement TMVT
 0190</li><li>Station : LA BRESSE LISPACH</li><li>Organisateur : 14024 LA BR
 ESSAUDE SECTION SKI</li></ul><div class="gski-evenement-infos-2"><div class
 ="gski-evenement-info-inscriptions"><div class="gski-evenement-inscriptions
 -periodes">Période d'inscription à l'evènement du vendredi 20 juillet 2018 
 à 00:00 au mercredi 25 juillet 2018 à 12:00 <span class="gski-evenement-ins
 criptions-impossibles">(Inscriptions impossibles).</span><div class="gski-e
 venement-inscriptions-types-titres">Inscriptions ouvertes aux detenteurs de
 s titres Fédéraux valides suivants : Licenciés Compétiteurs</div></div></di
 v><div class="gski-evenement-epreuves"><div class="gski-evenement-epreuves-
 titres">Epreuves :</div><ul class="gski-evenement-epreuves-list"><li><div c
 lass="gski-epreuve-date">Le vendredi 27 juillet 2018</div><ul class="gski-e
 preuve-liste-infos"><li>Codex épreuve TMVF0191</li><li>Saut Special</li><li
 >Catégorie(s) : U15 (Filles)</li></ul></li><li><div class="gski-epreuve-dat
 e">Le vendredi 27 juillet 2018</div><ul class="gski-epreuve-liste-infos"><l
 i>Codex épreuve TMVM0191</li><li>Saut Special</li><li>Catégorie(s) : U15 (G
 arçons)</li></ul></li></ul></div><div class="gskiepreuves-links"><ul><li><a
  href="https://skivosges.net/index.php?option=com_jevents&task=icalevent.de
 tail&evid=1058&Itemid=1703">Voir les informations dans l'agenda...</a></li>
 </ul></div></div"><!-- #/gskiepreuve fin du dode généré par le plugin jeven
 ts pour GskiEpreuves. . Ne pas modifier cette ligne, ni tout le contenu pré
 cedant.  #/gskiepreuve --> <a href="https://skivosges.net/agenda/detaileven
 ement/1063/-/7-eme-grand-prix-dete-ville-de-la-bresse-national-tour?tmpl=co
 mponent">Cet évènement a été importé depuis :https://skivosges.net/agenda/d
 etailevenement/1063/-/7-eme-grand-prix-dete-ville-de-la-bresse-national-tou
 r?tmpl=component</a>DTSTAMP:20260420T082729
DTSTART;TZID=Europe/Paris;VALUE=DATE:20180727
DTEND;TZID=Europe/Paris;VALUE=DATE:20180728
SEQUENCE:0
TRANSP:OPAQUE
END:VEVENT
END:VCALENDAR