BEGIN:VCALENDAR
VERSION:2.0
PRODID:-//jEvents 2.0 for Joomla//EN
CALSCALE:GREGORIAN
METHOD:PUBLISH
BEGIN:VTIMEZONE
TZID:Europe/Paris
BEGIN:STANDARD
DTSTART:20171029T020000
RDATE:20180325T030000
TZOFFSETFROM:+0200
TZOFFSETTO:+0100
TZNAME:Europe/Paris CET
END:STANDARD
BEGIN:STANDARD
DTSTART:20181028T020000
RDATE:20190331T030000
TZOFFSETFROM:+0200
TZOFFSETTO:+0100
TZNAME:Europe/Paris CET
END:STANDARD
BEGIN:STANDARD
DTSTART:20191027T020000
RDATE:20200329T030000
TZOFFSETFROM:+0200
TZOFFSETTO:+0100
TZNAME:Europe/Paris CET
END:STANDARD
BEGIN:STANDARD
DTSTART:20201025T020000
RDATE:20210328T030000
TZOFFSETFROM:+0200
TZOFFSETTO:+0100
TZNAME:Europe/Paris CET
END:STANDARD
BEGIN:STANDARD
DTSTART:20211031T020000
RDATE:20220327T030000
TZOFFSETFROM:+0200
TZOFFSETTO:+0100
TZNAME:Europe/Paris CET
END:STANDARD
BEGIN:STANDARD
DTSTART:20221030T020000
RDATE:20230326T030000
TZOFFSETFROM:+0200
TZOFFSETTO:+0100
TZNAME:Europe/Paris CET
END:STANDARD
BEGIN:STANDARD
DTSTART:20231029T020000
RDATE:20240331T030000
TZOFFSETFROM:+0200
TZOFFSETTO:+0100
TZNAME:Europe/Paris CET
END:STANDARD
BEGIN:STANDARD
DTSTART:20241027T020000
RDATE:20250330T030000
TZOFFSETFROM:+0200
TZOFFSETTO:+0100
TZNAME:Europe/Paris CET
END:STANDARD
BEGIN:STANDARD
DTSTART:20251026T020000
RDATE:20260329T030000
TZOFFSETFROM:+0200
TZOFFSETTO:+0100
TZNAME:Europe/Paris CET
END:STANDARD
BEGIN:STANDARD
DTSTART:20261025T020000
RDATE:20270328T030000
TZOFFSETFROM:+0200
TZOFFSETTO:+0100
TZNAME:Europe/Paris CET
END:STANDARD
BEGIN:DAYLIGHT
DTSTART:20170726T000000
RDATE:20171029T020000
TZOFFSETFROM:+0100
TZOFFSETTO:+0200
TZNAME:Europe/Paris CEST
END:DAYLIGHT
BEGIN:DAYLIGHT
DTSTART:20180325T030000
RDATE:20181028T020000
TZOFFSETFROM:+0100
TZOFFSETTO:+0200
TZNAME:Europe/Paris CEST
END:DAYLIGHT
BEGIN:DAYLIGHT
DTSTART:20190331T030000
RDATE:20191027T020000
TZOFFSETFROM:+0100
TZOFFSETTO:+0200
TZNAME:Europe/Paris CEST
END:DAYLIGHT
BEGIN:DAYLIGHT
DTSTART:20200329T030000
RDATE:20201025T020000
TZOFFSETFROM:+0100
TZOFFSETTO:+0200
TZNAME:Europe/Paris CEST
END:DAYLIGHT
BEGIN:DAYLIGHT
DTSTART:20210328T030000
RDATE:20211031T020000
TZOFFSETFROM:+0100
TZOFFSETTO:+0200
TZNAME:Europe/Paris CEST
END:DAYLIGHT
BEGIN:DAYLIGHT
DTSTART:20220327T030000
RDATE:20221030T020000
TZOFFSETFROM:+0100
TZOFFSETTO:+0200
TZNAME:Europe/Paris CEST
END:DAYLIGHT
BEGIN:DAYLIGHT
DTSTART:20230326T030000
RDATE:20231029T020000
TZOFFSETFROM:+0100
TZOFFSETTO:+0200
TZNAME:Europe/Paris CEST
END:DAYLIGHT
BEGIN:DAYLIGHT
DTSTART:20240331T030000
RDATE:20241027T020000
TZOFFSETFROM:+0100
TZOFFSETTO:+0200
TZNAME:Europe/Paris CEST
END:DAYLIGHT
BEGIN:DAYLIGHT
DTSTART:20250330T030000
RDATE:20251026T020000
TZOFFSETFROM:+0100
TZOFFSETTO:+0200
TZNAME:Europe/Paris CEST
END:DAYLIGHT
BEGIN:DAYLIGHT
DTSTART:20260329T030000
RDATE:20261025T020000
TZOFFSETFROM:+0100
TZOFFSETTO:+0200
TZNAME:Europe/Paris CEST
END:DAYLIGHT
END:VTIMEZONE
BEGIN:VEVENT
UID:0953642c6c1f09075f2ac89c84a03f02
CATEGORIES:Compétition Saut
CREATED:20180810T134904
SUMMARY:1ère Etape Tournée VO Xonrupt-Ventron-Bussang
URL;VALUE=URI:https://skivosges.net/agenda/detailevenement/1064/-/1ere-etape-tournee-vo-x
 onrupt-ventron-bussang?tmpl=component
DESCRIPTION:1ère Etape Tournée VO Xonrupt-Ventron-Bussang\n - Codex évenement TMVT0200\
 n - Station : XONRUPT\n - Organisateur : 14102 SKI CLUB XONRUPTPériode d'in
 scription à l'evènement du vendredi 20 juillet 2018 à 00:00 au mercredi 25 
 juillet 2018 à 12:00 (Inscriptions impossibles).Inscriptions ouvertes aux d
 etenteurs des titres Fédéraux valides suivants : Licenciés CompétiteursEpre
 uves :\n - Le vendredi 27 juillet 2018\n - Codex épreuve TMVF0201\n - Saut 
 Special\n - Catégorie(s) : U7 a U13 (Filles)\n - Le vendredi 27 juillet 201
 8\n - Codex épreuve TMVM0201\n - Saut Special\n - Catégorie(s) : U7 a U13 (
 Garçons)\n - Voir les informations dans l'agenda... (/index.php?option=com_
 jevents&amp;task=icalevent.detail&amp;evid=1059&amp;Itemid=1703) Cet évènem
 ent a été importé depuis :https://skivosges.net/agenda/detailevenement/1064
 /-/1ere-etape-tournee-vo-xonrupt-ventron-bussang?tmpl=component
X-ALT-DESC;FMTTYPE=text/html:<!-- #gskiepreuve code généré par le plugin jevents pour GskiEpreuves. Ne p
 as modifier cette ligne, ni tout le contenu suivant  #gskiepreuve --><div c
 lass="gski-evenement_infos"><div class="gski-evenement-nom">1ère Etape Tour
 née VO Xonrupt-Ventron-Bussang</div><div class="gski-evenement-report"></di
 v><ul class="gski-evenement-liste-infos"><li>Codex évenement TMVT0200</li><
 li>Station : XONRUPT</li><li>Organisateur : 14102 SKI CLUB XONRUPT</li></ul
 ><div class="gski-evenement-infos-2"><div class="gski-evenement-info-inscri
 ptions"><div class="gski-evenement-inscriptions-periodes">Période d'inscrip
 tion à l'evènement du vendredi 20 juillet 2018 à 00:00 au mercredi 25 juill
 et 2018 à 12:00 <span class="gski-evenement-inscriptions-impossibles">(Insc
 riptions impossibles).</span><div class="gski-evenement-inscriptions-types-
 titres">Inscriptions ouvertes aux detenteurs des titres Fédéraux valides su
 ivants : Licenciés Compétiteurs</div></div></div><div class="gski-evenement
 -epreuves"><div class="gski-evenement-epreuves-titres">Epreuves :</div><ul 
 class="gski-evenement-epreuves-list"><li><div class="gski-epreuve-date">Le 
 vendredi 27 juillet 2018</div><ul class="gski-epreuve-liste-infos"><li>Code
 x épreuve TMVF0201</li><li>Saut Special</li><li>Catégorie(s) : U7 a U13 (Fi
 lles)</li></ul></li><li><div class="gski-epreuve-date">Le vendredi 27 juill
 et 2018</div><ul class="gski-epreuve-liste-infos"><li>Codex épreuve TMVM020
 1</li><li>Saut Special</li><li>Catégorie(s) : U7 a U13 (Garçons)</li></ul><
 /li></ul></div><div class="gskiepreuves-links"><ul><li><a href="https://ski
 vosges.net/index.php?option=com_jevents&task=icalevent.detail&evid=1059&Ite
 mid=1703">Voir les informations dans l'agenda...</a></li></ul></div></div">
 <!-- #/gskiepreuve fin du dode généré par le plugin jevents pour GskiEpreuv
 es. . Ne pas modifier cette ligne, ni tout le contenu précedant.  #/gskiepr
 euve --> <a href="https://skivosges.net/agenda/detailevenement/1064/-/1ere-
 etape-tournee-vo-xonrupt-ventron-bussang?tmpl=component">Cet évènement a ét
 é importé depuis :https://skivosges.net/agenda/detailevenement/1064/-/1ere-
 etape-tournee-vo-xonrupt-ventron-bussang?tmpl=component</a>DTSTAMP:20260420T081635
DTSTART;TZID=Europe/Paris;VALUE=DATE:20180727
DTEND;TZID=Europe/Paris;VALUE=DATE:20180728
SEQUENCE:0
TRANSP:OPAQUE
END:VEVENT
END:VCALENDAR