BEGIN:VCALENDAR
VERSION:2.0
PRODID:-//jEvents 2.0 for Joomla//EN
CALSCALE:GREGORIAN
METHOD:PUBLISH
BEGIN:VTIMEZONE
TZID:Europe/Paris
BEGIN:STANDARD
DTSTART:20171029T020000
RDATE:20180325T030000
TZOFFSETFROM:+0200
TZOFFSETTO:+0100
TZNAME:Europe/Paris CET
END:STANDARD
BEGIN:STANDARD
DTSTART:20181028T020000
RDATE:20190331T030000
TZOFFSETFROM:+0200
TZOFFSETTO:+0100
TZNAME:Europe/Paris CET
END:STANDARD
BEGIN:STANDARD
DTSTART:20191027T020000
RDATE:20200329T030000
TZOFFSETFROM:+0200
TZOFFSETTO:+0100
TZNAME:Europe/Paris CET
END:STANDARD
BEGIN:STANDARD
DTSTART:20201025T020000
RDATE:20210328T030000
TZOFFSETFROM:+0200
TZOFFSETTO:+0100
TZNAME:Europe/Paris CET
END:STANDARD
BEGIN:STANDARD
DTSTART:20211031T020000
RDATE:20220327T030000
TZOFFSETFROM:+0200
TZOFFSETTO:+0100
TZNAME:Europe/Paris CET
END:STANDARD
BEGIN:STANDARD
DTSTART:20221030T020000
RDATE:20230326T030000
TZOFFSETFROM:+0200
TZOFFSETTO:+0100
TZNAME:Europe/Paris CET
END:STANDARD
BEGIN:STANDARD
DTSTART:20231029T020000
RDATE:20240331T030000
TZOFFSETFROM:+0200
TZOFFSETTO:+0100
TZNAME:Europe/Paris CET
END:STANDARD
BEGIN:STANDARD
DTSTART:20241027T020000
RDATE:20250330T030000
TZOFFSETFROM:+0200
TZOFFSETTO:+0100
TZNAME:Europe/Paris CET
END:STANDARD
BEGIN:STANDARD
DTSTART:20251026T020000
RDATE:20260329T030000
TZOFFSETFROM:+0200
TZOFFSETTO:+0100
TZNAME:Europe/Paris CET
END:STANDARD
BEGIN:STANDARD
DTSTART:20261025T020000
RDATE:20270328T030000
TZOFFSETFROM:+0200
TZOFFSETTO:+0100
TZNAME:Europe/Paris CET
END:STANDARD
BEGIN:DAYLIGHT
DTSTART:20170726T000000
RDATE:20171029T020000
TZOFFSETFROM:+0100
TZOFFSETTO:+0200
TZNAME:Europe/Paris CEST
END:DAYLIGHT
BEGIN:DAYLIGHT
DTSTART:20180325T030000
RDATE:20181028T020000
TZOFFSETFROM:+0100
TZOFFSETTO:+0200
TZNAME:Europe/Paris CEST
END:DAYLIGHT
BEGIN:DAYLIGHT
DTSTART:20190331T030000
RDATE:20191027T020000
TZOFFSETFROM:+0100
TZOFFSETTO:+0200
TZNAME:Europe/Paris CEST
END:DAYLIGHT
BEGIN:DAYLIGHT
DTSTART:20200329T030000
RDATE:20201025T020000
TZOFFSETFROM:+0100
TZOFFSETTO:+0200
TZNAME:Europe/Paris CEST
END:DAYLIGHT
BEGIN:DAYLIGHT
DTSTART:20210328T030000
RDATE:20211031T020000
TZOFFSETFROM:+0100
TZOFFSETTO:+0200
TZNAME:Europe/Paris CEST
END:DAYLIGHT
BEGIN:DAYLIGHT
DTSTART:20220327T030000
RDATE:20221030T020000
TZOFFSETFROM:+0100
TZOFFSETTO:+0200
TZNAME:Europe/Paris CEST
END:DAYLIGHT
BEGIN:DAYLIGHT
DTSTART:20230326T030000
RDATE:20231029T020000
TZOFFSETFROM:+0100
TZOFFSETTO:+0200
TZNAME:Europe/Paris CEST
END:DAYLIGHT
BEGIN:DAYLIGHT
DTSTART:20240331T030000
RDATE:20241027T020000
TZOFFSETFROM:+0100
TZOFFSETTO:+0200
TZNAME:Europe/Paris CEST
END:DAYLIGHT
BEGIN:DAYLIGHT
DTSTART:20250330T030000
RDATE:20251026T020000
TZOFFSETFROM:+0100
TZOFFSETTO:+0200
TZNAME:Europe/Paris CEST
END:DAYLIGHT
BEGIN:DAYLIGHT
DTSTART:20260329T030000
RDATE:20261025T020000
TZOFFSETFROM:+0100
TZOFFSETTO:+0200
TZNAME:Europe/Paris CEST
END:DAYLIGHT
END:VTIMEZONE
BEGIN:VEVENT
UID:87c7d149030efd92e242b1325fb24fc6
CATEGORIES:Compétition Saut
CREATED:20180810T134904
SUMMARY:Tournée des Vosges
URL;VALUE=URI:https://skivosges.net/agenda/detailevenement/1065/-/tournee-des-vosges?tmpl
 =component
DESCRIPTION:Tournée des Vosges\n - Codex évenement TNAT0230\n - Station : XONRUPT\n - O
 rganisateur : 14102 SKI CLUB XONRUPTPériode d'inscription à l'evènement du 
 vendredi 20 juillet 2018 à 00:00 au mercredi 25 juillet 2018 à 12:00 (Inscr
 iptions impossibles).Inscriptions ouvertes aux detenteurs des titres Fédéra
 ux valides suivants : Licenciés CompétiteursEpreuves :\n - Le vendredi 27 j
 uillet 2018\n - Codex épreuve TNAM0231\n - Saut Special\n - Catégorie(s) : 
 U7 a U13 (Garçons)\n - Le vendredi 27 juillet 2018\n - Codex épreuve TNAF02
 31\n - Saut Special\n - Catégorie(s) : U7 a U13 (Filles)\n - Le vendredi 27
  juillet 2018\n - Codex épreuve TNAM0232\n - Saut Special\n - Catégorie(s) 
 : U15 (Garçons)\n - Le vendredi 27 juillet 2018\n - Codex épreuve TNAF0232\
 n - Saut Special\n - Catégorie(s) : U15 (Filles)\n - Voir les informations 
 dans l'agenda... (/index.php?option=com_jevents&amp;task=icalevent.detail&a
 mp;evid=1060&amp;Itemid=1703) Cet évènement a été importé depuis :https://s
 kivosges.net/agenda/detailevenement/1065/-/tournee-des-vosges?tmpl=componen
 t
X-ALT-DESC;FMTTYPE=text/html:<!-- #gskiepreuve code généré par le plugin jevents pour GskiEpreuves. Ne p
 as modifier cette ligne, ni tout le contenu suivant  #gskiepreuve --><div c
 lass="gski-evenement_infos"><div class="gski-evenement-nom">Tournée des Vos
 ges</div><div class="gski-evenement-report"></div><ul class="gski-evenement
 -liste-infos"><li>Codex évenement TNAT0230</li><li>Station : XONRUPT</li><l
 i>Organisateur : 14102 SKI CLUB XONRUPT</li></ul><div class="gski-evenement
 -infos-2"><div class="gski-evenement-info-inscriptions"><div class="gski-ev
 enement-inscriptions-periodes">Période d'inscription à l'evènement du vendr
 edi 20 juillet 2018 à 00:00 au mercredi 25 juillet 2018 à 12:00 <span class
 ="gski-evenement-inscriptions-impossibles">(Inscriptions impossibles).</spa
 n><div class="gski-evenement-inscriptions-types-titres">Inscriptions ouvert
 es aux detenteurs des titres Fédéraux valides suivants : Licenciés Compétit
 eurs</div></div></div><div class="gski-evenement-epreuves"><div class="gski
 -evenement-epreuves-titres">Epreuves :</div><ul class="gski-evenement-epreu
 ves-list"><li><div class="gski-epreuve-date">Le vendredi 27 juillet 2018</d
 iv><ul class="gski-epreuve-liste-infos"><li>Codex épreuve TNAM0231</li><li>
 Saut Special</li><li>Catégorie(s) : U7 a U13 (Garçons)</li></ul></li><li><d
 iv class="gski-epreuve-date">Le vendredi 27 juillet 2018</div><ul class="gs
 ki-epreuve-liste-infos"><li>Codex épreuve TNAF0231</li><li>Saut Special</li
 ><li>Catégorie(s) : U7 a U13 (Filles)</li></ul></li><li><div class="gski-ep
 reuve-date">Le vendredi 27 juillet 2018</div><ul class="gski-epreuve-liste-
 infos"><li>Codex épreuve TNAM0232</li><li>Saut Special</li><li>Catégorie(s)
  : U15 (Garçons)</li></ul></li><li><div class="gski-epreuve-date">Le vendre
 di 27 juillet 2018</div><ul class="gski-epreuve-liste-infos"><li>Codex épre
 uve TNAF0232</li><li>Saut Special</li><li>Catégorie(s) : U15 (Filles)</li><
 /ul></li></ul></div><div class="gskiepreuves-links"><ul><li><a href="https:
 //skivosges.net/index.php?option=com_jevents&task=icalevent.detail&evid=106
 0&Itemid=1703">Voir les informations dans l'agenda...</a></li></ul></div></
 div"><!-- #/gskiepreuve fin du dode généré par le plugin jevents pour GskiE
 preuves. . Ne pas modifier cette ligne, ni tout le contenu précedant.  #/gs
 kiepreuve --> <a href="https://skivosges.net/agenda/detailevenement/1065/-/
 tournee-des-vosges?tmpl=component">Cet évènement a été importé depuis :http
 s://skivosges.net/agenda/detailevenement/1065/-/tournee-des-vosges?tmpl=com
 ponent</a>DTSTAMP:20260420T084256
DTSTART;TZID=Europe/Paris;VALUE=DATE:20180727
DTEND;TZID=Europe/Paris;VALUE=DATE:20180728
SEQUENCE:0
TRANSP:OPAQUE
END:VEVENT
END:VCALENDAR