BEGIN:VCALENDAR
VERSION:2.0
PRODID:-//jEvents 2.0 for Joomla//EN
CALSCALE:GREGORIAN
METHOD:PUBLISH
BEGIN:VTIMEZONE
TZID:Europe/Paris
BEGIN:STANDARD
DTSTART:20171029T020000
RDATE:20180325T030000
TZOFFSETFROM:+0200
TZOFFSETTO:+0100
TZNAME:Europe/Paris CET
END:STANDARD
BEGIN:STANDARD
DTSTART:20181028T020000
RDATE:20190331T030000
TZOFFSETFROM:+0200
TZOFFSETTO:+0100
TZNAME:Europe/Paris CET
END:STANDARD
BEGIN:STANDARD
DTSTART:20191027T020000
RDATE:20200329T030000
TZOFFSETFROM:+0200
TZOFFSETTO:+0100
TZNAME:Europe/Paris CET
END:STANDARD
BEGIN:STANDARD
DTSTART:20201025T020000
RDATE:20210328T030000
TZOFFSETFROM:+0200
TZOFFSETTO:+0100
TZNAME:Europe/Paris CET
END:STANDARD
BEGIN:STANDARD
DTSTART:20211031T020000
RDATE:20220327T030000
TZOFFSETFROM:+0200
TZOFFSETTO:+0100
TZNAME:Europe/Paris CET
END:STANDARD
BEGIN:STANDARD
DTSTART:20221030T020000
RDATE:20230326T030000
TZOFFSETFROM:+0200
TZOFFSETTO:+0100
TZNAME:Europe/Paris CET
END:STANDARD
BEGIN:STANDARD
DTSTART:20231029T020000
RDATE:20240331T030000
TZOFFSETFROM:+0200
TZOFFSETTO:+0100
TZNAME:Europe/Paris CET
END:STANDARD
BEGIN:STANDARD
DTSTART:20241027T020000
RDATE:20250330T030000
TZOFFSETFROM:+0200
TZOFFSETTO:+0100
TZNAME:Europe/Paris CET
END:STANDARD
BEGIN:STANDARD
DTSTART:20251026T020000
RDATE:20260329T030000
TZOFFSETFROM:+0200
TZOFFSETTO:+0100
TZNAME:Europe/Paris CET
END:STANDARD
BEGIN:STANDARD
DTSTART:20261025T020000
RDATE:20270328T030000
TZOFFSETFROM:+0200
TZOFFSETTO:+0100
TZNAME:Europe/Paris CET
END:STANDARD
BEGIN:DAYLIGHT
DTSTART:20170728T000000
RDATE:20171029T020000
TZOFFSETFROM:+0100
TZOFFSETTO:+0200
TZNAME:Europe/Paris CEST
END:DAYLIGHT
BEGIN:DAYLIGHT
DTSTART:20180325T030000
RDATE:20181028T020000
TZOFFSETFROM:+0100
TZOFFSETTO:+0200
TZNAME:Europe/Paris CEST
END:DAYLIGHT
BEGIN:DAYLIGHT
DTSTART:20190331T030000
RDATE:20191027T020000
TZOFFSETFROM:+0100
TZOFFSETTO:+0200
TZNAME:Europe/Paris CEST
END:DAYLIGHT
BEGIN:DAYLIGHT
DTSTART:20200329T030000
RDATE:20201025T020000
TZOFFSETFROM:+0100
TZOFFSETTO:+0200
TZNAME:Europe/Paris CEST
END:DAYLIGHT
BEGIN:DAYLIGHT
DTSTART:20210328T030000
RDATE:20211031T020000
TZOFFSETFROM:+0100
TZOFFSETTO:+0200
TZNAME:Europe/Paris CEST
END:DAYLIGHT
BEGIN:DAYLIGHT
DTSTART:20220327T030000
RDATE:20221030T020000
TZOFFSETFROM:+0100
TZOFFSETTO:+0200
TZNAME:Europe/Paris CEST
END:DAYLIGHT
BEGIN:DAYLIGHT
DTSTART:20230326T030000
RDATE:20231029T020000
TZOFFSETFROM:+0100
TZOFFSETTO:+0200
TZNAME:Europe/Paris CEST
END:DAYLIGHT
BEGIN:DAYLIGHT
DTSTART:20240331T030000
RDATE:20241027T020000
TZOFFSETFROM:+0100
TZOFFSETTO:+0200
TZNAME:Europe/Paris CEST
END:DAYLIGHT
BEGIN:DAYLIGHT
DTSTART:20250330T030000
RDATE:20251026T020000
TZOFFSETFROM:+0100
TZOFFSETTO:+0200
TZNAME:Europe/Paris CEST
END:DAYLIGHT
BEGIN:DAYLIGHT
DTSTART:20260329T030000
RDATE:20261025T020000
TZOFFSETFROM:+0100
TZOFFSETTO:+0200
TZNAME:Europe/Paris CEST
END:DAYLIGHT
END:VTIMEZONE
BEGIN:VEVENT
UID:d7163f64ad9cbcc10410dcd89992d6a3
CATEGORIES:Compétition Saut
CREATED:20180810T134904
SUMMARY:Finale Tournée VO Xonnrupt-Ventron-Bussang
URL;VALUE=URI:https://skivosges.net/agenda/detailevenement/1068/-/finale-tournee-vo-xonnr
 upt-ventron-bussang?tmpl=component
DESCRIPTION:Finale Tournée VO Xonnrupt-Ventron-Bussang\n - Codex évenement TMVT0220\n -
  Station : BUSSANG LARCENAIRE\n - Organisateur : 14007 UNION SPORTIVE BUSSA
 NGPériode d'inscription à l'evènement du dimanche 22 juillet 2018 à 00:00 a
 u vendredi 27 juillet 2018 à 12:00 (Inscriptions impossibles).Inscriptions 
 ouvertes aux detenteurs des titres Fédéraux valides suivants : Licenciés Co
 mpétiteursEpreuves :\n - Le dimanche 29 juillet 2018\n - Codex épreuve TMVF
 0221\n - Saut Special\n - Catégorie(s) : U7 a U13 (Filles)\n - Le dimanche 
 29 juillet 2018\n - Codex épreuve TMVM0221\n - Saut Special\n - Catégorie(s
 ) : U7 a U13 (Garçons)\n - Voir les informations dans l'agenda... (/index.p
 hp?option=com_jevents&amp;task=icalevent.detail&amp;evid=1063&amp;Itemid=17
 03) Cet évènement a été importé depuis :https://skivosges.net/agenda/detail
 evenement/1068/-/finale-tournee-vo-xonnrupt-ventron-bussang?tmpl=component
X-ALT-DESC;FMTTYPE=text/html:<!-- #gskiepreuve code généré par le plugin jevents pour GskiEpreuves. Ne p
 as modifier cette ligne, ni tout le contenu suivant  #gskiepreuve --><div c
 lass="gski-evenement_infos"><div class="gski-evenement-nom">Finale Tournée 
 VO Xonnrupt-Ventron-Bussang</div><div class="gski-evenement-report"></div><
 ul class="gski-evenement-liste-infos"><li>Codex évenement TMVT0220</li><li>
 Station : BUSSANG LARCENAIRE</li><li>Organisateur : 14007 UNION SPORTIVE BU
 SSANG</li></ul><div class="gski-evenement-infos-2"><div class="gski-eveneme
 nt-info-inscriptions"><div class="gski-evenement-inscriptions-periodes">Pér
 iode d'inscription à l'evènement du dimanche 22 juillet 2018 à 00:00 au ven
 dredi 27 juillet 2018 à 12:00 <span class="gski-evenement-inscriptions-impo
 ssibles">(Inscriptions impossibles).</span><div class="gski-evenement-inscr
 iptions-types-titres">Inscriptions ouvertes aux detenteurs des titres Fédér
 aux valides suivants : Licenciés Compétiteurs</div></div></div><div class="
 gski-evenement-epreuves"><div class="gski-evenement-epreuves-titres">Epreuv
 es :</div><ul class="gski-evenement-epreuves-list"><li><div class="gski-epr
 euve-date">Le dimanche 29 juillet 2018</div><ul class="gski-epreuve-liste-i
 nfos"><li>Codex épreuve TMVF0221</li><li>Saut Special</li><li>Catégorie(s) 
 : U7 a U13 (Filles)</li></ul></li><li><div class="gski-epreuve-date">Le dim
 anche 29 juillet 2018</div><ul class="gski-epreuve-liste-infos"><li>Codex é
 preuve TMVM0221</li><li>Saut Special</li><li>Catégorie(s) : U7 a U13 (Garço
 ns)</li></ul></li></ul></div><div class="gskiepreuves-links"><ul><li><a hre
 f="https://skivosges.net/index.php?option=com_jevents&task=icalevent.detail
 &evid=1063&Itemid=1703">Voir les informations dans l'agenda...</a></li></ul
 ></div></div"><!-- #/gskiepreuve fin du dode généré par le plugin jevents p
 our GskiEpreuves. . Ne pas modifier cette ligne, ni tout le contenu préceda
 nt.  #/gskiepreuve --> <a href="https://skivosges.net/agenda/detailevenemen
 t/1068/-/finale-tournee-vo-xonnrupt-ventron-bussang?tmpl=component">Cet évè
 nement a été importé depuis :https://skivosges.net/agenda/detailevenement/1
 068/-/finale-tournee-vo-xonnrupt-ventron-bussang?tmpl=component</a>DTSTAMP:20260421T051115
DTSTART;TZID=Europe/Paris;VALUE=DATE:20180729
DTEND;TZID=Europe/Paris;VALUE=DATE:20180730
SEQUENCE:0
TRANSP:OPAQUE
END:VEVENT
END:VCALENDAR