BEGIN:VCALENDAR
VERSION:2.0
PRODID:-//jEvents 2.0 for Joomla//EN
CALSCALE:GREGORIAN
METHOD:PUBLISH
BEGIN:VTIMEZONE
TZID:Europe/Paris
BEGIN:STANDARD
DTSTART:20171029T020000
RDATE:20180325T030000
TZOFFSETFROM:+0200
TZOFFSETTO:+0100
TZNAME:Europe/Paris CET
END:STANDARD
BEGIN:STANDARD
DTSTART:20181028T020000
RDATE:20190331T030000
TZOFFSETFROM:+0200
TZOFFSETTO:+0100
TZNAME:Europe/Paris CET
END:STANDARD
BEGIN:STANDARD
DTSTART:20191027T020000
RDATE:20200329T030000
TZOFFSETFROM:+0200
TZOFFSETTO:+0100
TZNAME:Europe/Paris CET
END:STANDARD
BEGIN:STANDARD
DTSTART:20201025T020000
RDATE:20210328T030000
TZOFFSETFROM:+0200
TZOFFSETTO:+0100
TZNAME:Europe/Paris CET
END:STANDARD
BEGIN:STANDARD
DTSTART:20211031T020000
RDATE:20220327T030000
TZOFFSETFROM:+0200
TZOFFSETTO:+0100
TZNAME:Europe/Paris CET
END:STANDARD
BEGIN:STANDARD
DTSTART:20221030T020000
RDATE:20230326T030000
TZOFFSETFROM:+0200
TZOFFSETTO:+0100
TZNAME:Europe/Paris CET
END:STANDARD
BEGIN:STANDARD
DTSTART:20231029T020000
RDATE:20240331T030000
TZOFFSETFROM:+0200
TZOFFSETTO:+0100
TZNAME:Europe/Paris CET
END:STANDARD
BEGIN:STANDARD
DTSTART:20241027T020000
RDATE:20250330T030000
TZOFFSETFROM:+0200
TZOFFSETTO:+0100
TZNAME:Europe/Paris CET
END:STANDARD
BEGIN:STANDARD
DTSTART:20251026T020000
RDATE:20260329T030000
TZOFFSETFROM:+0200
TZOFFSETTO:+0100
TZNAME:Europe/Paris CET
END:STANDARD
BEGIN:STANDARD
DTSTART:20261025T020000
RDATE:20270328T030000
TZOFFSETFROM:+0200
TZOFFSETTO:+0100
TZNAME:Europe/Paris CET
END:STANDARD
BEGIN:DAYLIGHT
DTSTART:20170907T000000
RDATE:20171029T020000
TZOFFSETFROM:+0100
TZOFFSETTO:+0200
TZNAME:Europe/Paris CEST
END:DAYLIGHT
BEGIN:DAYLIGHT
DTSTART:20180325T030000
RDATE:20181028T020000
TZOFFSETFROM:+0100
TZOFFSETTO:+0200
TZNAME:Europe/Paris CEST
END:DAYLIGHT
BEGIN:DAYLIGHT
DTSTART:20190331T030000
RDATE:20191027T020000
TZOFFSETFROM:+0100
TZOFFSETTO:+0200
TZNAME:Europe/Paris CEST
END:DAYLIGHT
BEGIN:DAYLIGHT
DTSTART:20200329T030000
RDATE:20201025T020000
TZOFFSETFROM:+0100
TZOFFSETTO:+0200
TZNAME:Europe/Paris CEST
END:DAYLIGHT
BEGIN:DAYLIGHT
DTSTART:20210328T030000
RDATE:20211031T020000
TZOFFSETFROM:+0100
TZOFFSETTO:+0200
TZNAME:Europe/Paris CEST
END:DAYLIGHT
BEGIN:DAYLIGHT
DTSTART:20220327T030000
RDATE:20221030T020000
TZOFFSETFROM:+0100
TZOFFSETTO:+0200
TZNAME:Europe/Paris CEST
END:DAYLIGHT
BEGIN:DAYLIGHT
DTSTART:20230326T030000
RDATE:20231029T020000
TZOFFSETFROM:+0100
TZOFFSETTO:+0200
TZNAME:Europe/Paris CEST
END:DAYLIGHT
BEGIN:DAYLIGHT
DTSTART:20240331T030000
RDATE:20241027T020000
TZOFFSETFROM:+0100
TZOFFSETTO:+0200
TZNAME:Europe/Paris CEST
END:DAYLIGHT
BEGIN:DAYLIGHT
DTSTART:20250330T030000
RDATE:20251026T020000
TZOFFSETFROM:+0100
TZOFFSETTO:+0200
TZNAME:Europe/Paris CEST
END:DAYLIGHT
BEGIN:DAYLIGHT
DTSTART:20260329T030000
RDATE:20261025T020000
TZOFFSETFROM:+0100
TZOFFSETTO:+0200
TZNAME:Europe/Paris CEST
END:DAYLIGHT
END:VTIMEZONE
BEGIN:VEVENT
UID:c7068af599735ac3c5295dfa37d0a2d4
CATEGORIES:Compétition Biathlon
CREATED:20180810T134904
SUMMARY:Crédit-Mutuel / TGL Etape 1
URL;VALUE=URI:https://skivosges.net/agenda/detailevenement/1073/-/credit-mutuel-tgl-etape
 -1?tmpl=component
DESCRIPTION:<!-- #gskiepreuve code généré par le plugin jevents pour GskiEpreuves. Ne p
 as modifier cette ligne, ni tout le contenu suivant  #gskiepreuve --><div c
 lass="gski-evenement_infos"><div class="gski-evenement-nom">Crédit-Mutuel /
  TGL Etape 1</div><div class="gski-evenement-report"></div><ul class="gski-
 evenement-liste-infos"><li>Codex évenement BMVT0070</li><li>Station : LA BR
 ESSE</li><li>Organisateur : 14024 LA BRESSAUDE SECTION SKI</li><li>Courriel
  : <!-- Cette adresse électronique est protégée contre les robots spammeurs
 . --><span class="cloaked_email ep_acbc23d7"><span data-ep-b="f&#114;" data
 -ep-a="&#111;&#100;il&#101;"><span data-ep-a=".&#109;&#117;&#110;s" data-ep
 -b="a&#110;&#103;&#101;."><span data-ep-a="&#99;&#104;&#46;&#115;&#99;" dat
 a-ep-b="&#108;b&#64;&#111;r"></span></span></span></span><script>RegularLab
 s.EmailProtector.unCloak("ep_acbc23d7");</script></li></ul><div class="gski
 -evenement-infos-2"><div class="gski-evenement-info-inscriptions"><div clas
 s="gski-evenement-inscriptions-periodes">Période d'inscription à l'evènemen
 t du samedi 01 septembre 2018 à 00:00 au vendredi 07 septembre 2018 à 17:00
 <div class="gski-evenement-inscriptions-types-titres">Inscriptions ouvertes
  aux detenteurs des titres Fédéraux valides suivants : Licenciés Compétiteu
 rs</div></div></div><div class="gski-evenement-epreuves"><div class="gski-e
 venement-epreuves-titres">Epreuves :</div><ul class="gski-evenement-epreuve
 s-list"><li><div class="gski-epreuve-date">Le samedi 08 septembre 2018</div
 ><ul class="gski-epreuve-liste-infos"><li>Codex épreuve BMVF0071</li><li>In
 dividuel</li><li>Catégorie(s) : U13 (Filles)</li></ul></li><li><div class="
 gski-epreuve-date">Le samedi 08 septembre 2018</div><ul class="gski-epreuve
 -liste-infos"><li>Codex épreuve BMVF0072</li><li>Individuel</li><li>Catégor
 ie(s) : U15/U17 (Filles)</li></ul></li><li><div class="gski-epreuve-date">L
 e samedi 08 septembre 2018</div><ul class="gski-epreuve-liste-infos"><li>Co
 dex épreuve BMVF0073</li><li>Individuel</li><li>Catégorie(s) : U17 a SEN (F
 illes)</li></ul></li><li><div class="gski-epreuve-date">Le samedi 08 septem
 bre 2018</div><ul class="gski-epreuve-liste-infos"><li>Codex épreuve BMVM00
 71</li><li>Individuel</li><li>Catégorie(s) : U13 (Garçons)</li></ul></li><l
 i><div class="gski-epreuve-date">Le samedi 08 septembre 2018</div><ul class
 ="gski-epreuve-liste-infos"><li>Codex épreuve BMVM0072</li><li>Individuel</
 li><li>Catégorie(s) : U15/U17 (Garçons)</li></ul></li><li><div class="gski-
 epreuve-date">Le samedi 08 septembre 2018</div><ul class="gski-epreuve-list
 e-infos"><li>Codex épreuve BMVM0073</li><li>Individuel</li><li>Catégorie(s)
  : U17 a SEN (Garçons)</li></ul></li></ul></div><div class="gskiepreuves-li
 nks"><ul><li><a href="/index.php?option=com_jevents&task=icalevent.detail&e
 vid=1068&Itemid=1703">Voir les informations dans l'agenda...</a></li><li><a
  href="/index.php?option=com_gskiepreuves&view=afficheresultats&format_opti
 on=tous&filter[search]=BMVT0070&filter[date_debut]=08-09-2018&filter[date_f
 in]=08-09-2018&code_activite=BIATH&Itemid=1703">Vers les résultats...</a></
 li></ul></div></div"><!-- #/gskiepreuve fin du dode généré par le plugin je
 vents pour GskiEpreuves. . Ne pas modifier cette ligne, ni tout le contenu 
 précedant.  #/gskiepreuve --> <a href="https://skivosges.net/agenda/detaile
 venement/1073/-/credit-mutuel-tgl-etape-1?tmpl=component">Cet évènement a é
 té importé depuis :https://skivosges.net/agenda/detailevenement/1073/-/cred
 it-mutuel-tgl-etape-1?tmpl=component</a>
X-ALT-DESC;FMTTYPE=text/html:<!-- #gskiepreuve code généré par le plugin jevents pour GskiEpreuves. Ne p
 as modifier cette ligne, ni tout le contenu suivant  #gskiepreuve --><div c
 lass="gski-evenement_infos"><div class="gski-evenement-nom">Crédit-Mutuel /
  TGL Etape 1</div><div class="gski-evenement-report"></div><ul class="gski-
 evenement-liste-infos"><li>Codex évenement BMVT0070</li><li>Station : LA BR
 ESSE</li><li>Organisateur : 14024 LA BRESSAUDE SECTION SKI</li><li>Courriel
  : <!-- Cette adresse électronique est protégée contre les robots spammeurs
 . --><span class="cloaked_email ep_acbc23d7"><span data-ep-b="f&#114;" data
 -ep-a="&#111;&#100;il&#101;"><span data-ep-a=".&#109;&#117;&#110;s" data-ep
 -b="a&#110;&#103;&#101;."><span data-ep-a="&#99;&#104;&#46;&#115;&#99;" dat
 a-ep-b="&#108;b&#64;&#111;r"></span></span></span></span><script>RegularLab
 s.EmailProtector.unCloak("ep_acbc23d7");</script></li></ul><div class="gski
 -evenement-infos-2"><div class="gski-evenement-info-inscriptions"><div clas
 s="gski-evenement-inscriptions-periodes">Période d'inscription à l'evènemen
 t du samedi 01 septembre 2018 à 00:00 au vendredi 07 septembre 2018 à 17:00
 <div class="gski-evenement-inscriptions-types-titres">Inscriptions ouvertes
  aux detenteurs des titres Fédéraux valides suivants : Licenciés Compétiteu
 rs</div></div></div><div class="gski-evenement-epreuves"><div class="gski-e
 venement-epreuves-titres">Epreuves :</div><ul class="gski-evenement-epreuve
 s-list"><li><div class="gski-epreuve-date">Le samedi 08 septembre 2018</div
 ><ul class="gski-epreuve-liste-infos"><li>Codex épreuve BMVF0071</li><li>In
 dividuel</li><li>Catégorie(s) : U13 (Filles)</li></ul></li><li><div class="
 gski-epreuve-date">Le samedi 08 septembre 2018</div><ul class="gski-epreuve
 -liste-infos"><li>Codex épreuve BMVF0072</li><li>Individuel</li><li>Catégor
 ie(s) : U15/U17 (Filles)</li></ul></li><li><div class="gski-epreuve-date">L
 e samedi 08 septembre 2018</div><ul class="gski-epreuve-liste-infos"><li>Co
 dex épreuve BMVF0073</li><li>Individuel</li><li>Catégorie(s) : U17 a SEN (F
 illes)</li></ul></li><li><div class="gski-epreuve-date">Le samedi 08 septem
 bre 2018</div><ul class="gski-epreuve-liste-infos"><li>Codex épreuve BMVM00
 71</li><li>Individuel</li><li>Catégorie(s) : U13 (Garçons)</li></ul></li><l
 i><div class="gski-epreuve-date">Le samedi 08 septembre 2018</div><ul class
 ="gski-epreuve-liste-infos"><li>Codex épreuve BMVM0072</li><li>Individuel</
 li><li>Catégorie(s) : U15/U17 (Garçons)</li></ul></li><li><div class="gski-
 epreuve-date">Le samedi 08 septembre 2018</div><ul class="gski-epreuve-list
 e-infos"><li>Codex épreuve BMVM0073</li><li>Individuel</li><li>Catégorie(s)
  : U17 a SEN (Garçons)</li></ul></li></ul></div><div class="gskiepreuves-li
 nks"><ul><li><a href="https://skivosges.net/index.php?option=com_jevents&ta
 sk=icalevent.detail&evid=1068&Itemid=1703">Voir les informations dans l'age
 nda...</a></li><li><a href="https://skivosges.net/index.php?option=com_gski
 epreuves&view=afficheresultats&format_option=tous&filter[search]=BMVT0070&f
 ilter[date_debut]=08-09-2018&filter[date_fin]=08-09-2018&code_activite=BIAT
 H&Itemid=1703">Vers les résultats...</a></li></ul></div></div"><!-- #/gskie
 preuve fin du dode généré par le plugin jevents pour GskiEpreuves. . Ne pas
  modifier cette ligne, ni tout le contenu précedant.  #/gskiepreuve --> <a 
 href="https://skivosges.net/agenda/detailevenement/1073/-/credit-mutuel-tgl
 -etape-1?tmpl=component">Cet évènement a été importé depuis :https://skivos
 ges.net/agenda/detailevenement/1073/-/credit-mutuel-tgl-etape-1?tmpl=compon
 ent</a>DTSTAMP:20260421T051410
DTSTART;TZID=Europe/Paris;VALUE=DATE:20180908
DTEND;TZID=Europe/Paris;VALUE=DATE:20180909
SEQUENCE:0
TRANSP:OPAQUE
END:VEVENT
END:VCALENDAR