BEGIN:VCALENDAR
VERSION:2.0
PRODID:-//jEvents 2.0 for Joomla//EN
CALSCALE:GREGORIAN
METHOD:PUBLISH
BEGIN:VTIMEZONE
TZID:Europe/Paris
BEGIN:STANDARD
DTSTART:20171110T000000
RDATE:20180325T030000
TZOFFSETFROM:+0200
TZOFFSETTO:+0100
TZNAME:Europe/Paris CET
END:STANDARD
BEGIN:STANDARD
DTSTART:20181028T020000
RDATE:20190331T030000
TZOFFSETFROM:+0200
TZOFFSETTO:+0100
TZNAME:Europe/Paris CET
END:STANDARD
BEGIN:STANDARD
DTSTART:20191027T020000
RDATE:20200329T030000
TZOFFSETFROM:+0200
TZOFFSETTO:+0100
TZNAME:Europe/Paris CET
END:STANDARD
BEGIN:STANDARD
DTSTART:20201025T020000
RDATE:20210328T030000
TZOFFSETFROM:+0200
TZOFFSETTO:+0100
TZNAME:Europe/Paris CET
END:STANDARD
BEGIN:STANDARD
DTSTART:20211031T020000
RDATE:20220327T030000
TZOFFSETFROM:+0200
TZOFFSETTO:+0100
TZNAME:Europe/Paris CET
END:STANDARD
BEGIN:STANDARD
DTSTART:20221030T020000
RDATE:20230326T030000
TZOFFSETFROM:+0200
TZOFFSETTO:+0100
TZNAME:Europe/Paris CET
END:STANDARD
BEGIN:STANDARD
DTSTART:20231029T020000
RDATE:20240331T030000
TZOFFSETFROM:+0200
TZOFFSETTO:+0100
TZNAME:Europe/Paris CET
END:STANDARD
BEGIN:STANDARD
DTSTART:20241027T020000
RDATE:20250330T030000
TZOFFSETFROM:+0200
TZOFFSETTO:+0100
TZNAME:Europe/Paris CET
END:STANDARD
BEGIN:STANDARD
DTSTART:20251026T020000
RDATE:20260329T030000
TZOFFSETFROM:+0200
TZOFFSETTO:+0100
TZNAME:Europe/Paris CET
END:STANDARD
BEGIN:STANDARD
DTSTART:20261025T020000
RDATE:20270328T030000
TZOFFSETFROM:+0200
TZOFFSETTO:+0100
TZNAME:Europe/Paris CET
END:STANDARD
BEGIN:DAYLIGHT
DTSTART:20180325T030000
RDATE:20181028T020000
TZOFFSETFROM:+0100
TZOFFSETTO:+0200
TZNAME:Europe/Paris CEST
END:DAYLIGHT
BEGIN:DAYLIGHT
DTSTART:20190331T030000
RDATE:20191027T020000
TZOFFSETFROM:+0100
TZOFFSETTO:+0200
TZNAME:Europe/Paris CEST
END:DAYLIGHT
BEGIN:DAYLIGHT
DTSTART:20200329T030000
RDATE:20201025T020000
TZOFFSETFROM:+0100
TZOFFSETTO:+0200
TZNAME:Europe/Paris CEST
END:DAYLIGHT
BEGIN:DAYLIGHT
DTSTART:20210328T030000
RDATE:20211031T020000
TZOFFSETFROM:+0100
TZOFFSETTO:+0200
TZNAME:Europe/Paris CEST
END:DAYLIGHT
BEGIN:DAYLIGHT
DTSTART:20220327T030000
RDATE:20221030T020000
TZOFFSETFROM:+0100
TZOFFSETTO:+0200
TZNAME:Europe/Paris CEST
END:DAYLIGHT
BEGIN:DAYLIGHT
DTSTART:20230326T030000
RDATE:20231029T020000
TZOFFSETFROM:+0100
TZOFFSETTO:+0200
TZNAME:Europe/Paris CEST
END:DAYLIGHT
BEGIN:DAYLIGHT
DTSTART:20240331T030000
RDATE:20241027T020000
TZOFFSETFROM:+0100
TZOFFSETTO:+0200
TZNAME:Europe/Paris CEST
END:DAYLIGHT
BEGIN:DAYLIGHT
DTSTART:20250330T030000
RDATE:20251026T020000
TZOFFSETFROM:+0100
TZOFFSETTO:+0200
TZNAME:Europe/Paris CEST
END:DAYLIGHT
BEGIN:DAYLIGHT
DTSTART:20260329T030000
RDATE:20261025T020000
TZOFFSETFROM:+0100
TZOFFSETTO:+0200
TZNAME:Europe/Paris CEST
END:DAYLIGHT
END:VTIMEZONE
BEGIN:VEVENT
UID:c980a9266d0958454cc47673d06d94a9
CATEGORIES:Compétition Biathlon
CREATED:20181010T200815
SUMMARY:Crédit-Mutuel / TGL Etape 3
URL;VALUE=URI:https://skivosges.net/agenda/detailevenement/1091/-/credit-mutuel-tgl-etape
 -3?tmpl=component
DESCRIPTION:Crédit-Mutuel / TGL Etape 3 (Report de l'épreuve initialement prévue le 14/
 10/2018)\n - Codex évenement BMVT0110\n - Station : CHAMP DU FEU\n - Organi
 sateur : 14448 MOLSHEIM SKI NORDIQUEPériode d'inscription à l'evènement du 
 jeudi 25 octobre 2018 à 11:25 au vendredi 09 novembre 2018 à 20:00Inscripti
 ons ouvertes aux detenteurs des titres Fédéraux valides suivants : Licencié
 s CompétiteursEpreuves :\n - Le dimanche 11 novembre 2018\n - Codex épreuve
  BMVF0111\n - Individuel\n - Catégorie(s) : U13 (Filles)\n - Le dimanche 11
  novembre 2018\n - Codex épreuve BMVF0112\n - Individuel\n - Catégorie(s) :
  U15/U17 (Filles)\n - Le dimanche 11 novembre 2018\n - Codex épreuve BMVF01
 13\n - Individuel\n - Catégorie(s) : U17 a SEN (Filles)\n - Le dimanche 11 
 novembre 2018\n - Codex épreuve BMVM0111\n - Individuel\n - Catégorie(s) : 
 U13 (Garçons)\n - Le dimanche 11 novembre 2018\n - Codex épreuve BMVM0112\n
  - Individuel\n - Catégorie(s) : U15/U17 (Garçons)\n - Le dimanche 11 novem
 bre 2018\n - Codex épreuve BMVM0113\n - Individuel\n - Catégorie(s) : U17 a
  SEN (Garçons)\n - Voir les informations dans l'agenda... (/index.php?optio
 n=com_jevents&amp;task=icalevent.detail&amp;evid=1086&amp;Itemid=1703)\n - 
 Vers la liste de départs... (/index.php?option=com_gskiepreuves&amp;view=af
 fichedeparts&amp;format_option=tous&amp;filter[search]=BMVT0110&amp;filter[
 date_debut]=11-11-2018&amp;filter[date_fin]=11-11-2018&amp;Itemid=1703) Cet
  évènement a été importé depuis :https://skivosges.net/agenda/detaileveneme
 nt/1091/-/credit-mutuel-tgl-etape-3?tmpl=component
X-ALT-DESC;FMTTYPE=text/html:<!-- #gskiepreuve code généré par le plugin jevents pour GskiEpreuves. Ne p
 as modifier cette ligne, ni tout le contenu suivant  #gskiepreuve --><div c
 lass="gski-evenement_infos"><div class="gski-evenement-nom">Crédit-Mutuel /
  TGL Etape 3</div><div class="gski-evenement-report"> <font class="gskiatte
 ntion">(Report de l'épreuve initialement prévue le 14/10/2018)</font></div>
 <ul class="gski-evenement-liste-infos"><li>Codex évenement BMVT0110</li><li
 >Station : CHAMP DU FEU</li><li>Organisateur : 14448 MOLSHEIM SKI NORDIQUE<
 /li></ul><div class="gski-evenement-infos-2"><div class="gski-evenement-inf
 o-inscriptions"><div class="gski-evenement-inscriptions-periodes">Période d
 'inscription à l'evènement du jeudi 25 octobre 2018 à 11:25 au vendredi 09 
 novembre 2018 à 20:00<div class="gski-evenement-inscriptions-types-titres">
 Inscriptions ouvertes aux detenteurs des titres Fédéraux valides suivants :
  Licenciés Compétiteurs</div></div></div><div class="gski-evenement-epreuve
 s"><div class="gski-evenement-epreuves-titres">Epreuves :</div><ul class="g
 ski-evenement-epreuves-list"><li><div class="gski-epreuve-date">Le dimanche
  11 novembre 2018</div><ul class="gski-epreuve-liste-infos"><li>Codex épreu
 ve BMVF0111</li><li>Individuel</li><li>Catégorie(s) : U13 (Filles)</li></ul
 ></li><li><div class="gski-epreuve-date">Le dimanche 11 novembre 2018</div>
 <ul class="gski-epreuve-liste-infos"><li>Codex épreuve BMVF0112</li><li>Ind
 ividuel</li><li>Catégorie(s) : U15/U17 (Filles)</li></ul></li><li><div clas
 s="gski-epreuve-date">Le dimanche 11 novembre 2018</div><ul class="gski-epr
 euve-liste-infos"><li>Codex épreuve BMVF0113</li><li>Individuel</li><li>Cat
 égorie(s) : U17 a SEN (Filles)</li></ul></li><li><div class="gski-epreuve-d
 ate">Le dimanche 11 novembre 2018</div><ul class="gski-epreuve-liste-infos"
 ><li>Codex épreuve BMVM0111</li><li>Individuel</li><li>Catégorie(s) : U13 (
 Garçons)</li></ul></li><li><div class="gski-epreuve-date">Le dimanche 11 no
 vembre 2018</div><ul class="gski-epreuve-liste-infos"><li>Codex épreuve BMV
 M0112</li><li>Individuel</li><li>Catégorie(s) : U15/U17 (Garçons)</li></ul>
 </li><li><div class="gski-epreuve-date">Le dimanche 11 novembre 2018</div><
 ul class="gski-epreuve-liste-infos"><li>Codex épreuve BMVM0113</li><li>Indi
 viduel</li><li>Catégorie(s) : U17 a SEN (Garçons)</li></ul></li></ul></div>
 <div class="gskiepreuves-links"><ul><li><a href="https://skivosges.net/inde
 x.php?option=com_jevents&task=icalevent.detail&evid=1086&Itemid=1703">Voir 
 les informations dans l'agenda...</a></li><li><a href="https://skivosges.ne
 t/index.php?option=com_gskiepreuves&view=affichedeparts&format_option=tous&
 filter[search]=BMVT0110&filter[date_debut]=11-11-2018&filter[date_fin]=11-1
 1-2018&Itemid=1703">Vers la liste de départs...</a></li></ul></div></div"><
 !-- #/gskiepreuve fin du dode généré par le plugin jevents pour GskiEpreuve
 s. . Ne pas modifier cette ligne, ni tout le contenu précedant.  #/gskiepre
 uve --> <a href="https://skivosges.net/agenda/detailevenement/1091/-/credit
 -mutuel-tgl-etape-3?tmpl=component">Cet évènement a été importé depuis :htt
 ps://skivosges.net/agenda/detailevenement/1091/-/credit-mutuel-tgl-etape-3?
 tmpl=component</a>DTSTAMP:20260421T051130
DTSTART;TZID=Europe/Paris;VALUE=DATE:20181111
DTEND;TZID=Europe/Paris;VALUE=DATE:20181112
SEQUENCE:0
TRANSP:OPAQUE
END:VEVENT
END:VCALENDAR