BEGIN:VCALENDAR
VERSION:2.0
PRODID:-//jEvents 2.0 for Joomla//EN
CALSCALE:GREGORIAN
METHOD:PUBLISH
BEGIN:VTIMEZONE
TZID:Europe/Paris
BEGIN:STANDARD
DTSTART:20171228T000000
RDATE:20180325T030000
TZOFFSETFROM:+0200
TZOFFSETTO:+0100
TZNAME:Europe/Paris CET
END:STANDARD
BEGIN:STANDARD
DTSTART:20181028T020000
RDATE:20190331T030000
TZOFFSETFROM:+0200
TZOFFSETTO:+0100
TZNAME:Europe/Paris CET
END:STANDARD
BEGIN:STANDARD
DTSTART:20191027T020000
RDATE:20200329T030000
TZOFFSETFROM:+0200
TZOFFSETTO:+0100
TZNAME:Europe/Paris CET
END:STANDARD
BEGIN:STANDARD
DTSTART:20201025T020000
RDATE:20210328T030000
TZOFFSETFROM:+0200
TZOFFSETTO:+0100
TZNAME:Europe/Paris CET
END:STANDARD
BEGIN:STANDARD
DTSTART:20211031T020000
RDATE:20220327T030000
TZOFFSETFROM:+0200
TZOFFSETTO:+0100
TZNAME:Europe/Paris CET
END:STANDARD
BEGIN:STANDARD
DTSTART:20221030T020000
RDATE:20230326T030000
TZOFFSETFROM:+0200
TZOFFSETTO:+0100
TZNAME:Europe/Paris CET
END:STANDARD
BEGIN:STANDARD
DTSTART:20231029T020000
RDATE:20240331T030000
TZOFFSETFROM:+0200
TZOFFSETTO:+0100
TZNAME:Europe/Paris CET
END:STANDARD
BEGIN:STANDARD
DTSTART:20241027T020000
RDATE:20250330T030000
TZOFFSETFROM:+0200
TZOFFSETTO:+0100
TZNAME:Europe/Paris CET
END:STANDARD
BEGIN:STANDARD
DTSTART:20251026T020000
RDATE:20260329T030000
TZOFFSETFROM:+0200
TZOFFSETTO:+0100
TZNAME:Europe/Paris CET
END:STANDARD
BEGIN:STANDARD
DTSTART:20261025T020000
RDATE:20270328T030000
TZOFFSETFROM:+0200
TZOFFSETTO:+0100
TZNAME:Europe/Paris CET
END:STANDARD
BEGIN:DAYLIGHT
DTSTART:20180325T030000
RDATE:20181028T020000
TZOFFSETFROM:+0100
TZOFFSETTO:+0200
TZNAME:Europe/Paris CEST
END:DAYLIGHT
BEGIN:DAYLIGHT
DTSTART:20190331T030000
RDATE:20191027T020000
TZOFFSETFROM:+0100
TZOFFSETTO:+0200
TZNAME:Europe/Paris CEST
END:DAYLIGHT
BEGIN:DAYLIGHT
DTSTART:20200329T030000
RDATE:20201025T020000
TZOFFSETFROM:+0100
TZOFFSETTO:+0200
TZNAME:Europe/Paris CEST
END:DAYLIGHT
BEGIN:DAYLIGHT
DTSTART:20210328T030000
RDATE:20211031T020000
TZOFFSETFROM:+0100
TZOFFSETTO:+0200
TZNAME:Europe/Paris CEST
END:DAYLIGHT
BEGIN:DAYLIGHT
DTSTART:20220327T030000
RDATE:20221030T020000
TZOFFSETFROM:+0100
TZOFFSETTO:+0200
TZNAME:Europe/Paris CEST
END:DAYLIGHT
BEGIN:DAYLIGHT
DTSTART:20230326T030000
RDATE:20231029T020000
TZOFFSETFROM:+0100
TZOFFSETTO:+0200
TZNAME:Europe/Paris CEST
END:DAYLIGHT
BEGIN:DAYLIGHT
DTSTART:20240331T030000
RDATE:20241027T020000
TZOFFSETFROM:+0100
TZOFFSETTO:+0200
TZNAME:Europe/Paris CEST
END:DAYLIGHT
BEGIN:DAYLIGHT
DTSTART:20250330T030000
RDATE:20251026T020000
TZOFFSETFROM:+0100
TZOFFSETTO:+0200
TZNAME:Europe/Paris CEST
END:DAYLIGHT
BEGIN:DAYLIGHT
DTSTART:20260329T030000
RDATE:20261025T020000
TZOFFSETFROM:+0100
TZOFFSETTO:+0200
TZNAME:Europe/Paris CEST
END:DAYLIGHT
END:VTIMEZONE
BEGIN:VEVENT
UID:85eb124e0249da73cbc950d6c9f9f13f
CATEGORIES:Compétition Ski de Fond
CREATED:20181114T121858
SUMMARY:Inter Régional Fond Jura
URL;VALUE=URI:https://skivosges.net/agenda/detailevenement/1107/-/inter-regional-fond-jur
 a?tmpl=component
DESCRIPTION:Inter Régional Fond Jura\n - Codex évenement FMVT0050\n - Lieu : Bois d'Amo
 nt\n - Organisateur : Période d'inscription à l'evènement du samedi 22 déce
 mbre 2018 à 00:00 au jeudi 27 décembre 2018 à 12:00 (Inscriptions impossibl
 es).Inscriptions ouvertes aux detenteurs des titres Fédéraux valides suivan
 ts : Licenciés CompétiteursEpreuves :\n - Le samedi 29 décembre 2018\n - Co
 dex épreuve FMVF0051\n - Depart Individuel\n - Catégorie(s) : U13/U15 (Fill
 es)\n - Le samedi 29 décembre 2018\n - Codex épreuve FMVF0052\n - Depart In
 dividuel\n - Catégorie(s) : U15 a SEN (Filles)\n - Le samedi 29 décembre 20
 18\n - Codex épreuve FMVM0051\n - Depart Individuel\n - Catégorie(s) : U13/
 U15 (Garçons)\n - Le samedi 29 décembre 2018\n - Codex épreuve FMVM0052\n -
  Depart Individuel\n - Catégorie(s) : U20/SEN (Hommes)\n - Voir les informa
 tions dans l'agenda... (/index.php?option=com_jevents&amp;task=icalevent.de
 tail&amp;evid=1102&amp;Itemid=1703) Cet évènement a été importé depuis :htt
 ps://skivosges.net/agenda/detailevenement/1107/-/inter-regional-fond-jura?t
 mpl=component
X-ALT-DESC;FMTTYPE=text/html:<!-- #gskiepreuve code généré par le plugin jevents pour GskiEpreuves. Ne p
 as modifier cette ligne, ni tout le contenu suivant  #gskiepreuve --><div c
 lass="gski-evenement_infos"><div class="gski-evenement-nom">Inter Régional 
 Fond Jura</div><div class="gski-evenement-report"></div><ul class="gski-eve
 nement-liste-infos"><li>Codex évenement FMVT0050</li><li>Lieu : Bois d'Amon
 t</li><li>Organisateur : </li></ul><div class="gski-evenement-infos-2"><div
  class="gski-evenement-info-inscriptions"><div class="gski-evenement-inscri
 ptions-periodes">Période d'inscription à l'evènement du samedi 22 décembre 
 2018 à 00:00 au jeudi 27 décembre 2018 à 12:00 <span class="gski-evenement-
 inscriptions-impossibles">(Inscriptions impossibles).</span><div class="gsk
 i-evenement-inscriptions-types-titres">Inscriptions ouvertes aux detenteurs
  des titres Fédéraux valides suivants : Licenciés Compétiteurs</div></div><
 /div><div class="gski-evenement-epreuves"><div class="gski-evenement-epreuv
 es-titres">Epreuves :</div><ul class="gski-evenement-epreuves-list"><li><di
 v class="gski-epreuve-date">Le samedi 29 décembre 2018</div><ul class="gski
 -epreuve-liste-infos"><li>Codex épreuve FMVF0051</li><li>Depart Individuel<
 /li><li>Catégorie(s) : U13/U15 (Filles)</li></ul></li><li><div class="gski-
 epreuve-date">Le samedi 29 décembre 2018</div><ul class="gski-epreuve-liste
 -infos"><li>Codex épreuve FMVF0052</li><li>Depart Individuel</li><li>Catégo
 rie(s) : U15 a SEN (Filles)</li></ul></li><li><div class="gski-epreuve-date
 ">Le samedi 29 décembre 2018</div><ul class="gski-epreuve-liste-infos"><li>
 Codex épreuve FMVM0051</li><li>Depart Individuel</li><li>Catégorie(s) : U13
 /U15 (Garçons)</li></ul></li><li><div class="gski-epreuve-date">Le samedi 2
 9 décembre 2018</div><ul class="gski-epreuve-liste-infos"><li>Codex épreuve
  FMVM0052</li><li>Depart Individuel</li><li>Catégorie(s) : U20/SEN (Hommes)
 </li></ul></li></ul></div><div class="gskiepreuves-links"><ul><li><a href="
 https://skivosges.net/index.php?option=com_jevents&task=icalevent.detail&ev
 id=1102&Itemid=1703">Voir les informations dans l'agenda...</a></li></ul></
 div></div"><!-- #/gskiepreuve fin du dode généré par le plugin jevents pour
  GskiEpreuves. . Ne pas modifier cette ligne, ni tout le contenu précedant.
   #/gskiepreuve --> <a href="https://skivosges.net/agenda/detailevenement/1
 107/-/inter-regional-fond-jura?tmpl=component">Cet évènement a été importé 
 depuis :https://skivosges.net/agenda/detailevenement/1107/-/inter-regional-
 fond-jura?tmpl=component</a>DTSTAMP:20260421T050937
DTSTART;TZID=Europe/Paris;VALUE=DATE:20181229
DTEND;TZID=Europe/Paris;VALUE=DATE:20181230
SEQUENCE:0
TRANSP:OPAQUE
END:VEVENT
END:VCALENDAR