BEGIN:VCALENDAR
VERSION:2.0
PRODID:-//jEvents 2.0 for Joomla//EN
CALSCALE:GREGORIAN
METHOD:PUBLISH
BEGIN:VTIMEZONE
TZID:Europe/Paris
BEGIN:STANDARD
DTSTART:20130221T080000
RDATE:20130331T030000
TZOFFSETFROM:+0200
TZOFFSETTO:+0100
TZNAME:Europe/Paris CET
END:STANDARD
BEGIN:STANDARD
DTSTART:20131027T020000
RDATE:20140330T030000
TZOFFSETFROM:+0200
TZOFFSETTO:+0100
TZNAME:Europe/Paris CET
END:STANDARD
BEGIN:STANDARD
DTSTART:20141026T020000
RDATE:20150329T030000
TZOFFSETFROM:+0200
TZOFFSETTO:+0100
TZNAME:Europe/Paris CET
END:STANDARD
BEGIN:STANDARD
DTSTART:20151025T020000
RDATE:20160327T030000
TZOFFSETFROM:+0200
TZOFFSETTO:+0100
TZNAME:Europe/Paris CET
END:STANDARD
BEGIN:STANDARD
DTSTART:20161030T020000
RDATE:20170326T030000
TZOFFSETFROM:+0200
TZOFFSETTO:+0100
TZNAME:Europe/Paris CET
END:STANDARD
BEGIN:STANDARD
DTSTART:20171029T020000
RDATE:20180325T030000
TZOFFSETFROM:+0200
TZOFFSETTO:+0100
TZNAME:Europe/Paris CET
END:STANDARD
BEGIN:STANDARD
DTSTART:20181028T020000
RDATE:20190331T030000
TZOFFSETFROM:+0200
TZOFFSETTO:+0100
TZNAME:Europe/Paris CET
END:STANDARD
BEGIN:STANDARD
DTSTART:20191027T020000
RDATE:20200329T030000
TZOFFSETFROM:+0200
TZOFFSETTO:+0100
TZNAME:Europe/Paris CET
END:STANDARD
BEGIN:STANDARD
DTSTART:20201025T020000
RDATE:20210328T030000
TZOFFSETFROM:+0200
TZOFFSETTO:+0100
TZNAME:Europe/Paris CET
END:STANDARD
BEGIN:STANDARD
DTSTART:20211031T020000
RDATE:20220327T030000
TZOFFSETFROM:+0200
TZOFFSETTO:+0100
TZNAME:Europe/Paris CET
END:STANDARD
BEGIN:STANDARD
DTSTART:20221030T020000
RDATE:20230326T030000
TZOFFSETFROM:+0200
TZOFFSETTO:+0100
TZNAME:Europe/Paris CET
END:STANDARD
BEGIN:STANDARD
DTSTART:20231029T020000
RDATE:20240331T030000
TZOFFSETFROM:+0200
TZOFFSETTO:+0100
TZNAME:Europe/Paris CET
END:STANDARD
BEGIN:STANDARD
DTSTART:20241027T020000
RDATE:20250330T030000
TZOFFSETFROM:+0200
TZOFFSETTO:+0100
TZNAME:Europe/Paris CET
END:STANDARD
BEGIN:STANDARD
DTSTART:20251026T020000
RDATE:20260329T030000
TZOFFSETFROM:+0200
TZOFFSETTO:+0100
TZNAME:Europe/Paris CET
END:STANDARD
BEGIN:STANDARD
DTSTART:20261025T020000
RDATE:20270328T030000
TZOFFSETFROM:+0200
TZOFFSETTO:+0100
TZNAME:Europe/Paris CET
END:STANDARD
BEGIN:DAYLIGHT
DTSTART:20130331T030000
RDATE:20131027T020000
TZOFFSETFROM:+0100
TZOFFSETTO:+0200
TZNAME:Europe/Paris CEST
END:DAYLIGHT
BEGIN:DAYLIGHT
DTSTART:20140330T030000
RDATE:20141026T020000
TZOFFSETFROM:+0100
TZOFFSETTO:+0200
TZNAME:Europe/Paris CEST
END:DAYLIGHT
BEGIN:DAYLIGHT
DTSTART:20150329T030000
RDATE:20151025T020000
TZOFFSETFROM:+0100
TZOFFSETTO:+0200
TZNAME:Europe/Paris CEST
END:DAYLIGHT
BEGIN:DAYLIGHT
DTSTART:20160327T030000
RDATE:20161030T020000
TZOFFSETFROM:+0100
TZOFFSETTO:+0200
TZNAME:Europe/Paris CEST
END:DAYLIGHT
BEGIN:DAYLIGHT
DTSTART:20170326T030000
RDATE:20171029T020000
TZOFFSETFROM:+0100
TZOFFSETTO:+0200
TZNAME:Europe/Paris CEST
END:DAYLIGHT
BEGIN:DAYLIGHT
DTSTART:20180325T030000
RDATE:20181028T020000
TZOFFSETFROM:+0100
TZOFFSETTO:+0200
TZNAME:Europe/Paris CEST
END:DAYLIGHT
BEGIN:DAYLIGHT
DTSTART:20190331T030000
RDATE:20191027T020000
TZOFFSETFROM:+0100
TZOFFSETTO:+0200
TZNAME:Europe/Paris CEST
END:DAYLIGHT
BEGIN:DAYLIGHT
DTSTART:20200329T030000
RDATE:20201025T020000
TZOFFSETFROM:+0100
TZOFFSETTO:+0200
TZNAME:Europe/Paris CEST
END:DAYLIGHT
BEGIN:DAYLIGHT
DTSTART:20210328T030000
RDATE:20211031T020000
TZOFFSETFROM:+0100
TZOFFSETTO:+0200
TZNAME:Europe/Paris CEST
END:DAYLIGHT
BEGIN:DAYLIGHT
DTSTART:20220327T030000
RDATE:20221030T020000
TZOFFSETFROM:+0100
TZOFFSETTO:+0200
TZNAME:Europe/Paris CEST
END:DAYLIGHT
BEGIN:DAYLIGHT
DTSTART:20230326T030000
RDATE:20231029T020000
TZOFFSETFROM:+0100
TZOFFSETTO:+0200
TZNAME:Europe/Paris CEST
END:DAYLIGHT
BEGIN:DAYLIGHT
DTSTART:20240331T030000
RDATE:20241027T020000
TZOFFSETFROM:+0100
TZOFFSETTO:+0200
TZNAME:Europe/Paris CEST
END:DAYLIGHT
BEGIN:DAYLIGHT
DTSTART:20250330T030000
RDATE:20251026T020000
TZOFFSETFROM:+0100
TZOFFSETTO:+0200
TZNAME:Europe/Paris CEST
END:DAYLIGHT
BEGIN:DAYLIGHT
DTSTART:20260329T030000
RDATE:20261025T020000
TZOFFSETFROM:+0100
TZOFFSETTO:+0200
TZNAME:Europe/Paris CEST
END:DAYLIGHT
END:VTIMEZONE
BEGIN:VEVENT
UID:d181e004a9a748ee9026efe37cc16e3e
CATEGORIES:Circuit Lorraine Jeunes (alpin)
CREATED:20131203T122100
SUMMARY:CLJ U10 à U14 Prix du Crédit Mutuel / Cpe de Bronze
URL;VALUE=URI:https://skivosges.net/agenda/detailevenement/146/-/clj-u10-a-u14-prix-du-cr
 edit-mutuel-cpe-de-bronze?tmpl=component
DESCRIPTION:<strong>CLJ U10 à U14 Prix du Crédit Mutuel / Cpe de Bronze</strong> <br />
 <i>(Coupe de Lorraine Jeunes)</i><br /><br />Lieu : GERARDMER <br />Piste :
  TETRA<br />Organisateur : GERARDMER SKI ALPIN  <small>(14089 GERARDMER SKI
  ALPIN)</small><br />Email : <!-- Cette adresse électronique est protégée c
 ontre les robots spammeurs. --><span class="cloaked_email ep_5e97dd04"><spa
 n data-ep-b="&#101;.&#102;r" data-ep-a="g&#101;&#114;&#97;&#114;"><span dat
 a-ep-a="&#100;&#109;e&#114;&#45;" data-ep-b="o&#114;&#97;&#110;&#103;"><spa
 n data-ep-a="s&#107;i&#45;&#97;" data-ep-b="&#108;p&#105;&#110;&#64;"></spa
 n></span></span></span><script>RegularLabs.EmailProtector.unCloak("ep_5e97d
 d04");</script><br />Telecopie : 03 29 60 98 04<br />Telecopie : 03 29 60 9
 8 04<br /><br />Inscriptions closes, les listes de départ sont visualisable
 s sur ce site<ul type="disc"><li>AMVF0601  Slalom <nobr><i>(Coupe de Bronze
 )</i></nobr> <nobr>U10</nobr> Filles<br />&nbsp;&nbsp;CLJ U10 à U14 Prix du
  Crédit Mutuel / Cpe de Bronze</li><li>AMVM0601  Slalom <nobr><i>(Coupe de 
 Bronze)</i></nobr> <nobr>U10</nobr> Garçons<br />&nbsp;&nbsp;CLJ U10 à U14 
 Prix du Crédit Mutuel / Cpe de Bronze</li><li>AMVF0602  Slalom <nobr><i>(Co
 upe de Bronze)</i></nobr> <nobr>de 10 a 13ans au 31/12/2012 (Pou/Ben)</nobr
 > Filles<br />&nbsp;&nbsp;CLJ U10 à U14 Prix du Crédit Mutuel / Cpe de Bron
 ze</li><li>AMVM0602  Slalom <nobr><i>(Coupe de Bronze)</i></nobr> <nobr>de 
 10 a 13ans au 31/12/2012 (Pou/Ben)</nobr> Garçons<br />&nbsp;&nbsp;CLJ U10 
 à U14 Prix du Crédit Mutuel / Cpe de Bronze</li></ul> <a href="https://skiv
 osges.net/agenda/detailevenement/146/-/clj-u10-a-u14-prix-du-credit-mutuel-
 cpe-de-bronze?tmpl=component">Cet évènement a été importé depuis :https://s
 kivosges.net/agenda/detailevenement/146/-/clj-u10-a-u14-prix-du-credit-mutu
 el-cpe-de-bronze?tmpl=component</a>DTSTAMP:20260421T015605
DTSTART;TZID=Europe/Paris:20140222T080000
DTEND;TZID=Europe/Paris:20140222T170000
SEQUENCE:0
TRANSP:OPAQUE
END:VEVENT
END:VCALENDAR