BEGIN:VCALENDAR
VERSION:2.0
PRODID:-//jEvents 2.0 for Joomla//EN
CALSCALE:GREGORIAN
METHOD:PUBLISH
BEGIN:VTIMEZONE
TZID:Europe/Paris
BEGIN:STANDARD
DTSTART:20200117T000000
RDATE:20200329T030000
TZOFFSETFROM:+0200
TZOFFSETTO:+0100
TZNAME:Europe/Paris CET
END:STANDARD
BEGIN:STANDARD
DTSTART:20201025T020000
RDATE:20210328T030000
TZOFFSETFROM:+0200
TZOFFSETTO:+0100
TZNAME:Europe/Paris CET
END:STANDARD
BEGIN:STANDARD
DTSTART:20211031T020000
RDATE:20220327T030000
TZOFFSETFROM:+0200
TZOFFSETTO:+0100
TZNAME:Europe/Paris CET
END:STANDARD
BEGIN:STANDARD
DTSTART:20221030T020000
RDATE:20230326T030000
TZOFFSETFROM:+0200
TZOFFSETTO:+0100
TZNAME:Europe/Paris CET
END:STANDARD
BEGIN:STANDARD
DTSTART:20231029T020000
RDATE:20240331T030000
TZOFFSETFROM:+0200
TZOFFSETTO:+0100
TZNAME:Europe/Paris CET
END:STANDARD
BEGIN:STANDARD
DTSTART:20241027T020000
RDATE:20250330T030000
TZOFFSETFROM:+0200
TZOFFSETTO:+0100
TZNAME:Europe/Paris CET
END:STANDARD
BEGIN:STANDARD
DTSTART:20251026T020000
RDATE:20260329T030000
TZOFFSETFROM:+0200
TZOFFSETTO:+0100
TZNAME:Europe/Paris CET
END:STANDARD
BEGIN:STANDARD
DTSTART:20261025T020000
RDATE:20270328T030000
TZOFFSETFROM:+0200
TZOFFSETTO:+0100
TZNAME:Europe/Paris CET
END:STANDARD
BEGIN:DAYLIGHT
DTSTART:20200329T030000
RDATE:20201025T020000
TZOFFSETFROM:+0100
TZOFFSETTO:+0200
TZNAME:Europe/Paris CEST
END:DAYLIGHT
BEGIN:DAYLIGHT
DTSTART:20210328T030000
RDATE:20211031T020000
TZOFFSETFROM:+0100
TZOFFSETTO:+0200
TZNAME:Europe/Paris CEST
END:DAYLIGHT
BEGIN:DAYLIGHT
DTSTART:20220327T030000
RDATE:20221030T020000
TZOFFSETFROM:+0100
TZOFFSETTO:+0200
TZNAME:Europe/Paris CEST
END:DAYLIGHT
BEGIN:DAYLIGHT
DTSTART:20230326T030000
RDATE:20231029T020000
TZOFFSETFROM:+0100
TZOFFSETTO:+0200
TZNAME:Europe/Paris CEST
END:DAYLIGHT
BEGIN:DAYLIGHT
DTSTART:20240331T030000
RDATE:20241027T020000
TZOFFSETFROM:+0100
TZOFFSETTO:+0200
TZNAME:Europe/Paris CEST
END:DAYLIGHT
BEGIN:DAYLIGHT
DTSTART:20250330T030000
RDATE:20251026T020000
TZOFFSETFROM:+0100
TZOFFSETTO:+0200
TZNAME:Europe/Paris CEST
END:DAYLIGHT
BEGIN:DAYLIGHT
DTSTART:20260329T030000
RDATE:20261025T020000
TZOFFSETFROM:+0100
TZOFFSETTO:+0200
TZNAME:Europe/Paris CEST
END:DAYLIGHT
END:VTIMEZONE
BEGIN:VEVENT
UID:7ec61eeccb279485e792256e88c84e0e
CATEGORIES:Circuit Massif Jeunes (alpin)
CREATED:20201221T154301
SUMMARY:CJM MICRO COUPE MASSIF Prix France Literie **REPORTE**
URL;VALUE=URI:https://skivosges.net/agenda/detailevenement/1563/-/cjm-micro-coupe-massif-
 prix-france-literie-reporte?tmpl=component
DESCRIPTION:<!-- #gskiepreuve code généré par le plugin jevents pour GskiEpreuves. Ne p
 as modifier cette ligne, ni tout le contenu suivant  #gskiepreuve --><div c
 lass="gski-evenement_infos"><div class="gski-evenement-nom">CJM MICRO COUPE
  MASSIF Prix France Literie</div><div class="gski-evenement-report"> <font 
 class="gskiattention">(Epreuve reportée, date à determiner)</font></div><ul
  class="gski-evenement-liste-infos"><li>Codex évenement AMVT0190</li><li>St
 ation : CHAMP DU FEU</li><li>Organisateur : 14071 A.S DES CHEMINOTS STRASBO
 URG</li><li>Courriel : <!-- Cette adresse électronique est protégée contre 
 les robots spammeurs. --><span class="cloaked_email ep_5dc85b08"><span data
 -ep-a="es&#116;&#101;&#108;" data-ep-b="&#101;&#116;"><span data-ep-a="&#10
 8;&#101;&#46;&#98;&#114;" data-ep-b="&#115;&#116;&#101;.&#110;"><span data-
 ep-a="&#105;&#103;non" data-ep-b="&#64;&#108;&#97;&#112;&#111;"></span></sp
 an></span></span><script>RegularLabs.EmailProtector.unCloak("ep_5dc85b08");
 </script></li><li>Téléphone : 03 88 97 74 30</li><li><span class="gski-even
 ement-obs">Délégué Technique : WIES CHRISTOPHE</span></li></ul><div class="
 gski-evenement-infos-2"><div class="gski-evenement-info-inscriptions"><div 
 class="gski-evenement-inscriptions-periodes">Période d'inscription à l'evèn
 ement du dimanche 10 janvier 2021 à 00:00 au vendredi 15 janvier 2021 à 12:
 00 <span class="gski-evenement-inscriptions-impossibles">(Inscriptions impo
 ssibles).</span><div class="gski-evenement-inscriptions-types-titres">Inscr
 iptions ouvertes aux detenteurs des titres Fédéraux valides suivants : Lice
 nciés Compétiteurs</div></div></div><div class="gskiepreuves-links"><ul><li
 ><a href="/index.php?option=com_jevents&task=icalevent.detail&evid=1558&Ite
 mid=1703">Voir les informations dans l'agenda...</a></li></ul></div><div cl
 ass="gski-evenement-epreuves"><div class="gski-evenement-epreuves-titres">E
 preuves :</div><ul class="gski-evenement-epreuves-list"><li><div class="gsk
 i-epreuve-date">Le dimanche 17 janvier 2021</div><ul class="gski-epreuve-li
 ste-infos"><li>Codex épreuve AMVM0191</li><li>Combine Race</li><li>Catégori
 e(s) : U8/U10 (Garçons)</li></ul></li><li><div class="gski-epreuve-date">Le
  dimanche 17 janvier 2021</div><ul class="gski-epreuve-liste-infos"><li>Cod
 ex épreuve AMVF0191</li><li>Combine Race</li><li>Catégorie(s) : U8/U10 (Fil
 les)</li></ul></li></ul></div><div class="gskiepreuves-links"><ul><li><a hr
 ef="/index.php?option=com_jevents&task=icalevent.detail&evid=1558&Itemid=17
 03">Voir les informations dans l'agenda...</a></li></ul></div></div"><!-- #
 /gskiepreuve fin du dode généré par le plugin jevents pour GskiEpreuves. . 
 Ne pas modifier cette ligne, ni tout le contenu précedant.  #/gskiepreuve -
 -> <a href="https://skivosges.net/agenda/detailevenement/1563/-/cjm-micro-c
 oupe-massif-prix-france-literie-reporte?tmpl=component">Cet évènement a été
  importé depuis :https://skivosges.net/agenda/detailevenement/1563/-/cjm-mi
 cro-coupe-massif-prix-france-literie-reporte?tmpl=component</a>
X-ALT-DESC;FMTTYPE=text/html:<!-- #gskiepreuve code généré par le plugin jevents pour GskiEpreuves. Ne p
 as modifier cette ligne, ni tout le contenu suivant  #gskiepreuve --><div c
 lass="gski-evenement_infos"><div class="gski-evenement-nom">CJM MICRO COUPE
  MASSIF Prix France Literie</div><div class="gski-evenement-report"> <font 
 class="gskiattention">(Epreuve reportée, date à determiner)</font></div><ul
  class="gski-evenement-liste-infos"><li>Codex évenement AMVT0190</li><li>St
 ation : CHAMP DU FEU</li><li>Organisateur : 14071 A.S DES CHEMINOTS STRASBO
 URG</li><li>Courriel : <!-- Cette adresse électronique est protégée contre 
 les robots spammeurs. --><span class="cloaked_email ep_5dc85b08"><span data
 -ep-a="es&#116;&#101;&#108;" data-ep-b="&#101;&#116;"><span data-ep-a="&#10
 8;&#101;&#46;&#98;&#114;" data-ep-b="&#115;&#116;&#101;.&#110;"><span data-
 ep-a="&#105;&#103;non" data-ep-b="&#64;&#108;&#97;&#112;&#111;"></span></sp
 an></span></span><script>RegularLabs.EmailProtector.unCloak("ep_5dc85b08");
 </script></li><li>Téléphone : 03 88 97 74 30</li><li><span class="gski-even
 ement-obs">Délégué Technique : WIES CHRISTOPHE</span></li></ul><div class="
 gski-evenement-infos-2"><div class="gski-evenement-info-inscriptions"><div 
 class="gski-evenement-inscriptions-periodes">Période d'inscription à l'evèn
 ement du dimanche 10 janvier 2021 à 00:00 au vendredi 15 janvier 2021 à 12:
 00 <span class="gski-evenement-inscriptions-impossibles">(Inscriptions impo
 ssibles).</span><div class="gski-evenement-inscriptions-types-titres">Inscr
 iptions ouvertes aux detenteurs des titres Fédéraux valides suivants : Lice
 nciés Compétiteurs</div></div></div><div class="gskiepreuves-links"><ul><li
 ><a href="https://skivosges.net/index.php?option=com_jevents&task=icalevent
 .detail&evid=1558&Itemid=1703">Voir les informations dans l'agenda...</a></
 li></ul></div><div class="gski-evenement-epreuves"><div class="gski-eveneme
 nt-epreuves-titres">Epreuves :</div><ul class="gski-evenement-epreuves-list
 "><li><div class="gski-epreuve-date">Le dimanche 17 janvier 2021</div><ul c
 lass="gski-epreuve-liste-infos"><li>Codex épreuve AMVM0191</li><li>Combine 
 Race</li><li>Catégorie(s) : U8/U10 (Garçons)</li></ul></li><li><div class="
 gski-epreuve-date">Le dimanche 17 janvier 2021</div><ul class="gski-epreuve
 -liste-infos"><li>Codex épreuve AMVF0191</li><li>Combine Race</li><li>Catég
 orie(s) : U8/U10 (Filles)</li></ul></li></ul></div><div class="gskiepreuves
 -links"><ul><li><a href="https://skivosges.net/index.php?option=com_jevents
 &task=icalevent.detail&evid=1558&Itemid=1703">Voir les informations dans l'
 agenda...</a></li></ul></div></div"><!-- #/gskiepreuve fin du dode généré p
 ar le plugin jevents pour GskiEpreuves. . Ne pas modifier cette ligne, ni t
 out le contenu précedant.  #/gskiepreuve --> <a href="https://skivosges.net
 /agenda/detailevenement/1563/-/cjm-micro-coupe-massif-prix-france-literie-r
 eporte?tmpl=component">Cet évènement a été importé depuis :https://skivosge
 s.net/agenda/detailevenement/1563/-/cjm-micro-coupe-massif-prix-france-lite
 rie-reporte?tmpl=component</a>DTSTAMP:20260420T112750
DTSTART;TZID=Europe/Paris;VALUE=DATE:20210117
DTEND;TZID=Europe/Paris;VALUE=DATE:20210118
SEQUENCE:0
TRANSP:OPAQUE
END:VEVENT
END:VCALENDAR