BEGIN:VCALENDAR
VERSION:2.0
PRODID:-//jEvents 2.0 for Joomla//EN
CALSCALE:GREGORIAN
METHOD:PUBLISH
BEGIN:VTIMEZONE
TZID:Europe/Paris
BEGIN:STANDARD
DTSTART:20200117T000000
RDATE:20200329T030000
TZOFFSETFROM:+0200
TZOFFSETTO:+0100
TZNAME:Europe/Paris CET
END:STANDARD
BEGIN:STANDARD
DTSTART:20201025T020000
RDATE:20210328T030000
TZOFFSETFROM:+0200
TZOFFSETTO:+0100
TZNAME:Europe/Paris CET
END:STANDARD
BEGIN:STANDARD
DTSTART:20211031T020000
RDATE:20220327T030000
TZOFFSETFROM:+0200
TZOFFSETTO:+0100
TZNAME:Europe/Paris CET
END:STANDARD
BEGIN:STANDARD
DTSTART:20221030T020000
RDATE:20230326T030000
TZOFFSETFROM:+0200
TZOFFSETTO:+0100
TZNAME:Europe/Paris CET
END:STANDARD
BEGIN:STANDARD
DTSTART:20231029T020000
RDATE:20240331T030000
TZOFFSETFROM:+0200
TZOFFSETTO:+0100
TZNAME:Europe/Paris CET
END:STANDARD
BEGIN:STANDARD
DTSTART:20241027T020000
RDATE:20250330T030000
TZOFFSETFROM:+0200
TZOFFSETTO:+0100
TZNAME:Europe/Paris CET
END:STANDARD
BEGIN:STANDARD
DTSTART:20251026T020000
RDATE:20260329T030000
TZOFFSETFROM:+0200
TZOFFSETTO:+0100
TZNAME:Europe/Paris CET
END:STANDARD
BEGIN:STANDARD
DTSTART:20261025T020000
RDATE:20270328T030000
TZOFFSETFROM:+0200
TZOFFSETTO:+0100
TZNAME:Europe/Paris CET
END:STANDARD
BEGIN:DAYLIGHT
DTSTART:20200329T030000
RDATE:20201025T020000
TZOFFSETFROM:+0100
TZOFFSETTO:+0200
TZNAME:Europe/Paris CEST
END:DAYLIGHT
BEGIN:DAYLIGHT
DTSTART:20210328T030000
RDATE:20211031T020000
TZOFFSETFROM:+0100
TZOFFSETTO:+0200
TZNAME:Europe/Paris CEST
END:DAYLIGHT
BEGIN:DAYLIGHT
DTSTART:20220327T030000
RDATE:20221030T020000
TZOFFSETFROM:+0100
TZOFFSETTO:+0200
TZNAME:Europe/Paris CEST
END:DAYLIGHT
BEGIN:DAYLIGHT
DTSTART:20230326T030000
RDATE:20231029T020000
TZOFFSETFROM:+0100
TZOFFSETTO:+0200
TZNAME:Europe/Paris CEST
END:DAYLIGHT
BEGIN:DAYLIGHT
DTSTART:20240331T030000
RDATE:20241027T020000
TZOFFSETFROM:+0100
TZOFFSETTO:+0200
TZNAME:Europe/Paris CEST
END:DAYLIGHT
BEGIN:DAYLIGHT
DTSTART:20250330T030000
RDATE:20251026T020000
TZOFFSETFROM:+0100
TZOFFSETTO:+0200
TZNAME:Europe/Paris CEST
END:DAYLIGHT
BEGIN:DAYLIGHT
DTSTART:20260329T030000
RDATE:20261025T020000
TZOFFSETFROM:+0100
TZOFFSETTO:+0200
TZNAME:Europe/Paris CEST
END:DAYLIGHT
END:VTIMEZONE
BEGIN:VEVENT
UID:2e06952cda9d244a4b4ee4946c8ad687
CATEGORIES:Circuit Massif Jeunes (alpin)
CREATED:20201221T154307
SUMMARY:CJM Coupe d'Argent U16 Hôtel des Reflets du lac Gérardmer **REPORTE**
URL;VALUE=URI:https://skivosges.net/agenda/detailevenement/1565/-/cjm-coupe-dargent-u16-h
 otel-des-reflets-du-lac-gerardmer-reporte?tmpl=component
DESCRIPTION:CJM Coupe d'Argent U16 Hôtel des Reflets du lac Gérardmer (Epreuve reportée
 , date à determiner)\n - Codex évenement AMVT0180\n - Station : GERARDMER\n
  - Organisateur : 14089 GERARDMER SKI ALPIN\n - Courriel : RegularLabs.Emai
 lProtector.unCloak("ep_85ac797f");\n - Téléphone : 03 29 60 98 04\n - Délég
 ué Technique : KOENIG DANIELPériode d'inscription à l'evènement du dimanche
  10 janvier 2021 à 00:00 au vendredi 15 janvier 2021 à 12:00 (Inscriptions 
 impossibles).Inscriptions ouvertes aux detenteurs des titres Fédéraux valid
 es suivants : Licenciés Compétiteurs\n - Voir les informations dans l'agend
 a... (/index.php?option=com_jevents&amp;task=icalevent.detail&amp;evid=1560
 &amp;Itemid=1703)Epreuves :\n - Le dimanche 17 janvier 2021\n - Codex épreu
 ve AMVM0181\n - Slalom Geant\n - Catégorie(s) : U16 (Garçons)\n - Le dimanc
 he 17 janvier 2021\n - Codex épreuve AMVF0181\n - Slalom Geant\n - Catégori
 e(s) : U16 (Filles)\n - Voir les informations dans l'agenda... (/index.php?
 option=com_jevents&amp;task=icalevent.detail&amp;evid=1560&amp;Itemid=1703)
  Cet évènement a été importé depuis :https://skivosges.net/agenda/detaileve
 nement/1565/-/cjm-coupe-dargent-u16-hotel-des-reflets-du-lac-gerardmer-repo
 rte?tmpl=component
X-ALT-DESC;FMTTYPE=text/html:<!-- #gskiepreuve code généré par le plugin jevents pour GskiEpreuves. Ne p
 as modifier cette ligne, ni tout le contenu suivant  #gskiepreuve --><div c
 lass="gski-evenement_infos"><div class="gski-evenement-nom">CJM Coupe d'Arg
 ent U16 Hôtel des Reflets du lac Gérardmer</div><div class="gski-evenement-
 report"> <font class="gskiattention">(Epreuve reportée, date à determiner)<
 /font></div><ul class="gski-evenement-liste-infos"><li>Codex évenement AMVT
 0180</li><li>Station : GERARDMER</li><li>Organisateur : 14089 GERARDMER SKI
  ALPIN</li><li>Courriel : <!-- Cette adresse électronique est protégée cont
 re les robots spammeurs. --><span class="cloaked_email ep_85ac797f"><span d
 ata-ep-b="&#101;&#46;&#102;r" data-ep-a="&#103;&#101;&#114;&#97;&#114;"><sp
 an data-ep-a="&#100;&#109;&#101;r&#45;" data-ep-b="or&#97;&#110;&#103;"><sp
 an data-ep-b="&#108;&#112;&#105;&#110;&#64;" data-ep-a="&#115;&#107;i&#45;a
 "></span></span></span></span><script>RegularLabs.EmailProtector.unCloak("e
 p_85ac797f");</script></li><li>Téléphone : 03 29 60 98 04</li><li><span cla
 ss="gski-evenement-obs">Délégué Technique : KOENIG DANIEL</span></li></ul><
 div class="gski-evenement-infos-2"><div class="gski-evenement-info-inscript
 ions"><div class="gski-evenement-inscriptions-periodes">Période d'inscripti
 on à l'evènement du dimanche 10 janvier 2021 à 00:00 au vendredi 15 janvier
  2021 à 12:00 <span class="gski-evenement-inscriptions-impossibles">(Inscri
 ptions impossibles).</span><div class="gski-evenement-inscriptions-types-ti
 tres">Inscriptions ouvertes aux detenteurs des titres Fédéraux valides suiv
 ants : Licenciés Compétiteurs</div></div></div><div class="gskiepreuves-lin
 ks"><ul><li><a href="https://skivosges.net/index.php?option=com_jevents&tas
 k=icalevent.detail&evid=1560&Itemid=1703">Voir les informations dans l'agen
 da...</a></li></ul></div><div class="gski-evenement-epreuves"><div class="g
 ski-evenement-epreuves-titres">Epreuves :</div><ul class="gski-evenement-ep
 reuves-list"><li><div class="gski-epreuve-date">Le dimanche 17 janvier 2021
 </div><ul class="gski-epreuve-liste-infos"><li>Codex épreuve AMVM0181</li><
 li>Slalom Geant</li><li>Catégorie(s) : U16 (Garçons)</li></ul></li><li><div
  class="gski-epreuve-date">Le dimanche 17 janvier 2021</div><ul class="gski
 -epreuve-liste-infos"><li>Codex épreuve AMVF0181</li><li>Slalom Geant</li><
 li>Catégorie(s) : U16 (Filles)</li></ul></li></ul></div><div class="gskiepr
 euves-links"><ul><li><a href="https://skivosges.net/index.php?option=com_je
 vents&task=icalevent.detail&evid=1560&Itemid=1703">Voir les informations da
 ns l'agenda...</a></li></ul></div></div"><!-- #/gskiepreuve fin du dode gén
 éré par le plugin jevents pour GskiEpreuves. . Ne pas modifier cette ligne,
  ni tout le contenu précedant.  #/gskiepreuve --> <a href="https://skivosge
 s.net/agenda/detailevenement/1565/-/cjm-coupe-dargent-u16-hotel-des-reflets
 -du-lac-gerardmer-reporte?tmpl=component">Cet évènement a été importé depui
 s :https://skivosges.net/agenda/detailevenement/1565/-/cjm-coupe-dargent-u1
 6-hotel-des-reflets-du-lac-gerardmer-reporte?tmpl=component</a>DTSTAMP:20260420T112115
DTSTART;TZID=Europe/Paris;VALUE=DATE:20210117
DTEND;TZID=Europe/Paris;VALUE=DATE:20210118
SEQUENCE:0
TRANSP:OPAQUE
END:VEVENT
END:VCALENDAR