BEGIN:VCALENDAR
VERSION:2.0
PRODID:-//jEvents 2.0 for Joomla//EN
CALSCALE:GREGORIAN
METHOD:PUBLISH
BEGIN:VTIMEZONE
TZID:Europe/Paris
BEGIN:STANDARD
DTSTART:20130301T080000
RDATE:20130331T030000
TZOFFSETFROM:+0200
TZOFFSETTO:+0100
TZNAME:Europe/Paris CET
END:STANDARD
BEGIN:STANDARD
DTSTART:20131027T020000
RDATE:20140330T030000
TZOFFSETFROM:+0200
TZOFFSETTO:+0100
TZNAME:Europe/Paris CET
END:STANDARD
BEGIN:STANDARD
DTSTART:20141026T020000
RDATE:20150329T030000
TZOFFSETFROM:+0200
TZOFFSETTO:+0100
TZNAME:Europe/Paris CET
END:STANDARD
BEGIN:STANDARD
DTSTART:20151025T020000
RDATE:20160327T030000
TZOFFSETFROM:+0200
TZOFFSETTO:+0100
TZNAME:Europe/Paris CET
END:STANDARD
BEGIN:STANDARD
DTSTART:20161030T020000
RDATE:20170326T030000
TZOFFSETFROM:+0200
TZOFFSETTO:+0100
TZNAME:Europe/Paris CET
END:STANDARD
BEGIN:STANDARD
DTSTART:20171029T020000
RDATE:20180325T030000
TZOFFSETFROM:+0200
TZOFFSETTO:+0100
TZNAME:Europe/Paris CET
END:STANDARD
BEGIN:STANDARD
DTSTART:20181028T020000
RDATE:20190331T030000
TZOFFSETFROM:+0200
TZOFFSETTO:+0100
TZNAME:Europe/Paris CET
END:STANDARD
BEGIN:STANDARD
DTSTART:20191027T020000
RDATE:20200329T030000
TZOFFSETFROM:+0200
TZOFFSETTO:+0100
TZNAME:Europe/Paris CET
END:STANDARD
BEGIN:STANDARD
DTSTART:20201025T020000
RDATE:20210328T030000
TZOFFSETFROM:+0200
TZOFFSETTO:+0100
TZNAME:Europe/Paris CET
END:STANDARD
BEGIN:STANDARD
DTSTART:20211031T020000
RDATE:20220327T030000
TZOFFSETFROM:+0200
TZOFFSETTO:+0100
TZNAME:Europe/Paris CET
END:STANDARD
BEGIN:STANDARD
DTSTART:20221030T020000
RDATE:20230326T030000
TZOFFSETFROM:+0200
TZOFFSETTO:+0100
TZNAME:Europe/Paris CET
END:STANDARD
BEGIN:STANDARD
DTSTART:20231029T020000
RDATE:20240331T030000
TZOFFSETFROM:+0200
TZOFFSETTO:+0100
TZNAME:Europe/Paris CET
END:STANDARD
BEGIN:STANDARD
DTSTART:20241027T020000
RDATE:20250330T030000
TZOFFSETFROM:+0200
TZOFFSETTO:+0100
TZNAME:Europe/Paris CET
END:STANDARD
BEGIN:STANDARD
DTSTART:20251026T020000
RDATE:20260329T030000
TZOFFSETFROM:+0200
TZOFFSETTO:+0100
TZNAME:Europe/Paris CET
END:STANDARD
BEGIN:STANDARD
DTSTART:20261025T020000
RDATE:20270328T030000
TZOFFSETFROM:+0200
TZOFFSETTO:+0100
TZNAME:Europe/Paris CET
END:STANDARD
BEGIN:DAYLIGHT
DTSTART:20130331T030000
RDATE:20131027T020000
TZOFFSETFROM:+0100
TZOFFSETTO:+0200
TZNAME:Europe/Paris CEST
END:DAYLIGHT
BEGIN:DAYLIGHT
DTSTART:20140330T030000
RDATE:20141026T020000
TZOFFSETFROM:+0100
TZOFFSETTO:+0200
TZNAME:Europe/Paris CEST
END:DAYLIGHT
BEGIN:DAYLIGHT
DTSTART:20150329T030000
RDATE:20151025T020000
TZOFFSETFROM:+0100
TZOFFSETTO:+0200
TZNAME:Europe/Paris CEST
END:DAYLIGHT
BEGIN:DAYLIGHT
DTSTART:20160327T030000
RDATE:20161030T020000
TZOFFSETFROM:+0100
TZOFFSETTO:+0200
TZNAME:Europe/Paris CEST
END:DAYLIGHT
BEGIN:DAYLIGHT
DTSTART:20170326T030000
RDATE:20171029T020000
TZOFFSETFROM:+0100
TZOFFSETTO:+0200
TZNAME:Europe/Paris CEST
END:DAYLIGHT
BEGIN:DAYLIGHT
DTSTART:20180325T030000
RDATE:20181028T020000
TZOFFSETFROM:+0100
TZOFFSETTO:+0200
TZNAME:Europe/Paris CEST
END:DAYLIGHT
BEGIN:DAYLIGHT
DTSTART:20190331T030000
RDATE:20191027T020000
TZOFFSETFROM:+0100
TZOFFSETTO:+0200
TZNAME:Europe/Paris CEST
END:DAYLIGHT
BEGIN:DAYLIGHT
DTSTART:20200329T030000
RDATE:20201025T020000
TZOFFSETFROM:+0100
TZOFFSETTO:+0200
TZNAME:Europe/Paris CEST
END:DAYLIGHT
BEGIN:DAYLIGHT
DTSTART:20210328T030000
RDATE:20211031T020000
TZOFFSETFROM:+0100
TZOFFSETTO:+0200
TZNAME:Europe/Paris CEST
END:DAYLIGHT
BEGIN:DAYLIGHT
DTSTART:20220327T030000
RDATE:20221030T020000
TZOFFSETFROM:+0100
TZOFFSETTO:+0200
TZNAME:Europe/Paris CEST
END:DAYLIGHT
BEGIN:DAYLIGHT
DTSTART:20230326T030000
RDATE:20231029T020000
TZOFFSETFROM:+0100
TZOFFSETTO:+0200
TZNAME:Europe/Paris CEST
END:DAYLIGHT
BEGIN:DAYLIGHT
DTSTART:20240331T030000
RDATE:20241027T020000
TZOFFSETFROM:+0100
TZOFFSETTO:+0200
TZNAME:Europe/Paris CEST
END:DAYLIGHT
BEGIN:DAYLIGHT
DTSTART:20250330T030000
RDATE:20251026T020000
TZOFFSETFROM:+0100
TZOFFSETTO:+0200
TZNAME:Europe/Paris CEST
END:DAYLIGHT
BEGIN:DAYLIGHT
DTSTART:20260329T030000
RDATE:20261025T020000
TZOFFSETFROM:+0100
TZOFFSETTO:+0200
TZNAME:Europe/Paris CEST
END:DAYLIGHT
END:VTIMEZONE
BEGIN:VEVENT
UID:25439d6d3866e95b254589a7f5b5170f
CATEGORIES:Opens et Promos (alpin)
CREATED:20131203T122100
SUMMARY:OPEN J     Open des Téléskis du Champ du Feu **REPORTE**
URL;VALUE=URI:https://skivosges.net/agenda/detailevenement/161/-/open-j-open-des-teleskis
 -du-champ-du-feu-reporte?tmpl=component
DESCRIPTION:OPEN J     Open des Téléskis du Champ du Feu (Epreuve reportée, date à dete
 rminer)\n\nLieu : CHAMP DU FEU \nOrganisateur : A.S DES CHEMINOTS STRASBOUR
 G  (14071 A.S DES CHEMINOTS STRASBOURG)\nEmail : RegularLabs.EmailProtector
 .unCloak("ep_5c8dff9d");\n - AMVF0661  Slalom Geant U8+U10 Filles\n  OPEN J
      Open des Téléskis du Champ du Feu\n - AMVM0661  Slalom Geant U8+U10 Ga
 rçons\n  OPEN J     Open des Téléskis du Champ du Feu\n - AMVF0662  Slalom 
 Geant de 10 a 13ans au 31/12/2012 (Pou/Ben) Filles\n  OPEN J     Open des T
 éléskis du Champ du Feu\n - AMVM0662  Slalom Geant de 10 a 13ans au 31/12/2
 012 (Pou/Ben) Garçons\n  OPEN J     Open des Téléskis du Champ du Feu Cet é
 vènement a été importé depuis :https://skivosges.net/agenda/detailevenement
 /161/-/open-j-open-des-teleskis-du-champ-du-feu-reporte?tmpl=component
X-ALT-DESC;FMTTYPE=text/html:<strong>OPEN J     Open des Téléskis du Champ du Feu</strong> <font class="
 attention4">(Epreuve reportée, date à determiner)</font><br /><br />Lieu : 
 CHAMP DU FEU <br />Organisateur : A.S DES CHEMINOTS STRASBOURG  <small>(140
 71 A.S DES CHEMINOTS STRASBOURG)</small><br />Email : <!-- Cette adresse él
 ectronique est protégée contre les robots spammeurs. --><span class="cloake
 d_email ep_5c8dff9d"><span data-ep-a="&#106;ea&#110;" data-ep-b="&#101;&#46
 ;&#102;r"><span data-ep-a="c&#108;&#97;&#117;" data-ep-b="ra&#110;g"><span 
 data-ep-a="de&#46;g" data-ep-b="u&#116;&#64;&#111;"></span></span></span></
 span><script>RegularLabs.EmailProtector.unCloak("ep_5c8dff9d");</script><ul
  type="disc"><li>AMVF0661  Slalom Geant <nobr>U8+U10</nobr> Filles<br />&nb
 sp;&nbsp;OPEN J     Open des Téléskis du Champ du Feu</li><li>AMVM0661  Sla
 lom Geant <nobr>U8+U10</nobr> Garçons<br />&nbsp;&nbsp;OPEN J     Open des 
 Téléskis du Champ du Feu</li><li>AMVF0662  Slalom Geant <nobr>de 10 a 13ans
  au 31/12/2012 (Pou/Ben)</nobr> Filles<br />&nbsp;&nbsp;OPEN J     Open des
  Téléskis du Champ du Feu</li><li>AMVM0662  Slalom Geant <nobr>de 10 a 13an
 s au 31/12/2012 (Pou/Ben)</nobr> Garçons<br />&nbsp;&nbsp;OPEN J     Open d
 es Téléskis du Champ du Feu</li></ul> <a href="https://skivosges.net/agenda
 /detailevenement/161/-/open-j-open-des-teleskis-du-champ-du-feu-reporte?tmp
 l=component">Cet évènement a été importé depuis :https://skivosges.net/agen
 da/detailevenement/161/-/open-j-open-des-teleskis-du-champ-du-feu-reporte?t
 mpl=component</a>DTSTAMP:20260421T050939
DTSTART;TZID=Europe/Paris:20140302T080000
DTEND;TZID=Europe/Paris:20140302T170000
SEQUENCE:0
TRANSP:OPAQUE
END:VEVENT
END:VCALENDAR