BEGIN:VCALENDAR
VERSION:2.0
PRODID:-//jEvents 2.0 for Joomla//EN
CALSCALE:GREGORIAN
METHOD:PUBLISH
BEGIN:VTIMEZONE
TZID:Europe/Paris
BEGIN:STANDARD
DTSTART:20200224T000000
RDATE:20200329T030000
TZOFFSETFROM:+0200
TZOFFSETTO:+0100
TZNAME:Europe/Paris CET
END:STANDARD
BEGIN:STANDARD
DTSTART:20201025T020000
RDATE:20210328T030000
TZOFFSETFROM:+0200
TZOFFSETTO:+0100
TZNAME:Europe/Paris CET
END:STANDARD
BEGIN:STANDARD
DTSTART:20211031T020000
RDATE:20220327T030000
TZOFFSETFROM:+0200
TZOFFSETTO:+0100
TZNAME:Europe/Paris CET
END:STANDARD
BEGIN:STANDARD
DTSTART:20221030T020000
RDATE:20230326T030000
TZOFFSETFROM:+0200
TZOFFSETTO:+0100
TZNAME:Europe/Paris CET
END:STANDARD
BEGIN:STANDARD
DTSTART:20231029T020000
RDATE:20240331T030000
TZOFFSETFROM:+0200
TZOFFSETTO:+0100
TZNAME:Europe/Paris CET
END:STANDARD
BEGIN:STANDARD
DTSTART:20241027T020000
RDATE:20250330T030000
TZOFFSETFROM:+0200
TZOFFSETTO:+0100
TZNAME:Europe/Paris CET
END:STANDARD
BEGIN:STANDARD
DTSTART:20251026T020000
RDATE:20260329T030000
TZOFFSETFROM:+0200
TZOFFSETTO:+0100
TZNAME:Europe/Paris CET
END:STANDARD
BEGIN:STANDARD
DTSTART:20261025T020000
RDATE:20270328T030000
TZOFFSETFROM:+0200
TZOFFSETTO:+0100
TZNAME:Europe/Paris CET
END:STANDARD
BEGIN:DAYLIGHT
DTSTART:20200329T030000
RDATE:20201025T020000
TZOFFSETFROM:+0100
TZOFFSETTO:+0200
TZNAME:Europe/Paris CEST
END:DAYLIGHT
BEGIN:DAYLIGHT
DTSTART:20210328T030000
RDATE:20211031T020000
TZOFFSETFROM:+0100
TZOFFSETTO:+0200
TZNAME:Europe/Paris CEST
END:DAYLIGHT
BEGIN:DAYLIGHT
DTSTART:20220327T030000
RDATE:20221030T020000
TZOFFSETFROM:+0100
TZOFFSETTO:+0200
TZNAME:Europe/Paris CEST
END:DAYLIGHT
BEGIN:DAYLIGHT
DTSTART:20230326T030000
RDATE:20231029T020000
TZOFFSETFROM:+0100
TZOFFSETTO:+0200
TZNAME:Europe/Paris CEST
END:DAYLIGHT
BEGIN:DAYLIGHT
DTSTART:20240331T030000
RDATE:20241027T020000
TZOFFSETFROM:+0100
TZOFFSETTO:+0200
TZNAME:Europe/Paris CEST
END:DAYLIGHT
BEGIN:DAYLIGHT
DTSTART:20250330T030000
RDATE:20251026T020000
TZOFFSETFROM:+0100
TZOFFSETTO:+0200
TZNAME:Europe/Paris CEST
END:DAYLIGHT
BEGIN:DAYLIGHT
DTSTART:20260329T030000
RDATE:20261025T020000
TZOFFSETFROM:+0100
TZOFFSETTO:+0200
TZNAME:Europe/Paris CEST
END:DAYLIGHT
END:VTIMEZONE
BEGIN:VEVENT
UID:e8ba42ff7f363c1cac5112ef5f5b3d8b
CATEGORIES:Compétition Saut
CREATED:20201221T154507
SUMMARY:Coupe des Vosges Gérardmer
URL;VALUE=URI:https://skivosges.net/agenda/detailevenement/1616/-/coupe-des-vosges-gerard
 mer?tmpl=component
DESCRIPTION:Coupe des Vosges Gérardmer\n - Codex évenement TMVT0100\n - Lieu : Stade no
 rdique des bas rupt\n - Organisateur : 14089 GERARDMER SKI ALPIN\n - Courri
 el : RegularLabs.EmailProtector.unCloak("ep_5f18789e");Période d'inscriptio
 n à l'evènement du mercredi 17 février 2021 à 01:00 au lundi 22 février 202
 1 à 13:00 (Inscriptions impossibles).Inscriptions ouvertes aux detenteurs d
 es titres Fédéraux valides suivants : Licenciés Compétiteurs\n - Voir les i
 nformations dans l'agenda... (/index.php?option=com_jevents&amp;task=icalev
 ent.detail&amp;evid=1611&amp;Itemid=1703)Epreuves :\n - Le mercredi 24 févr
 ier 2021\n - Codex épreuve TMVM0101\n - Saut Special\n - Catégorie(s) : Tou
 tes les Categories (Garçons)\n - Le mercredi 24 février 2021\n - Codex épre
 uve TMVF0101\n - Saut Special\n - Catégorie(s) : Toutes les Categories (Fil
 les)\n - Voir les informations dans l'agenda... (/index.php?option=com_jeve
 nts&amp;task=icalevent.detail&amp;evid=1611&amp;Itemid=1703) Cet évènement 
 a été importé depuis :https://skivosges.net/agenda/detailevenement/1616/-/c
 oupe-des-vosges-gerardmer?tmpl=component
X-ALT-DESC;FMTTYPE=text/html:<!-- #gskiepreuve code généré par le plugin jevents pour GskiEpreuves. Ne p
 as modifier cette ligne, ni tout le contenu suivant  #gskiepreuve --><div c
 lass="gski-evenement_infos"><div class="gski-evenement-nom">Coupe des Vosge
 s Gérardmer</div><div class="gski-evenement-report"></div><ul class="gski-e
 venement-liste-infos"><li>Codex évenement TMVT0100</li><li>Lieu : Stade nor
 dique des bas rupt</li><li>Organisateur : 14089 GERARDMER SKI ALPIN</li><li
 >Courriel : <!-- Cette adresse électronique est protégée contre les robots 
 spammeurs. --><span class="cloaked_email ep_5f18789e"><span data-ep-a="&#11
 4;e&#103;&#105;" data-ep-b="&#46;f&#114;"><span data-ep-a="&#115;&#46;&#97;
 n" data-ep-b="&#97;&#100;&#111;&#111;"><span data-ep-b="&#64;&#119;&#97;n" 
 data-ep-a="&#100;&#114;e6"></span></span></span></span><script>RegularLabs.
 EmailProtector.unCloak("ep_5f18789e");</script></li></ul><div class="gski-e
 venement-infos-2"><div class="gski-evenement-info-inscriptions"><div class=
 "gski-evenement-inscriptions-periodes">Période d'inscription à l'evènement 
 du mercredi 17 février 2021 à 01:00 au lundi 22 février 2021 à 13:00 <span 
 class="gski-evenement-inscriptions-impossibles">(Inscriptions impossibles).
 </span><div class="gski-evenement-inscriptions-types-titres">Inscriptions o
 uvertes aux detenteurs des titres Fédéraux valides suivants : Licenciés Com
 pétiteurs</div></div></div><div class="gskiepreuves-links"><ul><li><a href=
 "https://skivosges.net/index.php?option=com_jevents&task=icalevent.detail&e
 vid=1611&Itemid=1703">Voir les informations dans l'agenda...</a></li></ul><
 /div><div class="gski-evenement-epreuves"><div class="gski-evenement-epreuv
 es-titres">Epreuves :</div><ul class="gski-evenement-epreuves-list"><li><di
 v class="gski-epreuve-date">Le mercredi 24 février 2021</div><ul class="gsk
 i-epreuve-liste-infos"><li>Codex épreuve TMVM0101</li><li>Saut Special</li>
 <li>Catégorie(s) : Toutes les Categories (Garçons)</li></ul></li><li><div c
 lass="gski-epreuve-date">Le mercredi 24 février 2021</div><ul class="gski-e
 preuve-liste-infos"><li>Codex épreuve TMVF0101</li><li>Saut Special</li><li
 >Catégorie(s) : Toutes les Categories (Filles)</li></ul></li></ul></div><di
 v class="gskiepreuves-links"><ul><li><a href="https://skivosges.net/index.p
 hp?option=com_jevents&task=icalevent.detail&evid=1611&Itemid=1703">Voir les
  informations dans l'agenda...</a></li></ul></div></div"><!-- #/gskiepreuve
  fin du dode généré par le plugin jevents pour GskiEpreuves. . Ne pas modif
 ier cette ligne, ni tout le contenu précedant.  #/gskiepreuve --> <a href="
 https://skivosges.net/agenda/detailevenement/1616/-/coupe-des-vosges-gerard
 mer?tmpl=component">Cet évènement a été importé depuis :https://skivosges.n
 et/agenda/detailevenement/1616/-/coupe-des-vosges-gerardmer?tmpl=component<
 /a>DTSTAMP:20260420T112112
DTSTART;TZID=Europe/Paris;VALUE=DATE:20210224
DTEND;TZID=Europe/Paris;VALUE=DATE:20210225
SEQUENCE:0
TRANSP:OPAQUE
END:VEVENT
END:VCALENDAR