BEGIN:VCALENDAR
VERSION:2.0
PRODID:-//jEvents 2.0 for Joomla//EN
CALSCALE:GREGORIAN
METHOD:PUBLISH
BEGIN:VTIMEZONE
TZID:Europe/Paris
BEGIN:STANDARD
DTSTART:20130307T080000
RDATE:20130331T030000
TZOFFSETFROM:+0200
TZOFFSETTO:+0100
TZNAME:Europe/Paris CET
END:STANDARD
BEGIN:STANDARD
DTSTART:20131027T020000
RDATE:20140330T030000
TZOFFSETFROM:+0200
TZOFFSETTO:+0100
TZNAME:Europe/Paris CET
END:STANDARD
BEGIN:STANDARD
DTSTART:20141026T020000
RDATE:20150329T030000
TZOFFSETFROM:+0200
TZOFFSETTO:+0100
TZNAME:Europe/Paris CET
END:STANDARD
BEGIN:STANDARD
DTSTART:20151025T020000
RDATE:20160327T030000
TZOFFSETFROM:+0200
TZOFFSETTO:+0100
TZNAME:Europe/Paris CET
END:STANDARD
BEGIN:STANDARD
DTSTART:20161030T020000
RDATE:20170326T030000
TZOFFSETFROM:+0200
TZOFFSETTO:+0100
TZNAME:Europe/Paris CET
END:STANDARD
BEGIN:STANDARD
DTSTART:20171029T020000
RDATE:20180325T030000
TZOFFSETFROM:+0200
TZOFFSETTO:+0100
TZNAME:Europe/Paris CET
END:STANDARD
BEGIN:STANDARD
DTSTART:20181028T020000
RDATE:20190331T030000
TZOFFSETFROM:+0200
TZOFFSETTO:+0100
TZNAME:Europe/Paris CET
END:STANDARD
BEGIN:STANDARD
DTSTART:20191027T020000
RDATE:20200329T030000
TZOFFSETFROM:+0200
TZOFFSETTO:+0100
TZNAME:Europe/Paris CET
END:STANDARD
BEGIN:STANDARD
DTSTART:20201025T020000
RDATE:20210328T030000
TZOFFSETFROM:+0200
TZOFFSETTO:+0100
TZNAME:Europe/Paris CET
END:STANDARD
BEGIN:STANDARD
DTSTART:20211031T020000
RDATE:20220327T030000
TZOFFSETFROM:+0200
TZOFFSETTO:+0100
TZNAME:Europe/Paris CET
END:STANDARD
BEGIN:STANDARD
DTSTART:20221030T020000
RDATE:20230326T030000
TZOFFSETFROM:+0200
TZOFFSETTO:+0100
TZNAME:Europe/Paris CET
END:STANDARD
BEGIN:STANDARD
DTSTART:20231029T020000
RDATE:20240331T030000
TZOFFSETFROM:+0200
TZOFFSETTO:+0100
TZNAME:Europe/Paris CET
END:STANDARD
BEGIN:STANDARD
DTSTART:20241027T020000
RDATE:20250330T030000
TZOFFSETFROM:+0200
TZOFFSETTO:+0100
TZNAME:Europe/Paris CET
END:STANDARD
BEGIN:STANDARD
DTSTART:20251026T020000
RDATE:20260329T030000
TZOFFSETFROM:+0200
TZOFFSETTO:+0100
TZNAME:Europe/Paris CET
END:STANDARD
BEGIN:STANDARD
DTSTART:20261025T020000
RDATE:20270328T030000
TZOFFSETFROM:+0200
TZOFFSETTO:+0100
TZNAME:Europe/Paris CET
END:STANDARD
BEGIN:DAYLIGHT
DTSTART:20130331T030000
RDATE:20131027T020000
TZOFFSETFROM:+0100
TZOFFSETTO:+0200
TZNAME:Europe/Paris CEST
END:DAYLIGHT
BEGIN:DAYLIGHT
DTSTART:20140330T030000
RDATE:20141026T020000
TZOFFSETFROM:+0100
TZOFFSETTO:+0200
TZNAME:Europe/Paris CEST
END:DAYLIGHT
BEGIN:DAYLIGHT
DTSTART:20150329T030000
RDATE:20151025T020000
TZOFFSETFROM:+0100
TZOFFSETTO:+0200
TZNAME:Europe/Paris CEST
END:DAYLIGHT
BEGIN:DAYLIGHT
DTSTART:20160327T030000
RDATE:20161030T020000
TZOFFSETFROM:+0100
TZOFFSETTO:+0200
TZNAME:Europe/Paris CEST
END:DAYLIGHT
BEGIN:DAYLIGHT
DTSTART:20170326T030000
RDATE:20171029T020000
TZOFFSETFROM:+0100
TZOFFSETTO:+0200
TZNAME:Europe/Paris CEST
END:DAYLIGHT
BEGIN:DAYLIGHT
DTSTART:20180325T030000
RDATE:20181028T020000
TZOFFSETFROM:+0100
TZOFFSETTO:+0200
TZNAME:Europe/Paris CEST
END:DAYLIGHT
BEGIN:DAYLIGHT
DTSTART:20190331T030000
RDATE:20191027T020000
TZOFFSETFROM:+0100
TZOFFSETTO:+0200
TZNAME:Europe/Paris CEST
END:DAYLIGHT
BEGIN:DAYLIGHT
DTSTART:20200329T030000
RDATE:20201025T020000
TZOFFSETFROM:+0100
TZOFFSETTO:+0200
TZNAME:Europe/Paris CEST
END:DAYLIGHT
BEGIN:DAYLIGHT
DTSTART:20210328T030000
RDATE:20211031T020000
TZOFFSETFROM:+0100
TZOFFSETTO:+0200
TZNAME:Europe/Paris CEST
END:DAYLIGHT
BEGIN:DAYLIGHT
DTSTART:20220327T030000
RDATE:20221030T020000
TZOFFSETFROM:+0100
TZOFFSETTO:+0200
TZNAME:Europe/Paris CEST
END:DAYLIGHT
BEGIN:DAYLIGHT
DTSTART:20230326T030000
RDATE:20231029T020000
TZOFFSETFROM:+0100
TZOFFSETTO:+0200
TZNAME:Europe/Paris CEST
END:DAYLIGHT
BEGIN:DAYLIGHT
DTSTART:20240331T030000
RDATE:20241027T020000
TZOFFSETFROM:+0100
TZOFFSETTO:+0200
TZNAME:Europe/Paris CEST
END:DAYLIGHT
BEGIN:DAYLIGHT
DTSTART:20250330T030000
RDATE:20251026T020000
TZOFFSETFROM:+0100
TZOFFSETTO:+0200
TZNAME:Europe/Paris CEST
END:DAYLIGHT
BEGIN:DAYLIGHT
DTSTART:20260329T030000
RDATE:20261025T020000
TZOFFSETFROM:+0100
TZOFFSETTO:+0200
TZNAME:Europe/Paris CEST
END:DAYLIGHT
END:VTIMEZONE
BEGIN:VEVENT
UID:46154f8992c27bc8f835fbbc96ff5925
CATEGORIES:Autres Épreuves (alpin)
CREATED:20131203T122100
SUMMARY:GP International Citadins
URL;VALUE=URI:https://skivosges.net/agenda/detailevenement/166/-/gp-international-citadin
 s?tmpl=component
DESCRIPTION:GP International Citadins\nEmail : RegularLabs.EmailProtector.unCloak("ep_a
 dd641fd");\nTelecopie : 33(389) 82 78 0\n  Piste:Markstein\n - Le 08/03/201
 4\n5703  Slalom Toutes categories Dames\n  GP International Citadins\n  Pis
 te:Markstein\n - Le 08/03/2014\n704  Slalom Toutes categories Hommes\n  GP 
 International Citadins\n  Piste:Markstein\n - Le 09/03/2014\n5704  Slalom T
 outes categories Dames\n  GP International Citadins\n  Piste:Markstein\n - 
 Le 09/03/2014\n706  Slalom Toutes categories Hommes\n  GP International Cit
 adins Cet évènement a été importé depuis :https://skivosges.net/agenda/deta
 ilevenement/166/-/gp-international-citadins?tmpl=component
X-ALT-DESC;FMTTYPE=text/html:<strong>GP International Citadins</strong><br />Email : <!-- Cette adresse 
 électronique est protégée contre les robots spammeurs. --><span class="cloa
 ked_email ep_add641fd"><span data-ep-a="&#115;&#99;&#118;&#119;" data-ep-b=
 "&#109;"><span data-ep-a="&#101;&#115;&#115;e" data-ep-b="l&#46;&#99;o"><sp
 an data-ep-a="&#114;&#108;i&#110;" data-ep-b="g&#64;a&#111;"></span></span>
 </span></span><script>RegularLabs.EmailProtector.unCloak("ep_add641fd");</s
 cript><br />Telecopie : 33(389) 82 78 0<ul type="disc"><br />&nbsp;&nbsp;Pi
 ste:Markstein<li><nobr>Le 08/03/2014</nobr><br />5703  Slalom <nobr>Toutes 
 categories</nobr> Dames<br />&nbsp;&nbsp;GP International Citadins</li><br 
 />&nbsp;&nbsp;Piste:Markstein<li><nobr>Le 08/03/2014</nobr><br />704  Slalo
 m <nobr>Toutes categories</nobr> Hommes<br />&nbsp;&nbsp;GP International C
 itadins</li><br />&nbsp;&nbsp;Piste:Markstein<li><nobr>Le 09/03/2014</nobr>
 <br />5704  Slalom <nobr>Toutes categories</nobr> Dames<br />&nbsp;&nbsp;GP
  International Citadins</li><br />&nbsp;&nbsp;Piste:Markstein<li><nobr>Le 0
 9/03/2014</nobr><br />706  Slalom <nobr>Toutes categories</nobr> Hommes<br 
 />&nbsp;&nbsp;GP International Citadins</li></ul> <a href="https://skivosge
 s.net/agenda/detailevenement/166/-/gp-international-citadins?tmpl=component
 ">Cet évènement a été importé depuis :https://skivosges.net/agenda/detailev
 enement/166/-/gp-international-citadins?tmpl=component</a>DTSTAMP:20260421T014442
DTSTART;TZID=Europe/Paris:20140308T080000
DTEND;TZID=Europe/Paris:20140309T170000
SEQUENCE:0
TRANSP:OPAQUE
END:VEVENT
END:VCALENDAR