BEGIN:VCALENDAR
VERSION:2.0
PRODID:-//jEvents 2.0 for Joomla//EN
CALSCALE:GREGORIAN
METHOD:PUBLISH
BEGIN:VTIMEZONE
TZID:Europe/Paris
BEGIN:STANDARD
DTSTART:20210107T000000
RDATE:20210328T030000
TZOFFSETFROM:+0200
TZOFFSETTO:+0100
TZNAME:Europe/Paris CET
END:STANDARD
BEGIN:STANDARD
DTSTART:20211031T020000
RDATE:20220327T030000
TZOFFSETFROM:+0200
TZOFFSETTO:+0100
TZNAME:Europe/Paris CET
END:STANDARD
BEGIN:STANDARD
DTSTART:20221030T020000
RDATE:20230326T030000
TZOFFSETFROM:+0200
TZOFFSETTO:+0100
TZNAME:Europe/Paris CET
END:STANDARD
BEGIN:STANDARD
DTSTART:20231029T020000
RDATE:20240331T030000
TZOFFSETFROM:+0200
TZOFFSETTO:+0100
TZNAME:Europe/Paris CET
END:STANDARD
BEGIN:STANDARD
DTSTART:20241027T020000
RDATE:20250330T030000
TZOFFSETFROM:+0200
TZOFFSETTO:+0100
TZNAME:Europe/Paris CET
END:STANDARD
BEGIN:STANDARD
DTSTART:20251026T020000
RDATE:20260329T030000
TZOFFSETFROM:+0200
TZOFFSETTO:+0100
TZNAME:Europe/Paris CET
END:STANDARD
BEGIN:STANDARD
DTSTART:20261025T020000
RDATE:20270328T030000
TZOFFSETFROM:+0200
TZOFFSETTO:+0100
TZNAME:Europe/Paris CET
END:STANDARD
BEGIN:DAYLIGHT
DTSTART:20210328T030000
RDATE:20211031T020000
TZOFFSETFROM:+0100
TZOFFSETTO:+0200
TZNAME:Europe/Paris CEST
END:DAYLIGHT
BEGIN:DAYLIGHT
DTSTART:20220327T030000
RDATE:20221030T020000
TZOFFSETFROM:+0100
TZOFFSETTO:+0200
TZNAME:Europe/Paris CEST
END:DAYLIGHT
BEGIN:DAYLIGHT
DTSTART:20230326T030000
RDATE:20231029T020000
TZOFFSETFROM:+0100
TZOFFSETTO:+0200
TZNAME:Europe/Paris CEST
END:DAYLIGHT
BEGIN:DAYLIGHT
DTSTART:20240331T030000
RDATE:20241027T020000
TZOFFSETFROM:+0100
TZOFFSETTO:+0200
TZNAME:Europe/Paris CEST
END:DAYLIGHT
BEGIN:DAYLIGHT
DTSTART:20250330T030000
RDATE:20251026T020000
TZOFFSETFROM:+0100
TZOFFSETTO:+0200
TZNAME:Europe/Paris CEST
END:DAYLIGHT
BEGIN:DAYLIGHT
DTSTART:20260329T030000
RDATE:20261025T020000
TZOFFSETFROM:+0100
TZOFFSETTO:+0200
TZNAME:Europe/Paris CEST
END:DAYLIGHT
END:VTIMEZONE
BEGIN:VEVENT
UID:4dfc20dc5641a96d476cffdd170b1b20
CATEGORIES:Circuit Massif Masters (alpin)
CREATED:20211117T190001
SUMMARY:CMM GRAND PRIX RACING Prix Mat Peinture **REPORTE(E) au 27/02/2022**
URL;VALUE=URI:https://skivosges.net/agenda/detailevenement/1726/-/cmm-grand-prix-racing-p
 rix-mat-peinture-reporte-e-au-27-02-2022?tmpl=component
DESCRIPTION:CMM GRAND PRIX RACING Prix Mat Peinture (Epreuve reportée au 27/02/2022)\n 
 - Codex évenement AMVT0080\n - Station : ROUGE GAZON\n - Organisateur : 140
 63 SKIEURS DE ST MAURICE/MOSELLE\n - Courriel : RegularLabs.EmailProtector.
 unCloak("ep_fffb620d");\n - Délégué Technique : HOUILLON PHILIPPEPériode d'
 inscription à l'evènement du samedi 01 janvier 2022 à 00:00 au jeudi 06 jan
 vier 2022 à 12:00Inscriptions ouvertes aux detenteurs des titres Fédéraux v
 alides suivants : Licenciés Compétiteurs\n - Voir les informations dans l'a
 genda... (/index.php?option=com_jevents&amp;task=icalevent.detail&amp;evid=
 1721&amp;Itemid=1703)\n - Vers les résultats... (/index.php?option=com_gski
 epreuves&amp;view=afficheresultats&amp;format_option=tous&amp;filter[search
 ]=AMVT0080&amp;filter[date_debut]=27-02-2022&amp;filter[date_fin]=27-02-202
 2&amp;code_activite=ALP&amp;Itemid=1703)Epreuves :\n - Le samedi 08 janvier
  2022\n - Codex épreuve AMVM0081\n - Slalom Geant\n - Catégorie(s) : Tous l
 es Masters+U21+U30 Hommes (Hommes)\n - Le samedi 08 janvier 2022\n - Codex 
 épreuve AMVF0081\n - Slalom Geant\n - Catégorie(s) : Tous les Masters+U21+U
 30 Dames (Dames)\n - Voir les informations dans l'agenda... (/index.php?opt
 ion=com_jevents&amp;task=icalevent.detail&amp;evid=1721&amp;Itemid=1703)\n 
 - Vers les résultats... (/index.php?option=com_gskiepreuves&amp;view=affich
 eresultats&amp;format_option=tous&amp;filter[search]=AMVT0080&amp;filter[da
 te_debut]=27-02-2022&amp;filter[date_fin]=27-02-2022&amp;code_activite=ALP&
 amp;Itemid=1703) Cet évènement a été importé depuis :https://skivosges.net/
 agenda/detailevenement/1726/-/cmm-grand-prix-racing-prix-mat-peinture-repor
 te-e-au-27-02-2022?tmpl=component
X-ALT-DESC;FMTTYPE=text/html:<!-- #gskiepreuve code généré par le plugin jevents pour GskiEpreuves. Ne p
 as modifier cette ligne, ni tout le contenu suivant  #gskiepreuve --><div c
 lass="gski-evenement_infos"><div class="gski-evenement-nom">CMM GRAND PRIX 
 RACING Prix Mat Peinture</div><div class="gski-evenement-report"> <font cla
 ss="gskiattention">(Epreuve reportée au 27/02/2022)</font></div><ul class="
 gski-evenement-liste-infos"><li>Codex évenement AMVT0080</li><li>Station : 
 ROUGE GAZON</li><li>Organisateur : 14063 SKIEURS DE ST MAURICE/MOSELLE</li>
 <li>Courriel : <!-- Cette adresse électronique est protégée contre les robo
 ts spammeurs. --><span class="cloaked_email ep_fffb620d"><span data-ep-a="d
 &#97;&#110;&#105;" data-ep-b=""><span data-ep-b="&#114;&#46;f&#114;" data-e
 p-a="&#101;l.&#109;"><span data-ep-a="&#111;&#114;&#101;&#108;" data-ep-b="
 5&#64;&#115;f"></span></span></span></span><script>RegularLabs.EmailProtect
 or.unCloak("ep_fffb620d");</script></li><li><span class="gski-evenement-obs
 ">Délégué Technique : HOUILLON PHILIPPE</span></li></ul><div class="gski-ev
 enement-infos-2"><div class="gski-evenement-info-inscriptions"><div class="
 gski-evenement-inscriptions-periodes">Période d'inscription à l'evènement d
 u samedi 01 janvier 2022 à 00:00 au jeudi 06 janvier 2022 à 12:00<div class
 ="gski-evenement-inscriptions-types-titres">Inscriptions ouvertes aux deten
 teurs des titres Fédéraux valides suivants : Licenciés Compétiteurs</div></
 div></div><div class="gskiepreuves-links"><ul><li><a href="https://skivosge
 s.net/index.php?option=com_jevents&task=icalevent.detail&evid=1721&Itemid=1
 703">Voir les informations dans l'agenda...</a></li><li><a href="https://sk
 ivosges.net/index.php?option=com_gskiepreuves&view=afficheresultats&format_
 option=tous&filter[search]=AMVT0080&filter[date_debut]=27-02-2022&filter[da
 te_fin]=27-02-2022&code_activite=ALP&Itemid=1703">Vers les résultats...</a>
 </li></ul></div><div class="gski-evenement-epreuves"><div class="gski-evene
 ment-epreuves-titres">Epreuves :</div><ul class="gski-evenement-epreuves-li
 st"><li><div class="gski-epreuve-date">Le samedi 08 janvier 2022</div><ul c
 lass="gski-epreuve-liste-infos"><li>Codex épreuve AMVM0081</li><li>Slalom G
 eant</li><li>Catégorie(s) : Tous les Masters+U21+U30 Hommes (Hommes)</li></
 ul></li><li><div class="gski-epreuve-date">Le samedi 08 janvier 2022</div><
 ul class="gski-epreuve-liste-infos"><li>Codex épreuve AMVF0081</li><li>Slal
 om Geant</li><li>Catégorie(s) : Tous les Masters+U21+U30 Dames (Dames)</li>
 </ul></li></ul></div><div class="gskiepreuves-links"><ul><li><a href="https
 ://skivosges.net/index.php?option=com_jevents&task=icalevent.detail&evid=17
 21&Itemid=1703">Voir les informations dans l'agenda...</a></li><li><a href=
 "https://skivosges.net/index.php?option=com_gskiepreuves&view=afficheresult
 ats&format_option=tous&filter[search]=AMVT0080&filter[date_debut]=27-02-202
 2&filter[date_fin]=27-02-2022&code_activite=ALP&Itemid=1703">Vers les résul
 tats...</a></li></ul></div></div"><!-- #/gskiepreuve fin du dode généré par
  le plugin jevents pour GskiEpreuves. . Ne pas modifier cette ligne, ni tou
 t le contenu précedant.  #/gskiepreuve --> <a href="https://skivosges.net/a
 genda/detailevenement/1726/-/cmm-grand-prix-racing-prix-mat-peinture-report
 e-e-au-27-02-2022?tmpl=component">Cet évènement a été importé depuis :https
 ://skivosges.net/agenda/detailevenement/1726/-/cmm-grand-prix-racing-prix-m
 at-peinture-reporte-e-au-27-02-2022?tmpl=component</a>DTSTAMP:20260420T184332
DTSTART;TZID=Europe/Paris;VALUE=DATE:20220108
DTEND;TZID=Europe/Paris;VALUE=DATE:20220109
SEQUENCE:0
TRANSP:OPAQUE
END:VEVENT
END:VCALENDAR