BEGIN:VCALENDAR
VERSION:2.0
PRODID:-//jEvents 2.0 for Joomla//EN
CALSCALE:GREGORIAN
METHOD:PUBLISH
BEGIN:VTIMEZONE
TZID:Europe/Paris
BEGIN:STANDARD
DTSTART:20111124T140000
RDATE:20120325T030000
TZOFFSETFROM:+0200
TZOFFSETTO:+0100
TZNAME:Europe/Paris CET
END:STANDARD
BEGIN:STANDARD
DTSTART:20121028T020000
RDATE:20130331T030000
TZOFFSETFROM:+0200
TZOFFSETTO:+0100
TZNAME:Europe/Paris CET
END:STANDARD
BEGIN:STANDARD
DTSTART:20131027T020000
RDATE:20140330T030000
TZOFFSETFROM:+0200
TZOFFSETTO:+0100
TZNAME:Europe/Paris CET
END:STANDARD
BEGIN:STANDARD
DTSTART:20141026T020000
RDATE:20150329T030000
TZOFFSETFROM:+0200
TZOFFSETTO:+0100
TZNAME:Europe/Paris CET
END:STANDARD
BEGIN:STANDARD
DTSTART:20151025T020000
RDATE:20160327T030000
TZOFFSETFROM:+0200
TZOFFSETTO:+0100
TZNAME:Europe/Paris CET
END:STANDARD
BEGIN:STANDARD
DTSTART:20161030T020000
RDATE:20170326T030000
TZOFFSETFROM:+0200
TZOFFSETTO:+0100
TZNAME:Europe/Paris CET
END:STANDARD
BEGIN:STANDARD
DTSTART:20171029T020000
RDATE:20180325T030000
TZOFFSETFROM:+0200
TZOFFSETTO:+0100
TZNAME:Europe/Paris CET
END:STANDARD
BEGIN:STANDARD
DTSTART:20181028T020000
RDATE:20190331T030000
TZOFFSETFROM:+0200
TZOFFSETTO:+0100
TZNAME:Europe/Paris CET
END:STANDARD
BEGIN:STANDARD
DTSTART:20191027T020000
RDATE:20200329T030000
TZOFFSETFROM:+0200
TZOFFSETTO:+0100
TZNAME:Europe/Paris CET
END:STANDARD
BEGIN:STANDARD
DTSTART:20201025T020000
RDATE:20210328T030000
TZOFFSETFROM:+0200
TZOFFSETTO:+0100
TZNAME:Europe/Paris CET
END:STANDARD
BEGIN:STANDARD
DTSTART:20211031T020000
RDATE:20220327T030000
TZOFFSETFROM:+0200
TZOFFSETTO:+0100
TZNAME:Europe/Paris CET
END:STANDARD
BEGIN:STANDARD
DTSTART:20221030T020000
RDATE:20230326T030000
TZOFFSETFROM:+0200
TZOFFSETTO:+0100
TZNAME:Europe/Paris CET
END:STANDARD
BEGIN:STANDARD
DTSTART:20231029T020000
RDATE:20240331T030000
TZOFFSETFROM:+0200
TZOFFSETTO:+0100
TZNAME:Europe/Paris CET
END:STANDARD
BEGIN:STANDARD
DTSTART:20241027T020000
RDATE:20250330T030000
TZOFFSETFROM:+0200
TZOFFSETTO:+0100
TZNAME:Europe/Paris CET
END:STANDARD
BEGIN:STANDARD
DTSTART:20251026T020000
RDATE:20260329T030000
TZOFFSETFROM:+0200
TZOFFSETTO:+0100
TZNAME:Europe/Paris CET
END:STANDARD
BEGIN:STANDARD
DTSTART:20261025T020000
RDATE:20270328T030000
TZOFFSETFROM:+0200
TZOFFSETTO:+0100
TZNAME:Europe/Paris CET
END:STANDARD
BEGIN:DAYLIGHT
DTSTART:20120325T030000
RDATE:20121028T020000
TZOFFSETFROM:+0100
TZOFFSETTO:+0200
TZNAME:Europe/Paris CEST
END:DAYLIGHT
BEGIN:DAYLIGHT
DTSTART:20130331T030000
RDATE:20131027T020000
TZOFFSETFROM:+0100
TZOFFSETTO:+0200
TZNAME:Europe/Paris CEST
END:DAYLIGHT
BEGIN:DAYLIGHT
DTSTART:20140330T030000
RDATE:20141026T020000
TZOFFSETFROM:+0100
TZOFFSETTO:+0200
TZNAME:Europe/Paris CEST
END:DAYLIGHT
BEGIN:DAYLIGHT
DTSTART:20150329T030000
RDATE:20151025T020000
TZOFFSETFROM:+0100
TZOFFSETTO:+0200
TZNAME:Europe/Paris CEST
END:DAYLIGHT
BEGIN:DAYLIGHT
DTSTART:20160327T030000
RDATE:20161030T020000
TZOFFSETFROM:+0100
TZOFFSETTO:+0200
TZNAME:Europe/Paris CEST
END:DAYLIGHT
BEGIN:DAYLIGHT
DTSTART:20170326T030000
RDATE:20171029T020000
TZOFFSETFROM:+0100
TZOFFSETTO:+0200
TZNAME:Europe/Paris CEST
END:DAYLIGHT
BEGIN:DAYLIGHT
DTSTART:20180325T030000
RDATE:20181028T020000
TZOFFSETFROM:+0100
TZOFFSETTO:+0200
TZNAME:Europe/Paris CEST
END:DAYLIGHT
BEGIN:DAYLIGHT
DTSTART:20190331T030000
RDATE:20191027T020000
TZOFFSETFROM:+0100
TZOFFSETTO:+0200
TZNAME:Europe/Paris CEST
END:DAYLIGHT
BEGIN:DAYLIGHT
DTSTART:20200329T030000
RDATE:20201025T020000
TZOFFSETFROM:+0100
TZOFFSETTO:+0200
TZNAME:Europe/Paris CEST
END:DAYLIGHT
BEGIN:DAYLIGHT
DTSTART:20210328T030000
RDATE:20211031T020000
TZOFFSETFROM:+0100
TZOFFSETTO:+0200
TZNAME:Europe/Paris CEST
END:DAYLIGHT
BEGIN:DAYLIGHT
DTSTART:20220327T030000
RDATE:20221030T020000
TZOFFSETFROM:+0100
TZOFFSETTO:+0200
TZNAME:Europe/Paris CEST
END:DAYLIGHT
BEGIN:DAYLIGHT
DTSTART:20230326T030000
RDATE:20231029T020000
TZOFFSETFROM:+0100
TZOFFSETTO:+0200
TZNAME:Europe/Paris CEST
END:DAYLIGHT
BEGIN:DAYLIGHT
DTSTART:20240331T030000
RDATE:20241027T020000
TZOFFSETFROM:+0100
TZOFFSETTO:+0200
TZNAME:Europe/Paris CEST
END:DAYLIGHT
BEGIN:DAYLIGHT
DTSTART:20250330T030000
RDATE:20251026T020000
TZOFFSETFROM:+0100
TZOFFSETTO:+0200
TZNAME:Europe/Paris CEST
END:DAYLIGHT
BEGIN:DAYLIGHT
DTSTART:20260329T030000
RDATE:20261025T020000
TZOFFSETFROM:+0100
TZOFFSETTO:+0200
TZNAME:Europe/Paris CEST
END:DAYLIGHT
END:VTIMEZONE
BEGIN:VEVENT
UID:27beb2070ba3a4f11302a2559fe99373
CATEGORIES:Formation Officiels - Chronos - Gestionnaires
CREATED:20121116T222232
SUMMARY:Journée Technique Régionale (y compris sessions de recyclages)
LOCATION:La Bresse / Hotel des Valées 
URL;VALUE=URI:https://skivosges.net/agenda/detailevenement/19/-/journee-technique-regiona
 le-y-compris-sessions-de-recyclages?tmpl=component
DESCRIPTION:Voir les informations et l'ordre du jour... (index.php?option=com_content&a
 mp;view=article&amp;id=3883:journee-technique-regionale-24112012-ordre-du-j
 our&amp;catid=8:formation-officiels&amp;Itemid=309)\nHoraires prévisionnels
  : 14H00 à 16H-16H30 (Journée Technique / recyclage Juge de Compétition Alp
 in ou Nordique)\nSuivra une session de recyclage DT (Alpin ou Nordique), ho
 raire prévisionnel final 17H30\n(Precision sur les session sera demandée da
 ns le formulaire d'inscription)\n\nDes sessions de formation Juge de Compét
 ition Alpin ou Nordique pour les nouveaux Candidats sont proposées le matin
  (voir formulaire d'inscription spécifique... (evenements/evenements/icalre
 peat.detail/2012/11/24/20/-/journee-technique-regionale-sessions-de-formati
 on-initiales-juges-matin-s-de-recyclages.html))\n \nRemarque :\nIl est fort
 ement recommandé de vous identifier sur le site (index.php?option=com_users
 &amp;view=login&amp;Itemid=204) avant de vous inscrire à un evenement.\nLe 
 fait d'être inscrit et identifié sur skivosges permet d'avoir accès à vos i
 nscriptions, de les modifier, voire les supprimer selon l'evenement.\n \n C
 et évènement a été importé depuis :https://skivosges.net/agenda/detailevene
 ment/19/-/journee-technique-regionale-y-compris-sessions-de-recyclages?tmpl
 =component
X-ALT-DESC;FMTTYPE=text/html:<p><a class="jcepopup" target="_blank" href="https://skivosges.net/index.ph
 p?option=com_content&view=article&id=3883:journee-technique-regionale-24112
 012-ordre-du-jour&catid=8:formation-officiels&Itemid=309">Voir les informat
 ions et l'ordre du jour...</a></p><p>Horaires prévisionnels : 14H00 à 16H-1
 6H30 (Journée Technique / recyclage Juge de Compétition Alpin ou Nordique)<
 /p><p>Suivra une session de recyclage DT (Alpin ou Nordique), horaire prévi
 sionnel final 17H30</p><p>(Precision sur les session sera demandée dans le 
 formulaire d'inscription)<br /><br data-mce-bogus="1" /></p><p>Des sessions
  de formation Juge de Compétition Alpin ou Nordique pour les nouveaux Candi
 dats sont proposées le matin (<a target="_blank" class="jcepopup" href="htt
 ps://skivosges.net/evenements/evenements/icalrepeat.detail/2012/11/24/20/-/
 journee-technique-regionale-sessions-de-formation-initiales-juges-matin-s-d
 e-recyclages.html">voir formulaire d'inscription spécifique...</a>)</p><p> 
 </p><p><em><span class="attention">Remarque :<br />Il est fortement recomma
 ndé de <a target="_parent" href="https://skivosges.net/index.php?option=com
 _users&view=login&Itemid=204">vous identifier sur le site</a> avant de vous
  inscrire à un evenement.<br />Le fait d'être inscrit et identifié sur skiv
 osges permet d'avoir accès à vos inscriptions, de les modifier, voire les s
 upprimer selon l'evenement.</span></em></p><p> </p> <a href="https://skivos
 ges.net/agenda/detailevenement/19/-/journee-technique-regionale-y-compris-s
 essions-de-recyclages?tmpl=component">Cet évènement a été importé depuis :h
 ttps://skivosges.net/agenda/detailevenement/19/-/journee-technique-regional
 e-y-compris-sessions-de-recyclages?tmpl=component</a>CONTACT:RegularLabs.EmailProtector.unCloak("ep_57375274");
DTSTAMP:20260420T193726
DTSTART;TZID=Europe/Paris:20121124T140000
SEQUENCE:0
TRANSP:OPAQUE
END:VEVENT
END:VCALENDAR