BEGIN:VCALENDAR
VERSION:2.0
PRODID:-//jEvents 2.0 for Joomla//EN
CALSCALE:GREGORIAN
METHOD:PUBLISH
BEGIN:VTIMEZONE
TZID:Europe/Paris
BEGIN:STANDARD
DTSTART:20130321T080000
RDATE:20130331T030000
TZOFFSETFROM:+0200
TZOFFSETTO:+0100
TZNAME:Europe/Paris CET
END:STANDARD
BEGIN:STANDARD
DTSTART:20131027T020000
RDATE:20140330T030000
TZOFFSETFROM:+0200
TZOFFSETTO:+0100
TZNAME:Europe/Paris CET
END:STANDARD
BEGIN:STANDARD
DTSTART:20141026T020000
RDATE:20150329T030000
TZOFFSETFROM:+0200
TZOFFSETTO:+0100
TZNAME:Europe/Paris CET
END:STANDARD
BEGIN:STANDARD
DTSTART:20151025T020000
RDATE:20160327T030000
TZOFFSETFROM:+0200
TZOFFSETTO:+0100
TZNAME:Europe/Paris CET
END:STANDARD
BEGIN:STANDARD
DTSTART:20161030T020000
RDATE:20170326T030000
TZOFFSETFROM:+0200
TZOFFSETTO:+0100
TZNAME:Europe/Paris CET
END:STANDARD
BEGIN:STANDARD
DTSTART:20171029T020000
RDATE:20180325T030000
TZOFFSETFROM:+0200
TZOFFSETTO:+0100
TZNAME:Europe/Paris CET
END:STANDARD
BEGIN:STANDARD
DTSTART:20181028T020000
RDATE:20190331T030000
TZOFFSETFROM:+0200
TZOFFSETTO:+0100
TZNAME:Europe/Paris CET
END:STANDARD
BEGIN:STANDARD
DTSTART:20191027T020000
RDATE:20200329T030000
TZOFFSETFROM:+0200
TZOFFSETTO:+0100
TZNAME:Europe/Paris CET
END:STANDARD
BEGIN:STANDARD
DTSTART:20201025T020000
RDATE:20210328T030000
TZOFFSETFROM:+0200
TZOFFSETTO:+0100
TZNAME:Europe/Paris CET
END:STANDARD
BEGIN:STANDARD
DTSTART:20211031T020000
RDATE:20220327T030000
TZOFFSETFROM:+0200
TZOFFSETTO:+0100
TZNAME:Europe/Paris CET
END:STANDARD
BEGIN:STANDARD
DTSTART:20221030T020000
RDATE:20230326T030000
TZOFFSETFROM:+0200
TZOFFSETTO:+0100
TZNAME:Europe/Paris CET
END:STANDARD
BEGIN:STANDARD
DTSTART:20231029T020000
RDATE:20240331T030000
TZOFFSETFROM:+0200
TZOFFSETTO:+0100
TZNAME:Europe/Paris CET
END:STANDARD
BEGIN:STANDARD
DTSTART:20241027T020000
RDATE:20250330T030000
TZOFFSETFROM:+0200
TZOFFSETTO:+0100
TZNAME:Europe/Paris CET
END:STANDARD
BEGIN:STANDARD
DTSTART:20251026T020000
RDATE:20260329T030000
TZOFFSETFROM:+0200
TZOFFSETTO:+0100
TZNAME:Europe/Paris CET
END:STANDARD
BEGIN:STANDARD
DTSTART:20261025T020000
RDATE:20270328T030000
TZOFFSETFROM:+0200
TZOFFSETTO:+0100
TZNAME:Europe/Paris CET
END:STANDARD
BEGIN:DAYLIGHT
DTSTART:20130331T030000
RDATE:20131027T020000
TZOFFSETFROM:+0100
TZOFFSETTO:+0200
TZNAME:Europe/Paris CEST
END:DAYLIGHT
BEGIN:DAYLIGHT
DTSTART:20140330T030000
RDATE:20141026T020000
TZOFFSETFROM:+0100
TZOFFSETTO:+0200
TZNAME:Europe/Paris CEST
END:DAYLIGHT
BEGIN:DAYLIGHT
DTSTART:20150329T030000
RDATE:20151025T020000
TZOFFSETFROM:+0100
TZOFFSETTO:+0200
TZNAME:Europe/Paris CEST
END:DAYLIGHT
BEGIN:DAYLIGHT
DTSTART:20160327T030000
RDATE:20161030T020000
TZOFFSETFROM:+0100
TZOFFSETTO:+0200
TZNAME:Europe/Paris CEST
END:DAYLIGHT
BEGIN:DAYLIGHT
DTSTART:20170326T030000
RDATE:20171029T020000
TZOFFSETFROM:+0100
TZOFFSETTO:+0200
TZNAME:Europe/Paris CEST
END:DAYLIGHT
BEGIN:DAYLIGHT
DTSTART:20180325T030000
RDATE:20181028T020000
TZOFFSETFROM:+0100
TZOFFSETTO:+0200
TZNAME:Europe/Paris CEST
END:DAYLIGHT
BEGIN:DAYLIGHT
DTSTART:20190331T030000
RDATE:20191027T020000
TZOFFSETFROM:+0100
TZOFFSETTO:+0200
TZNAME:Europe/Paris CEST
END:DAYLIGHT
BEGIN:DAYLIGHT
DTSTART:20200329T030000
RDATE:20201025T020000
TZOFFSETFROM:+0100
TZOFFSETTO:+0200
TZNAME:Europe/Paris CEST
END:DAYLIGHT
BEGIN:DAYLIGHT
DTSTART:20210328T030000
RDATE:20211031T020000
TZOFFSETFROM:+0100
TZOFFSETTO:+0200
TZNAME:Europe/Paris CEST
END:DAYLIGHT
BEGIN:DAYLIGHT
DTSTART:20220327T030000
RDATE:20221030T020000
TZOFFSETFROM:+0100
TZOFFSETTO:+0200
TZNAME:Europe/Paris CEST
END:DAYLIGHT
BEGIN:DAYLIGHT
DTSTART:20230326T030000
RDATE:20231029T020000
TZOFFSETFROM:+0100
TZOFFSETTO:+0200
TZNAME:Europe/Paris CEST
END:DAYLIGHT
BEGIN:DAYLIGHT
DTSTART:20240331T030000
RDATE:20241027T020000
TZOFFSETFROM:+0100
TZOFFSETTO:+0200
TZNAME:Europe/Paris CEST
END:DAYLIGHT
BEGIN:DAYLIGHT
DTSTART:20250330T030000
RDATE:20251026T020000
TZOFFSETFROM:+0100
TZOFFSETTO:+0200
TZNAME:Europe/Paris CEST
END:DAYLIGHT
BEGIN:DAYLIGHT
DTSTART:20260329T030000
RDATE:20261025T020000
TZOFFSETFROM:+0100
TZOFFSETTO:+0200
TZNAME:Europe/Paris CEST
END:DAYLIGHT
END:VTIMEZONE
BEGIN:VEVENT
UID:4dbb5a3cb4dca9030cfecb4659605760
CATEGORIES:Opens et Promos (alpin)
CREATED:20140212T213615
SUMMARY:PROMO       Challenge des Cadres 2014 **REPORTE**
URL;VALUE=URI:https://skivosges.net/agenda/detailevenement/232/-/promo-challenge-des-cadr
 es-2014-reporte?tmpl=component
DESCRIPTION:PROMO       Challenge des Cadres 2014 (Epreuve reportée, date à determiner)
 \n\nLieu : GERARDMER \nOrganisateur : GERARDMER SKI ALPIN  (14089 GERARDMER
  SKI ALPIN)\nEmail : RegularLabs.EmailProtector.unCloak("ep_e65a93e7");\nTe
 lecopie : 03 29 60 98 04\nTelecopie : 03 29 60 98 04\n - AMVF1071  Slalom G
 eant Ttes Cat. Dames\n  PROMO       Challenge des Cadres 2014\n - AMVM1071 
  Slalom Geant Ttes Cat. Hommes\n  PROMO       Challenge des Cadres 2014 Cet
  évènement a été importé depuis :https://skivosges.net/agenda/detaileveneme
 nt/232/-/promo-challenge-des-cadres-2014-reporte?tmpl=component
X-ALT-DESC;FMTTYPE=text/html:<strong>PROMO       Challenge des Cadres 2014</strong> <font class="attenti
 on4">(Epreuve reportée, date à determiner)</font><br /><br />Lieu : GERARDM
 ER <br />Organisateur : GERARDMER SKI ALPIN  <small>(14089 GERARDMER SKI AL
 PIN)</small><br />Email : <!-- Cette adresse électronique est protégée cont
 re les robots spammeurs. --><span class="cloaked_email ep_e65a93e7"><span d
 ata-ep-b="&#101;.f&#114;" data-ep-a="&#103;&#101;r&#97;&#114;"><span data-e
 p-a="&#100;&#109;&#101;&#114;&#45;" data-ep-b="&#111;&#114;&#97;&#110;&#103
 ;"><span data-ep-a="&#115;k&#105;&#45;&#97;" data-ep-b="&#108;&#112;&#105;&
 #110;&#64;"></span></span></span></span><script>RegularLabs.EmailProtector.
 unCloak("ep_e65a93e7");</script><br />Telecopie : 03 29 60 98 04<br />Telec
 opie : 03 29 60 98 04<ul type="disc"><li>AMVF1071  Slalom Geant <nobr>Ttes 
 Cat.</nobr> Dames<br />&nbsp;&nbsp;PROMO       Challenge des Cadres 2014</l
 i><li>AMVM1071  Slalom Geant <nobr>Ttes Cat.</nobr> Hommes<br />&nbsp;&nbsp
 ;PROMO       Challenge des Cadres 2014</li></ul> <a href="https://skivosges
 .net/agenda/detailevenement/232/-/promo-challenge-des-cadres-2014-reporte?t
 mpl=component">Cet évènement a été importé depuis :https://skivosges.net/ag
 enda/detailevenement/232/-/promo-challenge-des-cadres-2014-reporte?tmpl=com
 ponent</a>DTSTAMP:20260421T014557
DTSTART;TZID=Europe/Paris:20140322T080000
DTEND;TZID=Europe/Paris:20140322T170000
SEQUENCE:0
TRANSP:OPAQUE
END:VEVENT
END:VCALENDAR