BEGIN:VCALENDAR
VERSION:2.0
PRODID:-//jEvents 2.0 for Joomla//EN
CALSCALE:GREGORIAN
METHOD:PUBLISH
BEGIN:VTIMEZONE
TZID:Europe/Paris
BEGIN:STANDARD
DTSTART:20131121T100000
RDATE:20140330T030000
TZOFFSETFROM:+0200
TZOFFSETTO:+0100
TZNAME:Europe/Paris CET
END:STANDARD
BEGIN:STANDARD
DTSTART:20141026T020000
RDATE:20150329T030000
TZOFFSETFROM:+0200
TZOFFSETTO:+0100
TZNAME:Europe/Paris CET
END:STANDARD
BEGIN:STANDARD
DTSTART:20151025T020000
RDATE:20160327T030000
TZOFFSETFROM:+0200
TZOFFSETTO:+0100
TZNAME:Europe/Paris CET
END:STANDARD
BEGIN:STANDARD
DTSTART:20161030T020000
RDATE:20170326T030000
TZOFFSETFROM:+0200
TZOFFSETTO:+0100
TZNAME:Europe/Paris CET
END:STANDARD
BEGIN:STANDARD
DTSTART:20171029T020000
RDATE:20180325T030000
TZOFFSETFROM:+0200
TZOFFSETTO:+0100
TZNAME:Europe/Paris CET
END:STANDARD
BEGIN:STANDARD
DTSTART:20181028T020000
RDATE:20190331T030000
TZOFFSETFROM:+0200
TZOFFSETTO:+0100
TZNAME:Europe/Paris CET
END:STANDARD
BEGIN:STANDARD
DTSTART:20191027T020000
RDATE:20200329T030000
TZOFFSETFROM:+0200
TZOFFSETTO:+0100
TZNAME:Europe/Paris CET
END:STANDARD
BEGIN:STANDARD
DTSTART:20201025T020000
RDATE:20210328T030000
TZOFFSETFROM:+0200
TZOFFSETTO:+0100
TZNAME:Europe/Paris CET
END:STANDARD
BEGIN:STANDARD
DTSTART:20211031T020000
RDATE:20220327T030000
TZOFFSETFROM:+0200
TZOFFSETTO:+0100
TZNAME:Europe/Paris CET
END:STANDARD
BEGIN:STANDARD
DTSTART:20221030T020000
RDATE:20230326T030000
TZOFFSETFROM:+0200
TZOFFSETTO:+0100
TZNAME:Europe/Paris CET
END:STANDARD
BEGIN:STANDARD
DTSTART:20231029T020000
RDATE:20240331T030000
TZOFFSETFROM:+0200
TZOFFSETTO:+0100
TZNAME:Europe/Paris CET
END:STANDARD
BEGIN:STANDARD
DTSTART:20241027T020000
RDATE:20250330T030000
TZOFFSETFROM:+0200
TZOFFSETTO:+0100
TZNAME:Europe/Paris CET
END:STANDARD
BEGIN:STANDARD
DTSTART:20251026T020000
RDATE:20260329T030000
TZOFFSETFROM:+0200
TZOFFSETTO:+0100
TZNAME:Europe/Paris CET
END:STANDARD
BEGIN:STANDARD
DTSTART:20261025T020000
RDATE:20270328T030000
TZOFFSETFROM:+0200
TZOFFSETTO:+0100
TZNAME:Europe/Paris CET
END:STANDARD
BEGIN:DAYLIGHT
DTSTART:20140330T030000
RDATE:20141026T020000
TZOFFSETFROM:+0100
TZOFFSETTO:+0200
TZNAME:Europe/Paris CEST
END:DAYLIGHT
BEGIN:DAYLIGHT
DTSTART:20150329T030000
RDATE:20151025T020000
TZOFFSETFROM:+0100
TZOFFSETTO:+0200
TZNAME:Europe/Paris CEST
END:DAYLIGHT
BEGIN:DAYLIGHT
DTSTART:20160327T030000
RDATE:20161030T020000
TZOFFSETFROM:+0100
TZOFFSETTO:+0200
TZNAME:Europe/Paris CEST
END:DAYLIGHT
BEGIN:DAYLIGHT
DTSTART:20170326T030000
RDATE:20171029T020000
TZOFFSETFROM:+0100
TZOFFSETTO:+0200
TZNAME:Europe/Paris CEST
END:DAYLIGHT
BEGIN:DAYLIGHT
DTSTART:20180325T030000
RDATE:20181028T020000
TZOFFSETFROM:+0100
TZOFFSETTO:+0200
TZNAME:Europe/Paris CEST
END:DAYLIGHT
BEGIN:DAYLIGHT
DTSTART:20190331T030000
RDATE:20191027T020000
TZOFFSETFROM:+0100
TZOFFSETTO:+0200
TZNAME:Europe/Paris CEST
END:DAYLIGHT
BEGIN:DAYLIGHT
DTSTART:20200329T030000
RDATE:20201025T020000
TZOFFSETFROM:+0100
TZOFFSETTO:+0200
TZNAME:Europe/Paris CEST
END:DAYLIGHT
BEGIN:DAYLIGHT
DTSTART:20210328T030000
RDATE:20211031T020000
TZOFFSETFROM:+0100
TZOFFSETTO:+0200
TZNAME:Europe/Paris CEST
END:DAYLIGHT
BEGIN:DAYLIGHT
DTSTART:20220327T030000
RDATE:20221030T020000
TZOFFSETFROM:+0100
TZOFFSETTO:+0200
TZNAME:Europe/Paris CEST
END:DAYLIGHT
BEGIN:DAYLIGHT
DTSTART:20230326T030000
RDATE:20231029T020000
TZOFFSETFROM:+0100
TZOFFSETTO:+0200
TZNAME:Europe/Paris CEST
END:DAYLIGHT
BEGIN:DAYLIGHT
DTSTART:20240331T030000
RDATE:20241027T020000
TZOFFSETFROM:+0100
TZOFFSETTO:+0200
TZNAME:Europe/Paris CEST
END:DAYLIGHT
BEGIN:DAYLIGHT
DTSTART:20250330T030000
RDATE:20251026T020000
TZOFFSETFROM:+0100
TZOFFSETTO:+0200
TZNAME:Europe/Paris CEST
END:DAYLIGHT
BEGIN:DAYLIGHT
DTSTART:20260329T030000
RDATE:20261025T020000
TZOFFSETFROM:+0100
TZOFFSETTO:+0200
TZNAME:Europe/Paris CEST
END:DAYLIGHT
END:VTIMEZONE
BEGIN:VEVENT
UID:4bd36a9190db0d10925c9047638f81b0
CATEGORIES:Formation Officiels - Chronos - Gestionnaires
CREATED:20141029T113456
SUMMARY:Journée Technique Régionale (Sessions de Formation Initiales Juges)
LOCATION:La Bresse / Hotel des Valées 
URL;VALUE=URI:https://skivosges.net/agenda/detailevenement/251/-/journee-technique-region
 ale-sessions-de-formation-initiales-juges?tmpl=component
DESCRIPTION:Sessions de formations initiales Juges de Compétition (Alpin) organisées da
 ns le cadre de la Journée Technique Régionale.\n(Mais independantes des ses
 sion de l'après-midi, dont la participation est facultative).\nLe 20/11 14:
 00 ATTENTION : la formation juge Nordique sera effectuée pendant l'après mi
 di (14H-16H) en même temps que la session de recyclage.\n\nHoraires de form
 ation Juge Alpin : 10H00 à 12H\n\n \nRemarque :\nIl est fortement recommand
 é de vous identifier sur le site (index.php?option=com_users&amp;view=login
 &amp;Itemid=204) avant de vous inscrire à un evenement.\nLe fait d'être ins
 crit et identifié sur skivosges permet d'avoir accès à vos inscriptions, de
  les modifier, voire les supprimer selon l'evenement.\n \n Cet évènement a 
 été importé depuis :https://skivosges.net/agenda/detailevenement/251/-/jour
 nee-technique-regionale-sessions-de-formation-initiales-juges?tmpl=componen
 t
X-ALT-DESC;FMTTYPE=text/html:<p>Sessions de formations initiales Juges de Compétition (Alpin) organisées
  dans le cadre de la Journée Technique Régionale.<br />(Mais independantes 
 des session de l'après-midi, dont la participation est facultative).</p><p>
 <span style="color: #ff0000;"><strong>Le 20/11 14:00 ATTENTION : la formati
 on juge Nordique sera effectuée pendant l'après midi (14H-16H) en même temp
 s que la session de recyclage.<br /></strong></span></p><p>Horaires de form
 ation Juge Alpin : 10H00 à 12H</p><p><br />&nbsp;</p><p><em><span class="at
 tention">Remarque :<br />Il est fortement recommandé de <a href="https://sk
 ivosges.net/index.php?option=com_users&view=login&Itemid=204" target="_pare
 nt">vous identifier sur le site</a> avant de vous inscrire à un evenement.<
 br />Le fait d'être inscrit et identifié sur skivosges permet d'avoir accès
  à vos inscriptions, de les modifier, voire les supprimer selon l'evenement
 .</span></em></p><p>&nbsp;</p> <a href="https://skivosges.net/agenda/detail
 evenement/251/-/journee-technique-regionale-sessions-de-formation-initiales
 -juges?tmpl=component">Cet évènement a été importé depuis :https://skivosge
 s.net/agenda/detailevenement/251/-/journee-technique-regionale-sessions-de-
 formation-initiales-juges?tmpl=component</a>CONTACT:RegularLabs.EmailProtector.unCloak("ep_4bb941a9");
DTSTAMP:20260420T221122
DTSTART;TZID=Europe/Paris:20141122T100000
DTEND;TZID=Europe/Paris:20141122T120000
SEQUENCE:0
TRANSP:OPAQUE
END:VEVENT
END:VCALENDAR