BEGIN:VCALENDAR
VERSION:2.0
PRODID:-//jEvents 2.0 for Joomla//EN
CALSCALE:GREGORIAN
METHOD:PUBLISH
BEGIN:VTIMEZONE
TZID:Europe/Paris
BEGIN:STANDARD
DTSTART:20131206T080000
RDATE:20140330T030000
TZOFFSETFROM:+0200
TZOFFSETTO:+0100
TZNAME:Europe/Paris CET
END:STANDARD
BEGIN:STANDARD
DTSTART:20141026T020000
RDATE:20150329T030000
TZOFFSETFROM:+0200
TZOFFSETTO:+0100
TZNAME:Europe/Paris CET
END:STANDARD
BEGIN:STANDARD
DTSTART:20151025T020000
RDATE:20160327T030000
TZOFFSETFROM:+0200
TZOFFSETTO:+0100
TZNAME:Europe/Paris CET
END:STANDARD
BEGIN:STANDARD
DTSTART:20161030T020000
RDATE:20170326T030000
TZOFFSETFROM:+0200
TZOFFSETTO:+0100
TZNAME:Europe/Paris CET
END:STANDARD
BEGIN:STANDARD
DTSTART:20171029T020000
RDATE:20180325T030000
TZOFFSETFROM:+0200
TZOFFSETTO:+0100
TZNAME:Europe/Paris CET
END:STANDARD
BEGIN:STANDARD
DTSTART:20181028T020000
RDATE:20190331T030000
TZOFFSETFROM:+0200
TZOFFSETTO:+0100
TZNAME:Europe/Paris CET
END:STANDARD
BEGIN:STANDARD
DTSTART:20191027T020000
RDATE:20200329T030000
TZOFFSETFROM:+0200
TZOFFSETTO:+0100
TZNAME:Europe/Paris CET
END:STANDARD
BEGIN:STANDARD
DTSTART:20201025T020000
RDATE:20210328T030000
TZOFFSETFROM:+0200
TZOFFSETTO:+0100
TZNAME:Europe/Paris CET
END:STANDARD
BEGIN:STANDARD
DTSTART:20211031T020000
RDATE:20220327T030000
TZOFFSETFROM:+0200
TZOFFSETTO:+0100
TZNAME:Europe/Paris CET
END:STANDARD
BEGIN:STANDARD
DTSTART:20221030T020000
RDATE:20230326T030000
TZOFFSETFROM:+0200
TZOFFSETTO:+0100
TZNAME:Europe/Paris CET
END:STANDARD
BEGIN:STANDARD
DTSTART:20231029T020000
RDATE:20240331T030000
TZOFFSETFROM:+0200
TZOFFSETTO:+0100
TZNAME:Europe/Paris CET
END:STANDARD
BEGIN:STANDARD
DTSTART:20241027T020000
RDATE:20250330T030000
TZOFFSETFROM:+0200
TZOFFSETTO:+0100
TZNAME:Europe/Paris CET
END:STANDARD
BEGIN:STANDARD
DTSTART:20251026T020000
RDATE:20260329T030000
TZOFFSETFROM:+0200
TZOFFSETTO:+0100
TZNAME:Europe/Paris CET
END:STANDARD
BEGIN:STANDARD
DTSTART:20261025T020000
RDATE:20270328T030000
TZOFFSETFROM:+0200
TZOFFSETTO:+0100
TZNAME:Europe/Paris CET
END:STANDARD
BEGIN:DAYLIGHT
DTSTART:20140330T030000
RDATE:20141026T020000
TZOFFSETFROM:+0100
TZOFFSETTO:+0200
TZNAME:Europe/Paris CEST
END:DAYLIGHT
BEGIN:DAYLIGHT
DTSTART:20150329T030000
RDATE:20151025T020000
TZOFFSETFROM:+0100
TZOFFSETTO:+0200
TZNAME:Europe/Paris CEST
END:DAYLIGHT
BEGIN:DAYLIGHT
DTSTART:20160327T030000
RDATE:20161030T020000
TZOFFSETFROM:+0100
TZOFFSETTO:+0200
TZNAME:Europe/Paris CEST
END:DAYLIGHT
BEGIN:DAYLIGHT
DTSTART:20170326T030000
RDATE:20171029T020000
TZOFFSETFROM:+0100
TZOFFSETTO:+0200
TZNAME:Europe/Paris CEST
END:DAYLIGHT
BEGIN:DAYLIGHT
DTSTART:20180325T030000
RDATE:20181028T020000
TZOFFSETFROM:+0100
TZOFFSETTO:+0200
TZNAME:Europe/Paris CEST
END:DAYLIGHT
BEGIN:DAYLIGHT
DTSTART:20190331T030000
RDATE:20191027T020000
TZOFFSETFROM:+0100
TZOFFSETTO:+0200
TZNAME:Europe/Paris CEST
END:DAYLIGHT
BEGIN:DAYLIGHT
DTSTART:20200329T030000
RDATE:20201025T020000
TZOFFSETFROM:+0100
TZOFFSETTO:+0200
TZNAME:Europe/Paris CEST
END:DAYLIGHT
BEGIN:DAYLIGHT
DTSTART:20210328T030000
RDATE:20211031T020000
TZOFFSETFROM:+0100
TZOFFSETTO:+0200
TZNAME:Europe/Paris CEST
END:DAYLIGHT
BEGIN:DAYLIGHT
DTSTART:20220327T030000
RDATE:20221030T020000
TZOFFSETFROM:+0100
TZOFFSETTO:+0200
TZNAME:Europe/Paris CEST
END:DAYLIGHT
BEGIN:DAYLIGHT
DTSTART:20230326T030000
RDATE:20231029T020000
TZOFFSETFROM:+0100
TZOFFSETTO:+0200
TZNAME:Europe/Paris CEST
END:DAYLIGHT
BEGIN:DAYLIGHT
DTSTART:20240331T030000
RDATE:20241027T020000
TZOFFSETFROM:+0100
TZOFFSETTO:+0200
TZNAME:Europe/Paris CEST
END:DAYLIGHT
BEGIN:DAYLIGHT
DTSTART:20250330T030000
RDATE:20251026T020000
TZOFFSETFROM:+0100
TZOFFSETTO:+0200
TZNAME:Europe/Paris CEST
END:DAYLIGHT
BEGIN:DAYLIGHT
DTSTART:20260329T030000
RDATE:20261025T020000
TZOFFSETFROM:+0100
TZOFFSETTO:+0200
TZNAME:Europe/Paris CEST
END:DAYLIGHT
END:VTIMEZONE
BEGIN:VEVENT
UID:1d4292689ad87d150b9b77988e1e1de4
CATEGORIES:Compétition Biathlon
CREATED:20141127T000322
SUMMARY:Crédit Mutuel Super U hiver
URL;VALUE=URI:https://skivosges.net/agenda/detailevenement/258/-/credit-mutuel-super-u-hi
 ver?tmpl=component
DESCRIPTION:Crédit Mutuel Super U hiver\n\nLieu : CHAMP DU FEU\nOrganisateur : MOLSHEIM
  SKI NORDIQUE (14448 MOLSHEIM SKI NORDIQUE)\n - BMVF0021  Individuel U12 (B
 enjamin) Filles\n  Crédit Mutuel Super U hiver\n - BMVM0021  Individuel U12
  (Benjamin) Garçons\n  Crédit Mutuel Super U hiver\n - BMVF0022  Individuel
  U14 (Minime) Filles\n  Crédit Mutuel Super U hiver\n - BMVM0022  Individue
 l U14 (Minime) Garçons\n  Crédit Mutuel Super U hiver\n - BMVF0023  Individ
 uel U16 a SEN (Cadet a Senior) Dames\n  Crédit Mutuel Super U hiver\n - BMV
 M0023  Individuel U16 a SEN (Cadet a Senior) Hommes\n  Crédit Mutuel Super 
 U hiver Cet évènement a été importé depuis :https://skivosges.net/agenda/de
 tailevenement/258/-/credit-mutuel-super-u-hiver?tmpl=component (https://ski
 vosges.net/agenda/detailevenement/258/-/credit-mutuel-super-u-hiver?tmpl=co
 mponent)
X-ALT-DESC;FMTTYPE=text/html:<strong>Crédit Mutuel Super U hiver</strong><br /><br />Lieu : CHAMP DU FEU
 <br />Organisateur : MOLSHEIM SKI NORDIQUE <small>(14448 MOLSHEIM SKI NORDI
 QUE)</small><ul type="disc"><li>BMVF0021  Individuel <nobr>U12 (Benjamin)</
 nobr> Filles<br />&nbsp;&nbsp;Crédit Mutuel Super U hiver</li><li>BMVM0021 
  Individuel <nobr>U12 (Benjamin)</nobr> Garçons<br />&nbsp;&nbsp;Crédit Mut
 uel Super U hiver</li><li>BMVF0022  Individuel <nobr>U14 (Minime)</nobr> Fi
 lles<br />&nbsp;&nbsp;Crédit Mutuel Super U hiver</li><li>BMVM0022  Individ
 uel <nobr>U14 (Minime)</nobr> Garçons<br />&nbsp;&nbsp;Crédit Mutuel Super 
 U hiver</li><li>BMVF0023  Individuel <nobr>U16 a SEN (Cadet a Senior)</nobr
 > Dames<br />&nbsp;&nbsp;Crédit Mutuel Super U hiver</li><li>BMVM0023  Indi
 viduel <nobr>U16 a SEN (Cadet a Senior)</nobr> Hommes<br />&nbsp;&nbsp;Créd
 it Mutuel Super U hiver</li></ul> <a href="https://skivosges.net/agenda/det
 ailevenement/258/-/credit-mutuel-super-u-hiver?tmpl=component">Cet évènemen
 t a été importé depuis :https://skivosges.net/agenda/detailevenement/258/-/
 credit-mutuel-super-u-hiver?tmpl=component</a>DTSTAMP:20260421T050903
DTSTART;TZID=Europe/Paris:20141207T080000
DTEND;TZID=Europe/Paris:20141207T170000
SEQUENCE:0
TRANSP:OPAQUE
END:VEVENT
END:VCALENDAR