BEGIN:VCALENDAR
VERSION:2.0
PRODID:-//jEvents 2.0 for Joomla//EN
CALSCALE:GREGORIAN
METHOD:PUBLISH
BEGIN:VTIMEZONE
TZID:Europe/Paris
BEGIN:STANDARD
DTSTART:20131219T080000
RDATE:20140330T030000
TZOFFSETFROM:+0200
TZOFFSETTO:+0100
TZNAME:Europe/Paris CET
END:STANDARD
BEGIN:STANDARD
DTSTART:20141026T020000
RDATE:20150329T030000
TZOFFSETFROM:+0200
TZOFFSETTO:+0100
TZNAME:Europe/Paris CET
END:STANDARD
BEGIN:STANDARD
DTSTART:20151025T020000
RDATE:20160327T030000
TZOFFSETFROM:+0200
TZOFFSETTO:+0100
TZNAME:Europe/Paris CET
END:STANDARD
BEGIN:STANDARD
DTSTART:20161030T020000
RDATE:20170326T030000
TZOFFSETFROM:+0200
TZOFFSETTO:+0100
TZNAME:Europe/Paris CET
END:STANDARD
BEGIN:STANDARD
DTSTART:20171029T020000
RDATE:20180325T030000
TZOFFSETFROM:+0200
TZOFFSETTO:+0100
TZNAME:Europe/Paris CET
END:STANDARD
BEGIN:STANDARD
DTSTART:20181028T020000
RDATE:20190331T030000
TZOFFSETFROM:+0200
TZOFFSETTO:+0100
TZNAME:Europe/Paris CET
END:STANDARD
BEGIN:STANDARD
DTSTART:20191027T020000
RDATE:20200329T030000
TZOFFSETFROM:+0200
TZOFFSETTO:+0100
TZNAME:Europe/Paris CET
END:STANDARD
BEGIN:STANDARD
DTSTART:20201025T020000
RDATE:20210328T030000
TZOFFSETFROM:+0200
TZOFFSETTO:+0100
TZNAME:Europe/Paris CET
END:STANDARD
BEGIN:STANDARD
DTSTART:20211031T020000
RDATE:20220327T030000
TZOFFSETFROM:+0200
TZOFFSETTO:+0100
TZNAME:Europe/Paris CET
END:STANDARD
BEGIN:STANDARD
DTSTART:20221030T020000
RDATE:20230326T030000
TZOFFSETFROM:+0200
TZOFFSETTO:+0100
TZNAME:Europe/Paris CET
END:STANDARD
BEGIN:STANDARD
DTSTART:20231029T020000
RDATE:20240331T030000
TZOFFSETFROM:+0200
TZOFFSETTO:+0100
TZNAME:Europe/Paris CET
END:STANDARD
BEGIN:STANDARD
DTSTART:20241027T020000
RDATE:20250330T030000
TZOFFSETFROM:+0200
TZOFFSETTO:+0100
TZNAME:Europe/Paris CET
END:STANDARD
BEGIN:STANDARD
DTSTART:20251026T020000
RDATE:20260329T030000
TZOFFSETFROM:+0200
TZOFFSETTO:+0100
TZNAME:Europe/Paris CET
END:STANDARD
BEGIN:STANDARD
DTSTART:20261025T020000
RDATE:20270328T030000
TZOFFSETFROM:+0200
TZOFFSETTO:+0100
TZNAME:Europe/Paris CET
END:STANDARD
BEGIN:DAYLIGHT
DTSTART:20140330T030000
RDATE:20141026T020000
TZOFFSETFROM:+0100
TZOFFSETTO:+0200
TZNAME:Europe/Paris CEST
END:DAYLIGHT
BEGIN:DAYLIGHT
DTSTART:20150329T030000
RDATE:20151025T020000
TZOFFSETFROM:+0100
TZOFFSETTO:+0200
TZNAME:Europe/Paris CEST
END:DAYLIGHT
BEGIN:DAYLIGHT
DTSTART:20160327T030000
RDATE:20161030T020000
TZOFFSETFROM:+0100
TZOFFSETTO:+0200
TZNAME:Europe/Paris CEST
END:DAYLIGHT
BEGIN:DAYLIGHT
DTSTART:20170326T030000
RDATE:20171029T020000
TZOFFSETFROM:+0100
TZOFFSETTO:+0200
TZNAME:Europe/Paris CEST
END:DAYLIGHT
BEGIN:DAYLIGHT
DTSTART:20180325T030000
RDATE:20181028T020000
TZOFFSETFROM:+0100
TZOFFSETTO:+0200
TZNAME:Europe/Paris CEST
END:DAYLIGHT
BEGIN:DAYLIGHT
DTSTART:20190331T030000
RDATE:20191027T020000
TZOFFSETFROM:+0100
TZOFFSETTO:+0200
TZNAME:Europe/Paris CEST
END:DAYLIGHT
BEGIN:DAYLIGHT
DTSTART:20200329T030000
RDATE:20201025T020000
TZOFFSETFROM:+0100
TZOFFSETTO:+0200
TZNAME:Europe/Paris CEST
END:DAYLIGHT
BEGIN:DAYLIGHT
DTSTART:20210328T030000
RDATE:20211031T020000
TZOFFSETFROM:+0100
TZOFFSETTO:+0200
TZNAME:Europe/Paris CEST
END:DAYLIGHT
BEGIN:DAYLIGHT
DTSTART:20220327T030000
RDATE:20221030T020000
TZOFFSETFROM:+0100
TZOFFSETTO:+0200
TZNAME:Europe/Paris CEST
END:DAYLIGHT
BEGIN:DAYLIGHT
DTSTART:20230326T030000
RDATE:20231029T020000
TZOFFSETFROM:+0100
TZOFFSETTO:+0200
TZNAME:Europe/Paris CEST
END:DAYLIGHT
BEGIN:DAYLIGHT
DTSTART:20240331T030000
RDATE:20241027T020000
TZOFFSETFROM:+0100
TZOFFSETTO:+0200
TZNAME:Europe/Paris CEST
END:DAYLIGHT
BEGIN:DAYLIGHT
DTSTART:20250330T030000
RDATE:20251026T020000
TZOFFSETFROM:+0100
TZOFFSETTO:+0200
TZNAME:Europe/Paris CEST
END:DAYLIGHT
BEGIN:DAYLIGHT
DTSTART:20260329T030000
RDATE:20261025T020000
TZOFFSETFROM:+0100
TZOFFSETTO:+0200
TZNAME:Europe/Paris CEST
END:DAYLIGHT
END:VTIMEZONE
BEGIN:VEVENT
UID:387ac317b1e6e8a870c41a1bc0504c23
CATEGORIES:Compétition Ski de Fond
CREATED:20141127T000322
SUMMARY:Sprint de La Bresse Credit Mutuel Big Mat Atomic n° 1 **REPORTE**
URL;VALUE=URI:https://skivosges.net/agenda/detailevenement/263/-/sprint-de-la-bresse-cred
 it-mutuel-big-mat-atomic-n-1-reporte?tmpl=component
DESCRIPTION:Sprint de La Bresse Credit Mutuel Big Mat Atomic n° 1 (Epreuve reportée, da
 te à determiner)\n\nLieu : LA BRESSE\nOrganisateur : LA BRESSAUDE SECTION S
 KI (14024 LA BRESSAUDE SECTION SKI)\n\nInscriptions en cours sur ce site\n 
 - FMVF0021  Depart Individuel U14 a SEN (Minime a Senior) Dames\n  Sprint d
 e La Bresse Credit Mutuel Big Mat Atomic n° 1\n - FMVM0021  Depart Individu
 el U14 a SEN (Minime a Senior) Hommes\n  Sprint de La Bresse Credit Mutuel 
 Big Mat Atomic n° 1 Cet évènement a été importé depuis :https://skivosges.n
 et/agenda/detailevenement/263/-/sprint-de-la-bresse-credit-mutuel-big-mat-a
 tomic-n-1-reporte?tmpl=component
X-ALT-DESC;FMTTYPE=text/html:<strong>Sprint de La Bresse Credit Mutuel Big Mat Atomic n° 1</strong> <fon
 t class="attention4">(Epreuve reportée, date à determiner)</font><br /><br 
 />Lieu : LA BRESSE<br />Organisateur : LA BRESSAUDE SECTION SKI <small>(140
 24 LA BRESSAUDE SECTION SKI)</small><br /><br />Inscriptions en cours sur c
 e site<ul type="disc"><li>FMVF0021  Depart Individuel <nobr>U14 a SEN (Mini
 me a Senior)</nobr> Dames<br />&nbsp;&nbsp;Sprint de La Bresse Credit Mutue
 l Big Mat Atomic n° 1</li><li>FMVM0021  Depart Individuel <nobr>U14 a SEN (
 Minime a Senior)</nobr> Hommes<br />&nbsp;&nbsp;Sprint de La Bresse Credit 
 Mutuel Big Mat Atomic n° 1</li></ul> <a href="https://skivosges.net/agenda/
 detailevenement/263/-/sprint-de-la-bresse-credit-mutuel-big-mat-atomic-n-1-
 reporte?tmpl=component">Cet évènement a été importé depuis :https://skivosg
 es.net/agenda/detailevenement/263/-/sprint-de-la-bresse-credit-mutuel-big-m
 at-atomic-n-1-reporte?tmpl=component</a>DTSTAMP:20260421T014545
DTSTART;TZID=Europe/Paris:20141220T080000
DTEND;TZID=Europe/Paris:20141220T170000
SEQUENCE:0
TRANSP:OPAQUE
END:VEVENT
END:VCALENDAR