BEGIN:VCALENDAR
VERSION:2.0
PRODID:-//jEvents 2.0 for Joomla//EN
CALSCALE:GREGORIAN
METHOD:PUBLISH
BEGIN:VTIMEZONE
TZID:Europe/Paris
BEGIN:STANDARD
DTSTART:20131220T080000
RDATE:20140330T030000
TZOFFSETFROM:+0200
TZOFFSETTO:+0100
TZNAME:Europe/Paris CET
END:STANDARD
BEGIN:STANDARD
DTSTART:20141026T020000
RDATE:20150329T030000
TZOFFSETFROM:+0200
TZOFFSETTO:+0100
TZNAME:Europe/Paris CET
END:STANDARD
BEGIN:STANDARD
DTSTART:20151025T020000
RDATE:20160327T030000
TZOFFSETFROM:+0200
TZOFFSETTO:+0100
TZNAME:Europe/Paris CET
END:STANDARD
BEGIN:STANDARD
DTSTART:20161030T020000
RDATE:20170326T030000
TZOFFSETFROM:+0200
TZOFFSETTO:+0100
TZNAME:Europe/Paris CET
END:STANDARD
BEGIN:STANDARD
DTSTART:20171029T020000
RDATE:20180325T030000
TZOFFSETFROM:+0200
TZOFFSETTO:+0100
TZNAME:Europe/Paris CET
END:STANDARD
BEGIN:STANDARD
DTSTART:20181028T020000
RDATE:20190331T030000
TZOFFSETFROM:+0200
TZOFFSETTO:+0100
TZNAME:Europe/Paris CET
END:STANDARD
BEGIN:STANDARD
DTSTART:20191027T020000
RDATE:20200329T030000
TZOFFSETFROM:+0200
TZOFFSETTO:+0100
TZNAME:Europe/Paris CET
END:STANDARD
BEGIN:STANDARD
DTSTART:20201025T020000
RDATE:20210328T030000
TZOFFSETFROM:+0200
TZOFFSETTO:+0100
TZNAME:Europe/Paris CET
END:STANDARD
BEGIN:STANDARD
DTSTART:20211031T020000
RDATE:20220327T030000
TZOFFSETFROM:+0200
TZOFFSETTO:+0100
TZNAME:Europe/Paris CET
END:STANDARD
BEGIN:STANDARD
DTSTART:20221030T020000
RDATE:20230326T030000
TZOFFSETFROM:+0200
TZOFFSETTO:+0100
TZNAME:Europe/Paris CET
END:STANDARD
BEGIN:STANDARD
DTSTART:20231029T020000
RDATE:20240331T030000
TZOFFSETFROM:+0200
TZOFFSETTO:+0100
TZNAME:Europe/Paris CET
END:STANDARD
BEGIN:STANDARD
DTSTART:20241027T020000
RDATE:20250330T030000
TZOFFSETFROM:+0200
TZOFFSETTO:+0100
TZNAME:Europe/Paris CET
END:STANDARD
BEGIN:STANDARD
DTSTART:20251026T020000
RDATE:20260329T030000
TZOFFSETFROM:+0200
TZOFFSETTO:+0100
TZNAME:Europe/Paris CET
END:STANDARD
BEGIN:STANDARD
DTSTART:20261025T020000
RDATE:20270328T030000
TZOFFSETFROM:+0200
TZOFFSETTO:+0100
TZNAME:Europe/Paris CET
END:STANDARD
BEGIN:DAYLIGHT
DTSTART:20140330T030000
RDATE:20141026T020000
TZOFFSETFROM:+0100
TZOFFSETTO:+0200
TZNAME:Europe/Paris CEST
END:DAYLIGHT
BEGIN:DAYLIGHT
DTSTART:20150329T030000
RDATE:20151025T020000
TZOFFSETFROM:+0100
TZOFFSETTO:+0200
TZNAME:Europe/Paris CEST
END:DAYLIGHT
BEGIN:DAYLIGHT
DTSTART:20160327T030000
RDATE:20161030T020000
TZOFFSETFROM:+0100
TZOFFSETTO:+0200
TZNAME:Europe/Paris CEST
END:DAYLIGHT
BEGIN:DAYLIGHT
DTSTART:20170326T030000
RDATE:20171029T020000
TZOFFSETFROM:+0100
TZOFFSETTO:+0200
TZNAME:Europe/Paris CEST
END:DAYLIGHT
BEGIN:DAYLIGHT
DTSTART:20180325T030000
RDATE:20181028T020000
TZOFFSETFROM:+0100
TZOFFSETTO:+0200
TZNAME:Europe/Paris CEST
END:DAYLIGHT
BEGIN:DAYLIGHT
DTSTART:20190331T030000
RDATE:20191027T020000
TZOFFSETFROM:+0100
TZOFFSETTO:+0200
TZNAME:Europe/Paris CEST
END:DAYLIGHT
BEGIN:DAYLIGHT
DTSTART:20200329T030000
RDATE:20201025T020000
TZOFFSETFROM:+0100
TZOFFSETTO:+0200
TZNAME:Europe/Paris CEST
END:DAYLIGHT
BEGIN:DAYLIGHT
DTSTART:20210328T030000
RDATE:20211031T020000
TZOFFSETFROM:+0100
TZOFFSETTO:+0200
TZNAME:Europe/Paris CEST
END:DAYLIGHT
BEGIN:DAYLIGHT
DTSTART:20220327T030000
RDATE:20221030T020000
TZOFFSETFROM:+0100
TZOFFSETTO:+0200
TZNAME:Europe/Paris CEST
END:DAYLIGHT
BEGIN:DAYLIGHT
DTSTART:20230326T030000
RDATE:20231029T020000
TZOFFSETFROM:+0100
TZOFFSETTO:+0200
TZNAME:Europe/Paris CEST
END:DAYLIGHT
BEGIN:DAYLIGHT
DTSTART:20240331T030000
RDATE:20241027T020000
TZOFFSETFROM:+0100
TZOFFSETTO:+0200
TZNAME:Europe/Paris CEST
END:DAYLIGHT
BEGIN:DAYLIGHT
DTSTART:20250330T030000
RDATE:20251026T020000
TZOFFSETFROM:+0100
TZOFFSETTO:+0200
TZNAME:Europe/Paris CEST
END:DAYLIGHT
BEGIN:DAYLIGHT
DTSTART:20260329T030000
RDATE:20261025T020000
TZOFFSETFROM:+0100
TZOFFSETTO:+0200
TZNAME:Europe/Paris CEST
END:DAYLIGHT
END:VTIMEZONE
BEGIN:VEVENT
UID:dfe450f5e74b1e20d1d5727a609c0e73
CATEGORIES:Circuit Lorraine Adultes (alpin)
CREATED:20141127T000322
SUMMARY:CLA  U16 à Masters     Prix Decobois **REPORTE**
URL;VALUE=URI:https://skivosges.net/agenda/detailevenement/268/-/cla-u16-a-masters-prix-d
 ecobois-reporte?tmpl=component
DESCRIPTION:CLA  U16 à Masters     Prix Decobois (Epreuve reportée) \n(Coupe de Lorrain
 e Adultes)\n\nLieu : FRERE JOSEPH\nOrganisateur : U.S VENTRON (14083 U.S VE
 NTRON)\nEmail : RegularLabs.EmailProtector.unCloak("ep_ec00b5a4");\n - AMVF
 0051  Slalom (Courses FFS) U16 a Masters Dames\n  CLA  U16 à Masters     Pr
 ix Decobois\n - AMVM0051  Slalom (Courses FFS) U16 a Masters Hommes\n  CLA 
  U16 à Masters     Prix Decobois Cet évènement a été importé depuis :https:
 //skivosges.net/agenda/detailevenement/268/-/cla-u16-a-masters-prix-decoboi
 s-reporte?tmpl=component
X-ALT-DESC;FMTTYPE=text/html:<strong>CLA  U16 à Masters     Prix Decobois</strong> <font class="attentio
 n4">(Epreuve reportée)</font> <br /><i>(Coupe de Lorraine Adultes)</i><br /
 ><br />Lieu : FRERE JOSEPH<br />Organisateur : U.S VENTRON <small>(14083 U.
 S VENTRON)</small><br />Email : <!-- Cette adresse électronique est protégé
 e contre les robots spammeurs. --><span class="cloaked_email ep_ec00b5a4"><
 span data-ep-b="&#108;&#101;&#46;&#102;&#114;" data-ep-a="step&#104;"><span
  data-ep-a="&#97;&#110;e&#46;g" data-ep-b="&#114;&#105;c&#97;&#98;"><span d
 ata-ep-b="&#64;&#110;u&#109;&#101;" data-ep-a="&#105;&#103;&#97;&#110;&#116
 ;"></span></span></span></span><script>RegularLabs.EmailProtector.unCloak("
 ep_ec00b5a4");</script><ul type="disc"><li>AMVF0051  Slalom <nobr><i>(Cours
 es FFS)</i></nobr> <nobr>U16 a Masters</nobr> Dames<br />&nbsp;&nbsp;CLA  U
 16 à Masters     Prix Decobois</li><li>AMVM0051  Slalom <nobr><i>(Courses F
 FS)</i></nobr> <nobr>U16 a Masters</nobr> Hommes<br />&nbsp;&nbsp;CLA  U16 
 à Masters     Prix Decobois</li></ul> <a href="https://skivosges.net/agenda
 /detailevenement/268/-/cla-u16-a-masters-prix-decobois-reporte?tmpl=compone
 nt">Cet évènement a été importé depuis :https://skivosges.net/agenda/detail
 evenement/268/-/cla-u16-a-masters-prix-decobois-reporte?tmpl=component</a>DTSTAMP:20260421T051038
DTSTART;TZID=Europe/Paris:20141221T080000
DTEND;TZID=Europe/Paris:20141221T170000
SEQUENCE:0
TRANSP:OPAQUE
END:VEVENT
END:VCALENDAR