BEGIN:VCALENDAR
VERSION:2.0
PRODID:-//jEvents 2.0 for Joomla//EN
CALSCALE:GREGORIAN
METHOD:PUBLISH
BEGIN:VTIMEZONE
TZID:Europe/Paris
BEGIN:STANDARD
DTSTART:20140130T080000
RDATE:20140330T030000
TZOFFSETFROM:+0200
TZOFFSETTO:+0100
TZNAME:Europe/Paris CET
END:STANDARD
BEGIN:STANDARD
DTSTART:20141026T020000
RDATE:20150329T030000
TZOFFSETFROM:+0200
TZOFFSETTO:+0100
TZNAME:Europe/Paris CET
END:STANDARD
BEGIN:STANDARD
DTSTART:20151025T020000
RDATE:20160327T030000
TZOFFSETFROM:+0200
TZOFFSETTO:+0100
TZNAME:Europe/Paris CET
END:STANDARD
BEGIN:STANDARD
DTSTART:20161030T020000
RDATE:20170326T030000
TZOFFSETFROM:+0200
TZOFFSETTO:+0100
TZNAME:Europe/Paris CET
END:STANDARD
BEGIN:STANDARD
DTSTART:20171029T020000
RDATE:20180325T030000
TZOFFSETFROM:+0200
TZOFFSETTO:+0100
TZNAME:Europe/Paris CET
END:STANDARD
BEGIN:STANDARD
DTSTART:20181028T020000
RDATE:20190331T030000
TZOFFSETFROM:+0200
TZOFFSETTO:+0100
TZNAME:Europe/Paris CET
END:STANDARD
BEGIN:STANDARD
DTSTART:20191027T020000
RDATE:20200329T030000
TZOFFSETFROM:+0200
TZOFFSETTO:+0100
TZNAME:Europe/Paris CET
END:STANDARD
BEGIN:STANDARD
DTSTART:20201025T020000
RDATE:20210328T030000
TZOFFSETFROM:+0200
TZOFFSETTO:+0100
TZNAME:Europe/Paris CET
END:STANDARD
BEGIN:STANDARD
DTSTART:20211031T020000
RDATE:20220327T030000
TZOFFSETFROM:+0200
TZOFFSETTO:+0100
TZNAME:Europe/Paris CET
END:STANDARD
BEGIN:STANDARD
DTSTART:20221030T020000
RDATE:20230326T030000
TZOFFSETFROM:+0200
TZOFFSETTO:+0100
TZNAME:Europe/Paris CET
END:STANDARD
BEGIN:STANDARD
DTSTART:20231029T020000
RDATE:20240331T030000
TZOFFSETFROM:+0200
TZOFFSETTO:+0100
TZNAME:Europe/Paris CET
END:STANDARD
BEGIN:STANDARD
DTSTART:20241027T020000
RDATE:20250330T030000
TZOFFSETFROM:+0200
TZOFFSETTO:+0100
TZNAME:Europe/Paris CET
END:STANDARD
BEGIN:STANDARD
DTSTART:20251026T020000
RDATE:20260329T030000
TZOFFSETFROM:+0200
TZOFFSETTO:+0100
TZNAME:Europe/Paris CET
END:STANDARD
BEGIN:STANDARD
DTSTART:20261025T020000
RDATE:20270328T030000
TZOFFSETFROM:+0200
TZOFFSETTO:+0100
TZNAME:Europe/Paris CET
END:STANDARD
BEGIN:DAYLIGHT
DTSTART:20140330T030000
RDATE:20141026T020000
TZOFFSETFROM:+0100
TZOFFSETTO:+0200
TZNAME:Europe/Paris CEST
END:DAYLIGHT
BEGIN:DAYLIGHT
DTSTART:20150329T030000
RDATE:20151025T020000
TZOFFSETFROM:+0100
TZOFFSETTO:+0200
TZNAME:Europe/Paris CEST
END:DAYLIGHT
BEGIN:DAYLIGHT
DTSTART:20160327T030000
RDATE:20161030T020000
TZOFFSETFROM:+0100
TZOFFSETTO:+0200
TZNAME:Europe/Paris CEST
END:DAYLIGHT
BEGIN:DAYLIGHT
DTSTART:20170326T030000
RDATE:20171029T020000
TZOFFSETFROM:+0100
TZOFFSETTO:+0200
TZNAME:Europe/Paris CEST
END:DAYLIGHT
BEGIN:DAYLIGHT
DTSTART:20180325T030000
RDATE:20181028T020000
TZOFFSETFROM:+0100
TZOFFSETTO:+0200
TZNAME:Europe/Paris CEST
END:DAYLIGHT
BEGIN:DAYLIGHT
DTSTART:20190331T030000
RDATE:20191027T020000
TZOFFSETFROM:+0100
TZOFFSETTO:+0200
TZNAME:Europe/Paris CEST
END:DAYLIGHT
BEGIN:DAYLIGHT
DTSTART:20200329T030000
RDATE:20201025T020000
TZOFFSETFROM:+0100
TZOFFSETTO:+0200
TZNAME:Europe/Paris CEST
END:DAYLIGHT
BEGIN:DAYLIGHT
DTSTART:20210328T030000
RDATE:20211031T020000
TZOFFSETFROM:+0100
TZOFFSETTO:+0200
TZNAME:Europe/Paris CEST
END:DAYLIGHT
BEGIN:DAYLIGHT
DTSTART:20220327T030000
RDATE:20221030T020000
TZOFFSETFROM:+0100
TZOFFSETTO:+0200
TZNAME:Europe/Paris CEST
END:DAYLIGHT
BEGIN:DAYLIGHT
DTSTART:20230326T030000
RDATE:20231029T020000
TZOFFSETFROM:+0100
TZOFFSETTO:+0200
TZNAME:Europe/Paris CEST
END:DAYLIGHT
BEGIN:DAYLIGHT
DTSTART:20240331T030000
RDATE:20241027T020000
TZOFFSETFROM:+0100
TZOFFSETTO:+0200
TZNAME:Europe/Paris CEST
END:DAYLIGHT
BEGIN:DAYLIGHT
DTSTART:20250330T030000
RDATE:20251026T020000
TZOFFSETFROM:+0100
TZOFFSETTO:+0200
TZNAME:Europe/Paris CEST
END:DAYLIGHT
BEGIN:DAYLIGHT
DTSTART:20260329T030000
RDATE:20261025T020000
TZOFFSETFROM:+0100
TZOFFSETTO:+0200
TZNAME:Europe/Paris CEST
END:DAYLIGHT
END:VTIMEZONE
BEGIN:VEVENT
UID:407474fa1c9353611dc679bb5b13ded4
CATEGORIES:Circuit Massif Masters (alpin)
CREATED:20141127T000322
SUMMARY:GPM  +U30            GP Mat et Peinture
URL;VALUE=URI:https://skivosges.net/agenda/detailevenement/311/-/gpm-u30-gp-mat-et-peintu
 re?tmpl=component
DESCRIPTION:GPM  +U30            GP Mat et Peinture \n(Grand Prix Masters)\n\nLieu : RO
 UGE GAZON\nOrganisateur : SKIEURS DE ST MAURICE/MOSELLE (14063 SKIEURS DE S
 T MAURICE/MOSELLE)\nEmail : RegularLabs.EmailProtector.unCloak("ep_ba7630de
 ");\nTelecopie : 0780028040\n\nCOURSE  MAINTENUE depart 14h00\n\nInscriptio
 ns closes, les listes de départ sont visualisables sur ce site\n - AMVF0361
   Slalom Geant (Courses Masters) Tous les Masters Dames Dames\n  GPM  +U30 
            GP Mat et Peinture\n - AMVM0361  Slalom Geant (Courses Masters) 
 Master A1 a A5 Hommes Hommes\n  GPM  +U30            GP Mat et Peinture\n -
  AMVM0362  Slalom Geant (Courses Masters) Master B6 a B13 Hommes Hommes\n  
 GPM  +U30            GP Mat et Peinture Cet évènement a été importé depuis 
 :https://skivosges.net/agenda/detailevenement/311/-/gpm-u30-gp-mat-et-peint
 ure?tmpl=component
X-ALT-DESC;FMTTYPE=text/html:<strong>GPM  +U30            GP Mat et Peinture</strong> <br /><i>(Grand Pr
 ix Masters)</i><br /><br />Lieu : ROUGE GAZON<br />Organisateur : SKIEURS D
 E ST MAURICE/MOSELLE <small>(14063 SKIEURS DE ST MAURICE/MOSELLE)</small><b
 r />Email : <!-- Cette adresse électronique est protégée contre les robots 
 spammeurs. --><span class="cloaked_email ep_ba7630de"><span data-ep-a="&#10
 0;an&#105;&#101;" data-ep-b=""><span data-ep-b="oo&#46;&#102;&#114;" data-e
 p-a="&#108;&#46;m&#111;&#114;"><span data-ep-a="e&#108;&#50;&#53;&#64;" dat
 a-ep-b="&#119;&#97;&#110;&#97;&#100;"></span></span></span></span><script>R
 egularLabs.EmailProtector.unCloak("ep_ba7630de");</script><br />Telecopie :
  0780028040<br /><br />COURSE  MAINTENUE depart 14h00<br /><br />Inscriptio
 ns closes, les listes de départ sont visualisables sur ce site<ul type="dis
 c"><li>AMVF0361  Slalom Geant <nobr><i>(Courses Masters)</i></nobr> <nobr>T
 ous les Masters Dames</nobr> Dames<br />&nbsp;&nbsp;GPM  +U30            GP
  Mat et Peinture</li><li>AMVM0361  Slalom Geant <nobr><i>(Courses Masters)<
 /i></nobr> <nobr>Master A1 a A5 Hommes</nobr> Hommes<br />&nbsp;&nbsp;GPM  
 +U30            GP Mat et Peinture</li><li>AMVM0362  Slalom Geant <nobr><i>
 (Courses Masters)</i></nobr> <nobr>Master B6 a B13 Hommes</nobr> Hommes<br 
 />&nbsp;&nbsp;GPM  +U30            GP Mat et Peinture</li></ul> <a href="ht
 tps://skivosges.net/agenda/detailevenement/311/-/gpm-u30-gp-mat-et-peinture
 ?tmpl=component">Cet évènement a été importé depuis :https://skivosges.net/
 agenda/detailevenement/311/-/gpm-u30-gp-mat-et-peinture?tmpl=component</a>DTSTAMP:20260421T051116
DTSTART;TZID=Europe/Paris:20150131T080000
DTEND;TZID=Europe/Paris:20150131T170000
SEQUENCE:0
TRANSP:OPAQUE
END:VEVENT
END:VCALENDAR