BEGIN:VCALENDAR
VERSION:2.0
PRODID:-//jEvents 2.0 for Joomla//EN
CALSCALE:GREGORIAN
METHOD:PUBLISH
BEGIN:VTIMEZONE
TZID:Europe/Paris
BEGIN:STANDARD
DTSTART:20140207T080000
RDATE:20140330T030000
TZOFFSETFROM:+0200
TZOFFSETTO:+0100
TZNAME:Europe/Paris CET
END:STANDARD
BEGIN:STANDARD
DTSTART:20141026T020000
RDATE:20150329T030000
TZOFFSETFROM:+0200
TZOFFSETTO:+0100
TZNAME:Europe/Paris CET
END:STANDARD
BEGIN:STANDARD
DTSTART:20151025T020000
RDATE:20160327T030000
TZOFFSETFROM:+0200
TZOFFSETTO:+0100
TZNAME:Europe/Paris CET
END:STANDARD
BEGIN:STANDARD
DTSTART:20161030T020000
RDATE:20170326T030000
TZOFFSETFROM:+0200
TZOFFSETTO:+0100
TZNAME:Europe/Paris CET
END:STANDARD
BEGIN:STANDARD
DTSTART:20171029T020000
RDATE:20180325T030000
TZOFFSETFROM:+0200
TZOFFSETTO:+0100
TZNAME:Europe/Paris CET
END:STANDARD
BEGIN:STANDARD
DTSTART:20181028T020000
RDATE:20190331T030000
TZOFFSETFROM:+0200
TZOFFSETTO:+0100
TZNAME:Europe/Paris CET
END:STANDARD
BEGIN:STANDARD
DTSTART:20191027T020000
RDATE:20200329T030000
TZOFFSETFROM:+0200
TZOFFSETTO:+0100
TZNAME:Europe/Paris CET
END:STANDARD
BEGIN:STANDARD
DTSTART:20201025T020000
RDATE:20210328T030000
TZOFFSETFROM:+0200
TZOFFSETTO:+0100
TZNAME:Europe/Paris CET
END:STANDARD
BEGIN:STANDARD
DTSTART:20211031T020000
RDATE:20220327T030000
TZOFFSETFROM:+0200
TZOFFSETTO:+0100
TZNAME:Europe/Paris CET
END:STANDARD
BEGIN:STANDARD
DTSTART:20221030T020000
RDATE:20230326T030000
TZOFFSETFROM:+0200
TZOFFSETTO:+0100
TZNAME:Europe/Paris CET
END:STANDARD
BEGIN:STANDARD
DTSTART:20231029T020000
RDATE:20240331T030000
TZOFFSETFROM:+0200
TZOFFSETTO:+0100
TZNAME:Europe/Paris CET
END:STANDARD
BEGIN:STANDARD
DTSTART:20241027T020000
RDATE:20250330T030000
TZOFFSETFROM:+0200
TZOFFSETTO:+0100
TZNAME:Europe/Paris CET
END:STANDARD
BEGIN:STANDARD
DTSTART:20251026T020000
RDATE:20260329T030000
TZOFFSETFROM:+0200
TZOFFSETTO:+0100
TZNAME:Europe/Paris CET
END:STANDARD
BEGIN:STANDARD
DTSTART:20261025T020000
RDATE:20270328T030000
TZOFFSETFROM:+0200
TZOFFSETTO:+0100
TZNAME:Europe/Paris CET
END:STANDARD
BEGIN:DAYLIGHT
DTSTART:20140330T030000
RDATE:20141026T020000
TZOFFSETFROM:+0100
TZOFFSETTO:+0200
TZNAME:Europe/Paris CEST
END:DAYLIGHT
BEGIN:DAYLIGHT
DTSTART:20150329T030000
RDATE:20151025T020000
TZOFFSETFROM:+0100
TZOFFSETTO:+0200
TZNAME:Europe/Paris CEST
END:DAYLIGHT
BEGIN:DAYLIGHT
DTSTART:20160327T030000
RDATE:20161030T020000
TZOFFSETFROM:+0100
TZOFFSETTO:+0200
TZNAME:Europe/Paris CEST
END:DAYLIGHT
BEGIN:DAYLIGHT
DTSTART:20170326T030000
RDATE:20171029T020000
TZOFFSETFROM:+0100
TZOFFSETTO:+0200
TZNAME:Europe/Paris CEST
END:DAYLIGHT
BEGIN:DAYLIGHT
DTSTART:20180325T030000
RDATE:20181028T020000
TZOFFSETFROM:+0100
TZOFFSETTO:+0200
TZNAME:Europe/Paris CEST
END:DAYLIGHT
BEGIN:DAYLIGHT
DTSTART:20190331T030000
RDATE:20191027T020000
TZOFFSETFROM:+0100
TZOFFSETTO:+0200
TZNAME:Europe/Paris CEST
END:DAYLIGHT
BEGIN:DAYLIGHT
DTSTART:20200329T030000
RDATE:20201025T020000
TZOFFSETFROM:+0100
TZOFFSETTO:+0200
TZNAME:Europe/Paris CEST
END:DAYLIGHT
BEGIN:DAYLIGHT
DTSTART:20210328T030000
RDATE:20211031T020000
TZOFFSETFROM:+0100
TZOFFSETTO:+0200
TZNAME:Europe/Paris CEST
END:DAYLIGHT
BEGIN:DAYLIGHT
DTSTART:20220327T030000
RDATE:20221030T020000
TZOFFSETFROM:+0100
TZOFFSETTO:+0200
TZNAME:Europe/Paris CEST
END:DAYLIGHT
BEGIN:DAYLIGHT
DTSTART:20230326T030000
RDATE:20231029T020000
TZOFFSETFROM:+0100
TZOFFSETTO:+0200
TZNAME:Europe/Paris CEST
END:DAYLIGHT
BEGIN:DAYLIGHT
DTSTART:20240331T030000
RDATE:20241027T020000
TZOFFSETFROM:+0100
TZOFFSETTO:+0200
TZNAME:Europe/Paris CEST
END:DAYLIGHT
BEGIN:DAYLIGHT
DTSTART:20250330T030000
RDATE:20251026T020000
TZOFFSETFROM:+0100
TZOFFSETTO:+0200
TZNAME:Europe/Paris CEST
END:DAYLIGHT
BEGIN:DAYLIGHT
DTSTART:20260329T030000
RDATE:20261025T020000
TZOFFSETFROM:+0100
TZOFFSETTO:+0200
TZNAME:Europe/Paris CEST
END:DAYLIGHT
END:VTIMEZONE
BEGIN:VEVENT
UID:a82eb6a1c7f79ba3afb7f3153ff525f5
CATEGORIES:Compétition Ski de Fond
CREATED:20141127T000322
SUMMARY:Team Sprint chpt des Vosges 
URL;VALUE=URI:https://skivosges.net/agenda/detailevenement/323/-/team-sprint-chpt-des-vos
 ges?tmpl=component
DESCRIPTION:Team Sprint chpt des Vosges \n\nLieu : ROUGE GAZON \nOrganisateur : HAUTE M
 OSELLE SKI NORDIQUE  (14471 HAUTE MOSELLE SKI NORDIQUE)\nTelecopie : 032431
 6764\n\n \n\nBonjour à tous\n\n \n\n \n\nComme prévu au calendrier: 14h dép
 art de l´épreuve de qualification pour toutes les catégories\n\npuis épreuv
 e de KO sprint pour les minimes et cadets (premiere phase éliminatoire) ver
 s 15h suivant le nombre d´ inscrits\n\n15h45 team sprint pour les jeunes ju
 niors seniores dames\n\n16h00 2eme phase éliminatoire\n\n16h30 team sprint 
 jeunes juniors seniors hommes\n\n17h00 finales pour les minimes et cadets\n
 \n \n\nBonne journée\n\nMichel remy\n\n \n\nInscriptions en cours sur ce si
 te\n - FMVF0121  Depart Individuel Dames\n  Team Sprint chpt des Vosges \n 
 - FMVF0122  Depart Individuel U18 a SEN (Jeune a Senior) Dames\n  Team Spri
 nt chpt des Vosges \n - FMVM0121  Depart Individuel Hommes\n  Team Sprint c
 hpt des Vosges \n - FMVM0122  Depart Individuel U18 a SEN (Jeune a Senior) 
 Hommes\n  Team Sprint chpt des Vosges  Cet évènement a été importé depuis :
 https://skivosges.net/agenda/detailevenement/323/-/team-sprint-chpt-des-vos
 ges?tmpl=component (https://skivosges.net/agenda/detailevenement/323/-/team
 -sprint-chpt-des-vosges?tmpl=component)
X-ALT-DESC;FMTTYPE=text/html:<strong>Team Sprint chpt des Vosges </strong><br /><br />Lieu : ROUGE GAZON
  <br />Organisateur : HAUTE MOSELLE SKI NORDIQUE  <small>(14471 HAUTE MOSEL
 LE SKI NORDIQUE)</small><br />Telecopie : 0324316764<br /><br /> <br><br>Bo
 njour à tous<br><br> <br><br> <br><br>Comme prévu au calendrier: 14h départ
  de l´épreuve de qualification pour toutes les catégories<br><br>puis épreu
 ve de KO sprint pour les minimes et cadets (premiere phase éliminatoire) ve
 rs 15h suivant le nombre d´ inscrits<br><br>15h45 team sprint pour les jeun
 es juniors seniores dames<br><br>16h00 2eme phase éliminatoire<br><br>16h30
  team sprint jeunes juniors seniors hommes<br><br>17h00 finales pour les mi
 nimes et cadets<br><br> <br><br>Bonne journée<br><br>Michel remy<br><br> <b
 r /><br />Inscriptions en cours sur ce site<ul type="disc"><li>FMVF0121  De
 part Individuel Dames<br />&nbsp;&nbsp;Team Sprint chpt des Vosges </li><li
 >FMVF0122  Depart Individuel <nobr>U18 a SEN (Jeune a Senior)</nobr> Dames<
 br />&nbsp;&nbsp;Team Sprint chpt des Vosges </li><li>FMVM0121  Depart Indi
 viduel Hommes<br />&nbsp;&nbsp;Team Sprint chpt des Vosges </li><li>FMVM012
 2  Depart Individuel <nobr>U18 a SEN (Jeune a Senior)</nobr> Hommes<br />&n
 bsp;&nbsp;Team Sprint chpt des Vosges </li></ul> <a href="https://skivosges
 .net/agenda/detailevenement/323/-/team-sprint-chpt-des-vosges?tmpl=componen
 t">Cet évènement a été importé depuis :https://skivosges.net/agenda/detaile
 venement/323/-/team-sprint-chpt-des-vosges?tmpl=component</a>DTSTAMP:20260421T051131
DTSTART;TZID=Europe/Paris:20150208T080000
DTEND;TZID=Europe/Paris:20150208T170000
SEQUENCE:0
TRANSP:OPAQUE
END:VEVENT
END:VCALENDAR