BEGIN:VCALENDAR
VERSION:2.0
PRODID:-//jEvents 2.0 for Joomla//EN
CALSCALE:GREGORIAN
METHOD:PUBLISH
BEGIN:VTIMEZONE
TZID:Europe/Paris
BEGIN:STANDARD
DTSTART:20140212T080000
RDATE:20140330T030000
TZOFFSETFROM:+0200
TZOFFSETTO:+0100
TZNAME:Europe/Paris CET
END:STANDARD
BEGIN:STANDARD
DTSTART:20141026T020000
RDATE:20150329T030000
TZOFFSETFROM:+0200
TZOFFSETTO:+0100
TZNAME:Europe/Paris CET
END:STANDARD
BEGIN:STANDARD
DTSTART:20151025T020000
RDATE:20160327T030000
TZOFFSETFROM:+0200
TZOFFSETTO:+0100
TZNAME:Europe/Paris CET
END:STANDARD
BEGIN:STANDARD
DTSTART:20161030T020000
RDATE:20170326T030000
TZOFFSETFROM:+0200
TZOFFSETTO:+0100
TZNAME:Europe/Paris CET
END:STANDARD
BEGIN:STANDARD
DTSTART:20171029T020000
RDATE:20180325T030000
TZOFFSETFROM:+0200
TZOFFSETTO:+0100
TZNAME:Europe/Paris CET
END:STANDARD
BEGIN:STANDARD
DTSTART:20181028T020000
RDATE:20190331T030000
TZOFFSETFROM:+0200
TZOFFSETTO:+0100
TZNAME:Europe/Paris CET
END:STANDARD
BEGIN:STANDARD
DTSTART:20191027T020000
RDATE:20200329T030000
TZOFFSETFROM:+0200
TZOFFSETTO:+0100
TZNAME:Europe/Paris CET
END:STANDARD
BEGIN:STANDARD
DTSTART:20201025T020000
RDATE:20210328T030000
TZOFFSETFROM:+0200
TZOFFSETTO:+0100
TZNAME:Europe/Paris CET
END:STANDARD
BEGIN:STANDARD
DTSTART:20211031T020000
RDATE:20220327T030000
TZOFFSETFROM:+0200
TZOFFSETTO:+0100
TZNAME:Europe/Paris CET
END:STANDARD
BEGIN:STANDARD
DTSTART:20221030T020000
RDATE:20230326T030000
TZOFFSETFROM:+0200
TZOFFSETTO:+0100
TZNAME:Europe/Paris CET
END:STANDARD
BEGIN:STANDARD
DTSTART:20231029T020000
RDATE:20240331T030000
TZOFFSETFROM:+0200
TZOFFSETTO:+0100
TZNAME:Europe/Paris CET
END:STANDARD
BEGIN:STANDARD
DTSTART:20241027T020000
RDATE:20250330T030000
TZOFFSETFROM:+0200
TZOFFSETTO:+0100
TZNAME:Europe/Paris CET
END:STANDARD
BEGIN:STANDARD
DTSTART:20251026T020000
RDATE:20260329T030000
TZOFFSETFROM:+0200
TZOFFSETTO:+0100
TZNAME:Europe/Paris CET
END:STANDARD
BEGIN:STANDARD
DTSTART:20261025T020000
RDATE:20270328T030000
TZOFFSETFROM:+0200
TZOFFSETTO:+0100
TZNAME:Europe/Paris CET
END:STANDARD
BEGIN:DAYLIGHT
DTSTART:20140330T030000
RDATE:20141026T020000
TZOFFSETFROM:+0100
TZOFFSETTO:+0200
TZNAME:Europe/Paris CEST
END:DAYLIGHT
BEGIN:DAYLIGHT
DTSTART:20150329T030000
RDATE:20151025T020000
TZOFFSETFROM:+0100
TZOFFSETTO:+0200
TZNAME:Europe/Paris CEST
END:DAYLIGHT
BEGIN:DAYLIGHT
DTSTART:20160327T030000
RDATE:20161030T020000
TZOFFSETFROM:+0100
TZOFFSETTO:+0200
TZNAME:Europe/Paris CEST
END:DAYLIGHT
BEGIN:DAYLIGHT
DTSTART:20170326T030000
RDATE:20171029T020000
TZOFFSETFROM:+0100
TZOFFSETTO:+0200
TZNAME:Europe/Paris CEST
END:DAYLIGHT
BEGIN:DAYLIGHT
DTSTART:20180325T030000
RDATE:20181028T020000
TZOFFSETFROM:+0100
TZOFFSETTO:+0200
TZNAME:Europe/Paris CEST
END:DAYLIGHT
BEGIN:DAYLIGHT
DTSTART:20190331T030000
RDATE:20191027T020000
TZOFFSETFROM:+0100
TZOFFSETTO:+0200
TZNAME:Europe/Paris CEST
END:DAYLIGHT
BEGIN:DAYLIGHT
DTSTART:20200329T030000
RDATE:20201025T020000
TZOFFSETFROM:+0100
TZOFFSETTO:+0200
TZNAME:Europe/Paris CEST
END:DAYLIGHT
BEGIN:DAYLIGHT
DTSTART:20210328T030000
RDATE:20211031T020000
TZOFFSETFROM:+0100
TZOFFSETTO:+0200
TZNAME:Europe/Paris CEST
END:DAYLIGHT
BEGIN:DAYLIGHT
DTSTART:20220327T030000
RDATE:20221030T020000
TZOFFSETFROM:+0100
TZOFFSETTO:+0200
TZNAME:Europe/Paris CEST
END:DAYLIGHT
BEGIN:DAYLIGHT
DTSTART:20230326T030000
RDATE:20231029T020000
TZOFFSETFROM:+0100
TZOFFSETTO:+0200
TZNAME:Europe/Paris CEST
END:DAYLIGHT
BEGIN:DAYLIGHT
DTSTART:20240331T030000
RDATE:20241027T020000
TZOFFSETFROM:+0100
TZOFFSETTO:+0200
TZNAME:Europe/Paris CEST
END:DAYLIGHT
BEGIN:DAYLIGHT
DTSTART:20250330T030000
RDATE:20251026T020000
TZOFFSETFROM:+0100
TZOFFSETTO:+0200
TZNAME:Europe/Paris CEST
END:DAYLIGHT
BEGIN:DAYLIGHT
DTSTART:20260329T030000
RDATE:20261025T020000
TZOFFSETFROM:+0100
TZOFFSETTO:+0200
TZNAME:Europe/Paris CEST
END:DAYLIGHT
END:VTIMEZONE
BEGIN:VEVENT
UID:c261434c02de9b95a4c75a0be84698c4
CATEGORIES:Autres Épreuves (alpin)
CREATED:20141127T000322
SUMMARY:Ski Chrono National Tour Technique Gérardmer - Markstein
URL;VALUE=URI:https://skivosges.net/agenda/detailevenement/331/-/ski-chrono-national-tour
 -technique-gerardmer-markstein?tmpl=component
DESCRIPTION:Ski Chrono National Tour Technique Gérardmer - Markstein\nOrganisateur : S.
 C VALLEE DE WESSERLING (14186 S.C VALLEE DE WESSERLING)\nEmail : RegularLab
 s.EmailProtector.unCloak("ep_58863062");\nTelecopie : 33(389) 82 78 0\n  Pi
 ste:Gérardmer - Markstein\n - Le 13/02/2015\n5702  Slalom Geant Toutes les 
 Categories Dames\n  Ski Chrono National Tour Technique Gérardmer - Markstei
 n\n  Piste:Gérardmer - Markstein\n - Le 14/02/2015\n5703  Slalom Geant Tout
 es les Categories Dames\n  Ski Chrono National Tour Technique Gérardmer - M
 arkstein\n  Piste:Gérardmer - Markstein\n - Le 15/02/2015\n5704  Slalom Tou
 tes les Categories Dames\n  Ski Chrono National Tour Technique Gérardmer - 
 Markstein\n  Piste:Gérardmer - Markstein\n - Le 16/02/2015\n5705  Slalom To
 utes les Categories Dames\n  Ski Chrono National Tour Technique Gérardmer -
  Markstein Cet évènement a été importé depuis :https://skivosges.net/agenda
 /detailevenement/331/-/ski-chrono-national-tour-technique-gerardmer-markste
 in?tmpl=component
X-ALT-DESC;FMTTYPE=text/html:<strong>Ski Chrono National Tour Technique Gérardmer - Markstein</strong><b
 r />Organisateur : S.C VALLEE DE WESSERLING <small>(14186 S.C VALLEE DE WES
 SERLING)</small><br />Email : <!-- Cette adresse électronique est protégée 
 contre les robots spammeurs. --><span class="cloaked_email ep_58863062"><sp
 an data-ep-b="&#109;" data-ep-a="scvw"><span data-ep-b="l&#46;co" data-ep-a
 ="e&#115;&#115;&#101;"><span data-ep-b="g&#64;&#97;&#111;" data-ep-a="&#114
 ;&#108;&#105;&#110;"></span></span></span></span><script>RegularLabs.EmailP
 rotector.unCloak("ep_58863062");</script><br />Telecopie : 33(389) 82 78 0<
 ul type="disc"><br />&nbsp;&nbsp;Piste:Gérardmer - Markstein<li><nobr>Le 13
 /02/2015</nobr><br />5702  Slalom Geant <nobr>Toutes les Categories</nobr> 
 Dames<br />&nbsp;&nbsp;Ski Chrono National Tour Technique Gérardmer - Marks
 tein</li><br />&nbsp;&nbsp;Piste:Gérardmer - Markstein<li><nobr>Le 14/02/20
 15</nobr><br />5703  Slalom Geant <nobr>Toutes les Categories</nobr> Dames<
 br />&nbsp;&nbsp;Ski Chrono National Tour Technique Gérardmer - Markstein</
 li><br />&nbsp;&nbsp;Piste:Gérardmer - Markstein<li><nobr>Le 15/02/2015</no
 br><br />5704  Slalom <nobr>Toutes les Categories</nobr> Dames<br />&nbsp;&
 nbsp;Ski Chrono National Tour Technique Gérardmer - Markstein</li><br />&nb
 sp;&nbsp;Piste:Gérardmer - Markstein<li><nobr>Le 16/02/2015</nobr><br />570
 5  Slalom <nobr>Toutes les Categories</nobr> Dames<br />&nbsp;&nbsp;Ski Chr
 ono National Tour Technique Gérardmer - Markstein</li></ul> <a href="https:
 //skivosges.net/agenda/detailevenement/331/-/ski-chrono-national-tour-techn
 ique-gerardmer-markstein?tmpl=component">Cet évènement a été importé depuis
  :https://skivosges.net/agenda/detailevenement/331/-/ski-chrono-national-to
 ur-technique-gerardmer-markstein?tmpl=component</a>DTSTAMP:20260421T050657
DTSTART;TZID=Europe/Paris:20150213T080000
DTEND;TZID=Europe/Paris:20150216T170000
SEQUENCE:0
TRANSP:OPAQUE
END:VEVENT
END:VCALENDAR