BEGIN:VCALENDAR
VERSION:2.0
PRODID:-//jEvents 2.0 for Joomla//EN
CALSCALE:GREGORIAN
METHOD:PUBLISH
BEGIN:VTIMEZONE
TZID:Europe/Paris
BEGIN:STANDARD
DTSTART:20140219T080000
RDATE:20140330T030000
TZOFFSETFROM:+0200
TZOFFSETTO:+0100
TZNAME:Europe/Paris CET
END:STANDARD
BEGIN:STANDARD
DTSTART:20141026T020000
RDATE:20150329T030000
TZOFFSETFROM:+0200
TZOFFSETTO:+0100
TZNAME:Europe/Paris CET
END:STANDARD
BEGIN:STANDARD
DTSTART:20151025T020000
RDATE:20160327T030000
TZOFFSETFROM:+0200
TZOFFSETTO:+0100
TZNAME:Europe/Paris CET
END:STANDARD
BEGIN:STANDARD
DTSTART:20161030T020000
RDATE:20170326T030000
TZOFFSETFROM:+0200
TZOFFSETTO:+0100
TZNAME:Europe/Paris CET
END:STANDARD
BEGIN:STANDARD
DTSTART:20171029T020000
RDATE:20180325T030000
TZOFFSETFROM:+0200
TZOFFSETTO:+0100
TZNAME:Europe/Paris CET
END:STANDARD
BEGIN:STANDARD
DTSTART:20181028T020000
RDATE:20190331T030000
TZOFFSETFROM:+0200
TZOFFSETTO:+0100
TZNAME:Europe/Paris CET
END:STANDARD
BEGIN:STANDARD
DTSTART:20191027T020000
RDATE:20200329T030000
TZOFFSETFROM:+0200
TZOFFSETTO:+0100
TZNAME:Europe/Paris CET
END:STANDARD
BEGIN:STANDARD
DTSTART:20201025T020000
RDATE:20210328T030000
TZOFFSETFROM:+0200
TZOFFSETTO:+0100
TZNAME:Europe/Paris CET
END:STANDARD
BEGIN:STANDARD
DTSTART:20211031T020000
RDATE:20220327T030000
TZOFFSETFROM:+0200
TZOFFSETTO:+0100
TZNAME:Europe/Paris CET
END:STANDARD
BEGIN:STANDARD
DTSTART:20221030T020000
RDATE:20230326T030000
TZOFFSETFROM:+0200
TZOFFSETTO:+0100
TZNAME:Europe/Paris CET
END:STANDARD
BEGIN:STANDARD
DTSTART:20231029T020000
RDATE:20240331T030000
TZOFFSETFROM:+0200
TZOFFSETTO:+0100
TZNAME:Europe/Paris CET
END:STANDARD
BEGIN:STANDARD
DTSTART:20241027T020000
RDATE:20250330T030000
TZOFFSETFROM:+0200
TZOFFSETTO:+0100
TZNAME:Europe/Paris CET
END:STANDARD
BEGIN:STANDARD
DTSTART:20251026T020000
RDATE:20260329T030000
TZOFFSETFROM:+0200
TZOFFSETTO:+0100
TZNAME:Europe/Paris CET
END:STANDARD
BEGIN:STANDARD
DTSTART:20261025T020000
RDATE:20270328T030000
TZOFFSETFROM:+0200
TZOFFSETTO:+0100
TZNAME:Europe/Paris CET
END:STANDARD
BEGIN:DAYLIGHT
DTSTART:20140330T030000
RDATE:20141026T020000
TZOFFSETFROM:+0100
TZOFFSETTO:+0200
TZNAME:Europe/Paris CEST
END:DAYLIGHT
BEGIN:DAYLIGHT
DTSTART:20150329T030000
RDATE:20151025T020000
TZOFFSETFROM:+0100
TZOFFSETTO:+0200
TZNAME:Europe/Paris CEST
END:DAYLIGHT
BEGIN:DAYLIGHT
DTSTART:20160327T030000
RDATE:20161030T020000
TZOFFSETFROM:+0100
TZOFFSETTO:+0200
TZNAME:Europe/Paris CEST
END:DAYLIGHT
BEGIN:DAYLIGHT
DTSTART:20170326T030000
RDATE:20171029T020000
TZOFFSETFROM:+0100
TZOFFSETTO:+0200
TZNAME:Europe/Paris CEST
END:DAYLIGHT
BEGIN:DAYLIGHT
DTSTART:20180325T030000
RDATE:20181028T020000
TZOFFSETFROM:+0100
TZOFFSETTO:+0200
TZNAME:Europe/Paris CEST
END:DAYLIGHT
BEGIN:DAYLIGHT
DTSTART:20190331T030000
RDATE:20191027T020000
TZOFFSETFROM:+0100
TZOFFSETTO:+0200
TZNAME:Europe/Paris CEST
END:DAYLIGHT
BEGIN:DAYLIGHT
DTSTART:20200329T030000
RDATE:20201025T020000
TZOFFSETFROM:+0100
TZOFFSETTO:+0200
TZNAME:Europe/Paris CEST
END:DAYLIGHT
BEGIN:DAYLIGHT
DTSTART:20210328T030000
RDATE:20211031T020000
TZOFFSETFROM:+0100
TZOFFSETTO:+0200
TZNAME:Europe/Paris CEST
END:DAYLIGHT
BEGIN:DAYLIGHT
DTSTART:20220327T030000
RDATE:20221030T020000
TZOFFSETFROM:+0100
TZOFFSETTO:+0200
TZNAME:Europe/Paris CEST
END:DAYLIGHT
BEGIN:DAYLIGHT
DTSTART:20230326T030000
RDATE:20231029T020000
TZOFFSETFROM:+0100
TZOFFSETTO:+0200
TZNAME:Europe/Paris CEST
END:DAYLIGHT
BEGIN:DAYLIGHT
DTSTART:20240331T030000
RDATE:20241027T020000
TZOFFSETFROM:+0100
TZOFFSETTO:+0200
TZNAME:Europe/Paris CEST
END:DAYLIGHT
BEGIN:DAYLIGHT
DTSTART:20250330T030000
RDATE:20251026T020000
TZOFFSETFROM:+0100
TZOFFSETTO:+0200
TZNAME:Europe/Paris CEST
END:DAYLIGHT
BEGIN:DAYLIGHT
DTSTART:20260329T030000
RDATE:20261025T020000
TZOFFSETFROM:+0100
TZOFFSETTO:+0200
TZNAME:Europe/Paris CEST
END:DAYLIGHT
END:VTIMEZONE
BEGIN:VEVENT
UID:a6df970dbb26f301fc6f35c74c902ca6
CATEGORIES:Compétition Saut
CREATED:20141127T000322
SUMMARY:Gérardmer Coupe des Vosges saut spécial
URL;VALUE=URI:https://skivosges.net/agenda/detailevenement/342/-/gerardmer-coupe-des-vosg
 es-saut-special?tmpl=component
DESCRIPTION:Gérardmer Coupe des Vosges saut spécial\n\nLieu : GERARDMER\nOrganisateur :
  A.S GERARDMER SKI NORDIQUE (14469 A.S GERARDMER SKI NORDIQUE)\n - TMVF0071
  épreuve U15 (Minime) Filles\n  Gérardmer Coupe des Vosges saut spécial\n -
  TMVF0072 épreuve U17 a SEN (Cadet a Senior) Dames\n  Gérardmer Coupe des V
 osges saut spécial\n - TMVM0071 épreuve U15 (Minime) Garçons\n  Gérardmer C
 oupe des Vosges saut spécial\n - TMVM0072 épreuve U17 a SEN (Cadet a Senior
 ) Hommes\n  Gérardmer Coupe des Vosges saut spécial Cet évènement a été imp
 orté depuis :https://skivosges.net/agenda/detailevenement/342/-/gerardmer-c
 oupe-des-vosges-saut-special?tmpl=component (https://skivosges.net/agenda/d
 etailevenement/342/-/gerardmer-coupe-des-vosges-saut-special?tmpl=component
 )
X-ALT-DESC;FMTTYPE=text/html:<strong>Gérardmer Coupe des Vosges saut spécial</strong><br /><br />Lieu : 
 GERARDMER<br />Organisateur : A.S GERARDMER SKI NORDIQUE <small>(14469 A.S 
 GERARDMER SKI NORDIQUE)</small><ul type="disc"><li>TMVF0071 épreuve <nobr>U
 15 (Minime)</nobr> Filles<br />&nbsp;&nbsp;Gérardmer Coupe des Vosges saut 
 spécial</li><li>TMVF0072 épreuve <nobr>U17 a SEN (Cadet a Senior)</nobr> Da
 mes<br />&nbsp;&nbsp;Gérardmer Coupe des Vosges saut spécial</li><li>TMVM00
 71 épreuve <nobr>U15 (Minime)</nobr> Garçons<br />&nbsp;&nbsp;Gérardmer Cou
 pe des Vosges saut spécial</li><li>TMVM0072 épreuve <nobr>U17 a SEN (Cadet 
 a Senior)</nobr> Hommes<br />&nbsp;&nbsp;Gérardmer Coupe des Vosges saut sp
 écial</li></ul> <a href="https://skivosges.net/agenda/detailevenement/342/-
 /gerardmer-coupe-des-vosges-saut-special?tmpl=component">Cet évènement a ét
 é importé depuis :https://skivosges.net/agenda/detailevenement/342/-/gerard
 mer-coupe-des-vosges-saut-special?tmpl=component</a>DTSTAMP:20260421T051000
DTSTART;TZID=Europe/Paris:20150220T080000
DTEND;TZID=Europe/Paris:20150220T170000
SEQUENCE:0
TRANSP:OPAQUE
END:VEVENT
END:VCALENDAR