BEGIN:VCALENDAR
VERSION:2.0
PRODID:-//jEvents 2.0 for Joomla//EN
CALSCALE:GREGORIAN
METHOD:PUBLISH
BEGIN:VTIMEZONE
TZID:Europe/Paris
BEGIN:STANDARD
DTSTART:20140228T080000
RDATE:20140330T030000
TZOFFSETFROM:+0200
TZOFFSETTO:+0100
TZNAME:Europe/Paris CET
END:STANDARD
BEGIN:STANDARD
DTSTART:20141026T020000
RDATE:20150329T030000
TZOFFSETFROM:+0200
TZOFFSETTO:+0100
TZNAME:Europe/Paris CET
END:STANDARD
BEGIN:STANDARD
DTSTART:20151025T020000
RDATE:20160327T030000
TZOFFSETFROM:+0200
TZOFFSETTO:+0100
TZNAME:Europe/Paris CET
END:STANDARD
BEGIN:STANDARD
DTSTART:20161030T020000
RDATE:20170326T030000
TZOFFSETFROM:+0200
TZOFFSETTO:+0100
TZNAME:Europe/Paris CET
END:STANDARD
BEGIN:STANDARD
DTSTART:20171029T020000
RDATE:20180325T030000
TZOFFSETFROM:+0200
TZOFFSETTO:+0100
TZNAME:Europe/Paris CET
END:STANDARD
BEGIN:STANDARD
DTSTART:20181028T020000
RDATE:20190331T030000
TZOFFSETFROM:+0200
TZOFFSETTO:+0100
TZNAME:Europe/Paris CET
END:STANDARD
BEGIN:STANDARD
DTSTART:20191027T020000
RDATE:20200329T030000
TZOFFSETFROM:+0200
TZOFFSETTO:+0100
TZNAME:Europe/Paris CET
END:STANDARD
BEGIN:STANDARD
DTSTART:20201025T020000
RDATE:20210328T030000
TZOFFSETFROM:+0200
TZOFFSETTO:+0100
TZNAME:Europe/Paris CET
END:STANDARD
BEGIN:STANDARD
DTSTART:20211031T020000
RDATE:20220327T030000
TZOFFSETFROM:+0200
TZOFFSETTO:+0100
TZNAME:Europe/Paris CET
END:STANDARD
BEGIN:STANDARD
DTSTART:20221030T020000
RDATE:20230326T030000
TZOFFSETFROM:+0200
TZOFFSETTO:+0100
TZNAME:Europe/Paris CET
END:STANDARD
BEGIN:STANDARD
DTSTART:20231029T020000
RDATE:20240331T030000
TZOFFSETFROM:+0200
TZOFFSETTO:+0100
TZNAME:Europe/Paris CET
END:STANDARD
BEGIN:STANDARD
DTSTART:20241027T020000
RDATE:20250330T030000
TZOFFSETFROM:+0200
TZOFFSETTO:+0100
TZNAME:Europe/Paris CET
END:STANDARD
BEGIN:STANDARD
DTSTART:20251026T020000
RDATE:20260329T030000
TZOFFSETFROM:+0200
TZOFFSETTO:+0100
TZNAME:Europe/Paris CET
END:STANDARD
BEGIN:STANDARD
DTSTART:20261025T020000
RDATE:20270328T030000
TZOFFSETFROM:+0200
TZOFFSETTO:+0100
TZNAME:Europe/Paris CET
END:STANDARD
BEGIN:DAYLIGHT
DTSTART:20140330T030000
RDATE:20141026T020000
TZOFFSETFROM:+0100
TZOFFSETTO:+0200
TZNAME:Europe/Paris CEST
END:DAYLIGHT
BEGIN:DAYLIGHT
DTSTART:20150329T030000
RDATE:20151025T020000
TZOFFSETFROM:+0100
TZOFFSETTO:+0200
TZNAME:Europe/Paris CEST
END:DAYLIGHT
BEGIN:DAYLIGHT
DTSTART:20160327T030000
RDATE:20161030T020000
TZOFFSETFROM:+0100
TZOFFSETTO:+0200
TZNAME:Europe/Paris CEST
END:DAYLIGHT
BEGIN:DAYLIGHT
DTSTART:20170326T030000
RDATE:20171029T020000
TZOFFSETFROM:+0100
TZOFFSETTO:+0200
TZNAME:Europe/Paris CEST
END:DAYLIGHT
BEGIN:DAYLIGHT
DTSTART:20180325T030000
RDATE:20181028T020000
TZOFFSETFROM:+0100
TZOFFSETTO:+0200
TZNAME:Europe/Paris CEST
END:DAYLIGHT
BEGIN:DAYLIGHT
DTSTART:20190331T030000
RDATE:20191027T020000
TZOFFSETFROM:+0100
TZOFFSETTO:+0200
TZNAME:Europe/Paris CEST
END:DAYLIGHT
BEGIN:DAYLIGHT
DTSTART:20200329T030000
RDATE:20201025T020000
TZOFFSETFROM:+0100
TZOFFSETTO:+0200
TZNAME:Europe/Paris CEST
END:DAYLIGHT
BEGIN:DAYLIGHT
DTSTART:20210328T030000
RDATE:20211031T020000
TZOFFSETFROM:+0100
TZOFFSETTO:+0200
TZNAME:Europe/Paris CEST
END:DAYLIGHT
BEGIN:DAYLIGHT
DTSTART:20220327T030000
RDATE:20221030T020000
TZOFFSETFROM:+0100
TZOFFSETTO:+0200
TZNAME:Europe/Paris CEST
END:DAYLIGHT
BEGIN:DAYLIGHT
DTSTART:20230326T030000
RDATE:20231029T020000
TZOFFSETFROM:+0100
TZOFFSETTO:+0200
TZNAME:Europe/Paris CEST
END:DAYLIGHT
BEGIN:DAYLIGHT
DTSTART:20240331T030000
RDATE:20241027T020000
TZOFFSETFROM:+0100
TZOFFSETTO:+0200
TZNAME:Europe/Paris CEST
END:DAYLIGHT
BEGIN:DAYLIGHT
DTSTART:20250330T030000
RDATE:20251026T020000
TZOFFSETFROM:+0100
TZOFFSETTO:+0200
TZNAME:Europe/Paris CEST
END:DAYLIGHT
BEGIN:DAYLIGHT
DTSTART:20260329T030000
RDATE:20261025T020000
TZOFFSETFROM:+0100
TZOFFSETTO:+0200
TZNAME:Europe/Paris CEST
END:DAYLIGHT
END:VTIMEZONE
BEGIN:VEVENT
UID:1c70efa42a263fcb29382a3508a32586
CATEGORIES:Compétition Ski de Fond
CREATED:20141127T000322
SUMMARY:Challenge Martin JEDELE  Crédit Mutuel n° 6
URL;VALUE=URI:https://skivosges.net/agenda/detailevenement/352/-/challenge-martin-jedele-
 credit-mutuel-n-6?tmpl=component
DESCRIPTION:Challenge Martin JEDELE  Crédit Mutuel n° 6\n\nLieu : site nordique des tro
 is fours\nOrganisateur : SKIEURS DU TANET  (14199 SKIEURS DU TANET)\n\nInsc
 riptions en cours sur ce site\n - FMVF0201  Mass Start (Depart ligne) U14 (
 Minime) Filles\n  Challenge Martin JEDELE  Crédit Mutuel n° 6\n - FMVF0202 
  Mass Start (Depart ligne) U16 a SEN (Cadet a Senior) Dames\n  Challenge Ma
 rtin JEDELE  Crédit Mutuel n° 6\n - FMVM0201  Mass Start (Depart ligne) U14
  (Minime) Garçons\n  Challenge Martin JEDELE  Crédit Mutuel n° 6\n - FMVM02
 02  Mass Start (Depart ligne) U16 (Cadet) Garçons\n  Challenge Martin JEDEL
 E  Crédit Mutuel n° 6\n - FMVM0203  Mass Start (Depart ligne) U18 a SEN (Je
 une a Senior) Hommes\n  Challenge Martin JEDELE  Crédit Mutuel n° 6 Cet évè
 nement a été importé depuis :https://skivosges.net/agenda/detailevenement/3
 52/-/challenge-martin-jedele-credit-mutuel-n-6?tmpl=component (https://skiv
 osges.net/agenda/detailevenement/352/-/challenge-martin-jedele-credit-mutue
 l-n-6?tmpl=component)
X-ALT-DESC;FMTTYPE=text/html:<strong>Challenge Martin JEDELE  Crédit Mutuel n° 6</strong><br /><br />Lie
 u : site nordique des trois fours<br />Organisateur : SKIEURS DU TANET  <sm
 all>(14199 SKIEURS DU TANET)</small><br /><br />Inscriptions en cours sur c
 e site<ul type="disc"><li>FMVF0201  Mass Start (Depart ligne) <nobr>U14 (Mi
 nime)</nobr> Filles<br />&nbsp;&nbsp;Challenge Martin JEDELE  Crédit Mutuel
  n° 6</li><li>FMVF0202  Mass Start (Depart ligne) <nobr>U16 a SEN (Cadet a 
 Senior)</nobr> Dames<br />&nbsp;&nbsp;Challenge Martin JEDELE  Crédit Mutue
 l n° 6</li><li>FMVM0201  Mass Start (Depart ligne) <nobr>U14 (Minime)</nobr
 > Garçons<br />&nbsp;&nbsp;Challenge Martin JEDELE  Crédit Mutuel n° 6</li>
 <li>FMVM0202  Mass Start (Depart ligne) <nobr>U16 (Cadet)</nobr> Garçons<br
  />&nbsp;&nbsp;Challenge Martin JEDELE  Crédit Mutuel n° 6</li><li>FMVM0203
   Mass Start (Depart ligne) <nobr>U18 a SEN (Jeune a Senior)</nobr> Hommes<
 br />&nbsp;&nbsp;Challenge Martin JEDELE  Crédit Mutuel n° 6</li></ul> <a h
 ref="https://skivosges.net/agenda/detailevenement/352/-/challenge-martin-je
 dele-credit-mutuel-n-6?tmpl=component">Cet évènement a été importé depuis :
 https://skivosges.net/agenda/detailevenement/352/-/challenge-martin-jedele-
 credit-mutuel-n-6?tmpl=component</a>DTSTAMP:20260421T050951
DTSTART;TZID=Europe/Paris:20150301T080000
DTEND;TZID=Europe/Paris:20150301T170000
SEQUENCE:0
TRANSP:OPAQUE
END:VEVENT
END:VCALENDAR