BEGIN:VCALENDAR
VERSION:2.0
PRODID:-//jEvents 2.0 for Joomla//EN
CALSCALE:GREGORIAN
METHOD:PUBLISH
BEGIN:VTIMEZONE
TZID:Europe/Paris
BEGIN:STANDARD
DTSTART:20140306T080000
RDATE:20140330T030000
TZOFFSETFROM:+0200
TZOFFSETTO:+0100
TZNAME:Europe/Paris CET
END:STANDARD
BEGIN:STANDARD
DTSTART:20141026T020000
RDATE:20150329T030000
TZOFFSETFROM:+0200
TZOFFSETTO:+0100
TZNAME:Europe/Paris CET
END:STANDARD
BEGIN:STANDARD
DTSTART:20151025T020000
RDATE:20160327T030000
TZOFFSETFROM:+0200
TZOFFSETTO:+0100
TZNAME:Europe/Paris CET
END:STANDARD
BEGIN:STANDARD
DTSTART:20161030T020000
RDATE:20170326T030000
TZOFFSETFROM:+0200
TZOFFSETTO:+0100
TZNAME:Europe/Paris CET
END:STANDARD
BEGIN:STANDARD
DTSTART:20171029T020000
RDATE:20180325T030000
TZOFFSETFROM:+0200
TZOFFSETTO:+0100
TZNAME:Europe/Paris CET
END:STANDARD
BEGIN:STANDARD
DTSTART:20181028T020000
RDATE:20190331T030000
TZOFFSETFROM:+0200
TZOFFSETTO:+0100
TZNAME:Europe/Paris CET
END:STANDARD
BEGIN:STANDARD
DTSTART:20191027T020000
RDATE:20200329T030000
TZOFFSETFROM:+0200
TZOFFSETTO:+0100
TZNAME:Europe/Paris CET
END:STANDARD
BEGIN:STANDARD
DTSTART:20201025T020000
RDATE:20210328T030000
TZOFFSETFROM:+0200
TZOFFSETTO:+0100
TZNAME:Europe/Paris CET
END:STANDARD
BEGIN:STANDARD
DTSTART:20211031T020000
RDATE:20220327T030000
TZOFFSETFROM:+0200
TZOFFSETTO:+0100
TZNAME:Europe/Paris CET
END:STANDARD
BEGIN:STANDARD
DTSTART:20221030T020000
RDATE:20230326T030000
TZOFFSETFROM:+0200
TZOFFSETTO:+0100
TZNAME:Europe/Paris CET
END:STANDARD
BEGIN:STANDARD
DTSTART:20231029T020000
RDATE:20240331T030000
TZOFFSETFROM:+0200
TZOFFSETTO:+0100
TZNAME:Europe/Paris CET
END:STANDARD
BEGIN:STANDARD
DTSTART:20241027T020000
RDATE:20250330T030000
TZOFFSETFROM:+0200
TZOFFSETTO:+0100
TZNAME:Europe/Paris CET
END:STANDARD
BEGIN:STANDARD
DTSTART:20251026T020000
RDATE:20260329T030000
TZOFFSETFROM:+0200
TZOFFSETTO:+0100
TZNAME:Europe/Paris CET
END:STANDARD
BEGIN:STANDARD
DTSTART:20261025T020000
RDATE:20270328T030000
TZOFFSETFROM:+0200
TZOFFSETTO:+0100
TZNAME:Europe/Paris CET
END:STANDARD
BEGIN:DAYLIGHT
DTSTART:20140330T030000
RDATE:20141026T020000
TZOFFSETFROM:+0100
TZOFFSETTO:+0200
TZNAME:Europe/Paris CEST
END:DAYLIGHT
BEGIN:DAYLIGHT
DTSTART:20150329T030000
RDATE:20151025T020000
TZOFFSETFROM:+0100
TZOFFSETTO:+0200
TZNAME:Europe/Paris CEST
END:DAYLIGHT
BEGIN:DAYLIGHT
DTSTART:20160327T030000
RDATE:20161030T020000
TZOFFSETFROM:+0100
TZOFFSETTO:+0200
TZNAME:Europe/Paris CEST
END:DAYLIGHT
BEGIN:DAYLIGHT
DTSTART:20170326T030000
RDATE:20171029T020000
TZOFFSETFROM:+0100
TZOFFSETTO:+0200
TZNAME:Europe/Paris CEST
END:DAYLIGHT
BEGIN:DAYLIGHT
DTSTART:20180325T030000
RDATE:20181028T020000
TZOFFSETFROM:+0100
TZOFFSETTO:+0200
TZNAME:Europe/Paris CEST
END:DAYLIGHT
BEGIN:DAYLIGHT
DTSTART:20190331T030000
RDATE:20191027T020000
TZOFFSETFROM:+0100
TZOFFSETTO:+0200
TZNAME:Europe/Paris CEST
END:DAYLIGHT
BEGIN:DAYLIGHT
DTSTART:20200329T030000
RDATE:20201025T020000
TZOFFSETFROM:+0100
TZOFFSETTO:+0200
TZNAME:Europe/Paris CEST
END:DAYLIGHT
BEGIN:DAYLIGHT
DTSTART:20210328T030000
RDATE:20211031T020000
TZOFFSETFROM:+0100
TZOFFSETTO:+0200
TZNAME:Europe/Paris CEST
END:DAYLIGHT
BEGIN:DAYLIGHT
DTSTART:20220327T030000
RDATE:20221030T020000
TZOFFSETFROM:+0100
TZOFFSETTO:+0200
TZNAME:Europe/Paris CEST
END:DAYLIGHT
BEGIN:DAYLIGHT
DTSTART:20230326T030000
RDATE:20231029T020000
TZOFFSETFROM:+0100
TZOFFSETTO:+0200
TZNAME:Europe/Paris CEST
END:DAYLIGHT
BEGIN:DAYLIGHT
DTSTART:20240331T030000
RDATE:20241027T020000
TZOFFSETFROM:+0100
TZOFFSETTO:+0200
TZNAME:Europe/Paris CEST
END:DAYLIGHT
BEGIN:DAYLIGHT
DTSTART:20250330T030000
RDATE:20251026T020000
TZOFFSETFROM:+0100
TZOFFSETTO:+0200
TZNAME:Europe/Paris CEST
END:DAYLIGHT
BEGIN:DAYLIGHT
DTSTART:20260329T030000
RDATE:20261025T020000
TZOFFSETFROM:+0100
TZOFFSETTO:+0200
TZNAME:Europe/Paris CEST
END:DAYLIGHT
END:VTIMEZONE
BEGIN:VEVENT
UID:80b20ead3b739dcc729a26f4fc8c8aa3
CATEGORIES:Opens et Promos (alpin)
CREATED:20141127T000322
SUMMARY:PROMO  U8 à U16     Haribo Kids Snow Cup
URL;VALUE=URI:https://skivosges.net/agenda/detailevenement/360/-/promo-u8-a-u16-haribo-ki
 ds-snow-cup?tmpl=component
DESCRIPTION:PROMO  U8 à U16     Haribo Kids Snow Cup\n\nLieu : MARKSTEIN\nOrganisateur 
 : S.C VALLEE DE WESSERLING (14186 S.C VALLEE DE WESSERLING)\nEmail : Regula
 rLabs.EmailProtector.unCloak("ep_9bb0da9a");\nTelecopie : 03 89 82 78 08\nT
 elecopie : 03 89 82 78 08\n\nInscriptions en cours sur ce site\n - AMVF0611
   Slalom Geant Dames\n  PROMO  U8 à U16     Haribo Kids Snow Cup\n - AMVM06
 11  Slalom Geant Hommes\n  PROMO  U8 à U16     Haribo Kids Snow Cup Cet évè
 nement a été importé depuis :https://skivosges.net/agenda/detailevenement/3
 60/-/promo-u8-a-u16-haribo-kids-snow-cup?tmpl=component
X-ALT-DESC;FMTTYPE=text/html:<strong>PROMO  U8 à U16     Haribo Kids Snow Cup</strong><br /><br />Lieu :
  MARKSTEIN<br />Organisateur : S.C VALLEE DE WESSERLING <small>(14186 S.C V
 ALLEE DE WESSERLING)</small><br />Email : <!-- Cette adresse électronique e
 st protégée contre les robots spammeurs. --><span class="cloaked_email ep_9
 bb0da9a"><span data-ep-a="s&#99;&#118;w" data-ep-b="&#109;"><span data-ep-b
 ="&#108;&#46;co" data-ep-a="&#101;&#115;&#115;&#101;"><span data-ep-b="&#10
 3;&#64;&#97;&#111;" data-ep-a="&#114;&#108;i&#110;"></span></span></span></
 span><script>RegularLabs.EmailProtector.unCloak("ep_9bb0da9a");</script><br
  />Telecopie : 03 89 82 78 08<br />Telecopie : 03 89 82 78 08<br /><br />In
 scriptions en cours sur ce site<ul type="disc"><li>AMVF0611  Slalom Geant D
 ames<br />&nbsp;&nbsp;PROMO  U8 à U16     Haribo Kids Snow Cup</li><li>AMVM
 0611  Slalom Geant Hommes<br />&nbsp;&nbsp;PROMO  U8 à U16     Haribo Kids 
 Snow Cup</li></ul> <a href="https://skivosges.net/agenda/detailevenement/36
 0/-/promo-u8-a-u16-haribo-kids-snow-cup?tmpl=component">Cet évènement a été
  importé depuis :https://skivosges.net/agenda/detailevenement/360/-/promo-u
 8-a-u16-haribo-kids-snow-cup?tmpl=component</a>DTSTAMP:20260421T014527
DTSTART;TZID=Europe/Paris:20150307T080000
DTEND;TZID=Europe/Paris:20150307T170000
SEQUENCE:0
TRANSP:OPAQUE
END:VEVENT
END:VCALENDAR