BEGIN:VCALENDAR
VERSION:2.0
PRODID:-//jEvents 2.0 for Joomla//EN
CALSCALE:GREGORIAN
METHOD:PUBLISH
BEGIN:VTIMEZONE
TZID:Europe/Paris
BEGIN:STANDARD
DTSTART:20140313T080000
RDATE:20140330T030000
TZOFFSETFROM:+0200
TZOFFSETTO:+0100
TZNAME:Europe/Paris CET
END:STANDARD
BEGIN:STANDARD
DTSTART:20141026T020000
RDATE:20150329T030000
TZOFFSETFROM:+0200
TZOFFSETTO:+0100
TZNAME:Europe/Paris CET
END:STANDARD
BEGIN:STANDARD
DTSTART:20151025T020000
RDATE:20160327T030000
TZOFFSETFROM:+0200
TZOFFSETTO:+0100
TZNAME:Europe/Paris CET
END:STANDARD
BEGIN:STANDARD
DTSTART:20161030T020000
RDATE:20170326T030000
TZOFFSETFROM:+0200
TZOFFSETTO:+0100
TZNAME:Europe/Paris CET
END:STANDARD
BEGIN:STANDARD
DTSTART:20171029T020000
RDATE:20180325T030000
TZOFFSETFROM:+0200
TZOFFSETTO:+0100
TZNAME:Europe/Paris CET
END:STANDARD
BEGIN:STANDARD
DTSTART:20181028T020000
RDATE:20190331T030000
TZOFFSETFROM:+0200
TZOFFSETTO:+0100
TZNAME:Europe/Paris CET
END:STANDARD
BEGIN:STANDARD
DTSTART:20191027T020000
RDATE:20200329T030000
TZOFFSETFROM:+0200
TZOFFSETTO:+0100
TZNAME:Europe/Paris CET
END:STANDARD
BEGIN:STANDARD
DTSTART:20201025T020000
RDATE:20210328T030000
TZOFFSETFROM:+0200
TZOFFSETTO:+0100
TZNAME:Europe/Paris CET
END:STANDARD
BEGIN:STANDARD
DTSTART:20211031T020000
RDATE:20220327T030000
TZOFFSETFROM:+0200
TZOFFSETTO:+0100
TZNAME:Europe/Paris CET
END:STANDARD
BEGIN:STANDARD
DTSTART:20221030T020000
RDATE:20230326T030000
TZOFFSETFROM:+0200
TZOFFSETTO:+0100
TZNAME:Europe/Paris CET
END:STANDARD
BEGIN:STANDARD
DTSTART:20231029T020000
RDATE:20240331T030000
TZOFFSETFROM:+0200
TZOFFSETTO:+0100
TZNAME:Europe/Paris CET
END:STANDARD
BEGIN:STANDARD
DTSTART:20241027T020000
RDATE:20250330T030000
TZOFFSETFROM:+0200
TZOFFSETTO:+0100
TZNAME:Europe/Paris CET
END:STANDARD
BEGIN:STANDARD
DTSTART:20251026T020000
RDATE:20260329T030000
TZOFFSETFROM:+0200
TZOFFSETTO:+0100
TZNAME:Europe/Paris CET
END:STANDARD
BEGIN:STANDARD
DTSTART:20261025T020000
RDATE:20270328T030000
TZOFFSETFROM:+0200
TZOFFSETTO:+0100
TZNAME:Europe/Paris CET
END:STANDARD
BEGIN:DAYLIGHT
DTSTART:20140330T030000
RDATE:20141026T020000
TZOFFSETFROM:+0100
TZOFFSETTO:+0200
TZNAME:Europe/Paris CEST
END:DAYLIGHT
BEGIN:DAYLIGHT
DTSTART:20150329T030000
RDATE:20151025T020000
TZOFFSETFROM:+0100
TZOFFSETTO:+0200
TZNAME:Europe/Paris CEST
END:DAYLIGHT
BEGIN:DAYLIGHT
DTSTART:20160327T030000
RDATE:20161030T020000
TZOFFSETFROM:+0100
TZOFFSETTO:+0200
TZNAME:Europe/Paris CEST
END:DAYLIGHT
BEGIN:DAYLIGHT
DTSTART:20170326T030000
RDATE:20171029T020000
TZOFFSETFROM:+0100
TZOFFSETTO:+0200
TZNAME:Europe/Paris CEST
END:DAYLIGHT
BEGIN:DAYLIGHT
DTSTART:20180325T030000
RDATE:20181028T020000
TZOFFSETFROM:+0100
TZOFFSETTO:+0200
TZNAME:Europe/Paris CEST
END:DAYLIGHT
BEGIN:DAYLIGHT
DTSTART:20190331T030000
RDATE:20191027T020000
TZOFFSETFROM:+0100
TZOFFSETTO:+0200
TZNAME:Europe/Paris CEST
END:DAYLIGHT
BEGIN:DAYLIGHT
DTSTART:20200329T030000
RDATE:20201025T020000
TZOFFSETFROM:+0100
TZOFFSETTO:+0200
TZNAME:Europe/Paris CEST
END:DAYLIGHT
BEGIN:DAYLIGHT
DTSTART:20210328T030000
RDATE:20211031T020000
TZOFFSETFROM:+0100
TZOFFSETTO:+0200
TZNAME:Europe/Paris CEST
END:DAYLIGHT
BEGIN:DAYLIGHT
DTSTART:20220327T030000
RDATE:20221030T020000
TZOFFSETFROM:+0100
TZOFFSETTO:+0200
TZNAME:Europe/Paris CEST
END:DAYLIGHT
BEGIN:DAYLIGHT
DTSTART:20230326T030000
RDATE:20231029T020000
TZOFFSETFROM:+0100
TZOFFSETTO:+0200
TZNAME:Europe/Paris CEST
END:DAYLIGHT
BEGIN:DAYLIGHT
DTSTART:20240331T030000
RDATE:20241027T020000
TZOFFSETFROM:+0100
TZOFFSETTO:+0200
TZNAME:Europe/Paris CEST
END:DAYLIGHT
BEGIN:DAYLIGHT
DTSTART:20250330T030000
RDATE:20251026T020000
TZOFFSETFROM:+0100
TZOFFSETTO:+0200
TZNAME:Europe/Paris CEST
END:DAYLIGHT
BEGIN:DAYLIGHT
DTSTART:20260329T030000
RDATE:20261025T020000
TZOFFSETFROM:+0100
TZOFFSETTO:+0200
TZNAME:Europe/Paris CEST
END:DAYLIGHT
END:VTIMEZONE
BEGIN:VEVENT
UID:842dff8dab57cbc91b018277799d5ad3
CATEGORIES:Compétition Ski de Fond
CREATED:20141127T000323
SUMMARY:Coupe Hahnenbrunen Roedelenn
URL;VALUE=URI:https://skivosges.net/agenda/detailevenement/367/-/coupe-hahnenbrunen-roede
 lenn?tmpl=component
DESCRIPTION:Coupe Hahnenbrunen Roedelenn\n\nLieu : MARKSTEIN \nOrganisateur : TOURING C
 LUB MULHOUSE  (14044 TOURING CLUB MULHOUSE)\nTelecopie : 0389595556\n\nCham
 pionnat des Vosges de relais:\nPar équipe de 3 M/C - H/D ou mixte\nPar équi
 pe de 3 en Je/Ju/Se H/D ou mixte.\nPréciser l´ordre des 3 relayeurs\n\n\nIn
 scriptions en cours sur ce site\n - FMVF0231  Mass Start (Depart ligne) Dam
 es\n  Coupe Hahnenbrunen Roedelenn\n - FMVF0232  Mass Start (Depart ligne) 
 U18 a SEN (Jeune a Senior) Dames\n  Coupe Hahnenbrunen Roedelenn\n - FMVM02
 31  Mass Start (Depart ligne) Hommes\n  Coupe Hahnenbrunen Roedelenn\n - FM
 VM0232  Mass Start (Depart ligne) U18 a SEN (Jeune a Senior) Hommes\n  Coup
 e Hahnenbrunen Roedelenn Cet évènement a été importé depuis :https://skivos
 ges.net/agenda/detailevenement/367/-/coupe-hahnenbrunen-roedelenn?tmpl=comp
 onent (https://skivosges.net/agenda/detailevenement/367/-/coupe-hahnenbrune
 n-roedelenn?tmpl=component)
X-ALT-DESC;FMTTYPE=text/html:<strong>Coupe Hahnenbrunen Roedelenn</strong><br /><br />Lieu : MARKSTEIN <
 br />Organisateur : TOURING CLUB MULHOUSE  <small>(14044 TOURING CLUB MULHO
 USE)</small><br />Telecopie : 0389595556<br /><br />Championnat des Vosges 
 de relais:<br>Par équipe de 3 M/C - H/D ou mixte<br>Par équipe de 3 en Je/J
 u/Se H/D ou mixte.<br>Préciser l´ordre des 3 relayeurs<br><br /><br />Inscr
 iptions en cours sur ce site<ul type="disc"><li>FMVF0231  Mass Start (Depar
 t ligne) Dames<br />&nbsp;&nbsp;Coupe Hahnenbrunen Roedelenn</li><li>FMVF02
 32  Mass Start (Depart ligne) <nobr>U18 a SEN (Jeune a Senior)</nobr> Dames
 <br />&nbsp;&nbsp;Coupe Hahnenbrunen Roedelenn</li><li>FMVM0231  Mass Start
  (Depart ligne) Hommes<br />&nbsp;&nbsp;Coupe Hahnenbrunen Roedelenn</li><l
 i>FMVM0232  Mass Start (Depart ligne) <nobr>U18 a SEN (Jeune a Senior)</nob
 r> Hommes<br />&nbsp;&nbsp;Coupe Hahnenbrunen Roedelenn</li></ul> <a href="
 https://skivosges.net/agenda/detailevenement/367/-/coupe-hahnenbrunen-roede
 lenn?tmpl=component">Cet évènement a été importé depuis :https://skivosges.
 net/agenda/detailevenement/367/-/coupe-hahnenbrunen-roedelenn?tmpl=componen
 t</a>DTSTAMP:20260420T220902
DTSTART;TZID=Europe/Paris:20150314T080000
DTEND;TZID=Europe/Paris:20150314T170000
SEQUENCE:0
TRANSP:OPAQUE
END:VEVENT
END:VCALENDAR