BEGIN:VCALENDAR
VERSION:2.0
PRODID:-//jEvents 2.0 for Joomla//EN
CALSCALE:GREGORIAN
METHOD:PUBLISH
BEGIN:VTIMEZONE
TZID:Europe/Paris
BEGIN:STANDARD
DTSTART:20140313T080000
RDATE:20140330T030000
TZOFFSETFROM:+0200
TZOFFSETTO:+0100
TZNAME:Europe/Paris CET
END:STANDARD
BEGIN:STANDARD
DTSTART:20141026T020000
RDATE:20150329T030000
TZOFFSETFROM:+0200
TZOFFSETTO:+0100
TZNAME:Europe/Paris CET
END:STANDARD
BEGIN:STANDARD
DTSTART:20151025T020000
RDATE:20160327T030000
TZOFFSETFROM:+0200
TZOFFSETTO:+0100
TZNAME:Europe/Paris CET
END:STANDARD
BEGIN:STANDARD
DTSTART:20161030T020000
RDATE:20170326T030000
TZOFFSETFROM:+0200
TZOFFSETTO:+0100
TZNAME:Europe/Paris CET
END:STANDARD
BEGIN:STANDARD
DTSTART:20171029T020000
RDATE:20180325T030000
TZOFFSETFROM:+0200
TZOFFSETTO:+0100
TZNAME:Europe/Paris CET
END:STANDARD
BEGIN:STANDARD
DTSTART:20181028T020000
RDATE:20190331T030000
TZOFFSETFROM:+0200
TZOFFSETTO:+0100
TZNAME:Europe/Paris CET
END:STANDARD
BEGIN:STANDARD
DTSTART:20191027T020000
RDATE:20200329T030000
TZOFFSETFROM:+0200
TZOFFSETTO:+0100
TZNAME:Europe/Paris CET
END:STANDARD
BEGIN:STANDARD
DTSTART:20201025T020000
RDATE:20210328T030000
TZOFFSETFROM:+0200
TZOFFSETTO:+0100
TZNAME:Europe/Paris CET
END:STANDARD
BEGIN:STANDARD
DTSTART:20211031T020000
RDATE:20220327T030000
TZOFFSETFROM:+0200
TZOFFSETTO:+0100
TZNAME:Europe/Paris CET
END:STANDARD
BEGIN:STANDARD
DTSTART:20221030T020000
RDATE:20230326T030000
TZOFFSETFROM:+0200
TZOFFSETTO:+0100
TZNAME:Europe/Paris CET
END:STANDARD
BEGIN:STANDARD
DTSTART:20231029T020000
RDATE:20240331T030000
TZOFFSETFROM:+0200
TZOFFSETTO:+0100
TZNAME:Europe/Paris CET
END:STANDARD
BEGIN:STANDARD
DTSTART:20241027T020000
RDATE:20250330T030000
TZOFFSETFROM:+0200
TZOFFSETTO:+0100
TZNAME:Europe/Paris CET
END:STANDARD
BEGIN:STANDARD
DTSTART:20251026T020000
RDATE:20260329T030000
TZOFFSETFROM:+0200
TZOFFSETTO:+0100
TZNAME:Europe/Paris CET
END:STANDARD
BEGIN:STANDARD
DTSTART:20261025T020000
RDATE:20270328T030000
TZOFFSETFROM:+0200
TZOFFSETTO:+0100
TZNAME:Europe/Paris CET
END:STANDARD
BEGIN:DAYLIGHT
DTSTART:20140330T030000
RDATE:20141026T020000
TZOFFSETFROM:+0100
TZOFFSETTO:+0200
TZNAME:Europe/Paris CEST
END:DAYLIGHT
BEGIN:DAYLIGHT
DTSTART:20150329T030000
RDATE:20151025T020000
TZOFFSETFROM:+0100
TZOFFSETTO:+0200
TZNAME:Europe/Paris CEST
END:DAYLIGHT
BEGIN:DAYLIGHT
DTSTART:20160327T030000
RDATE:20161030T020000
TZOFFSETFROM:+0100
TZOFFSETTO:+0200
TZNAME:Europe/Paris CEST
END:DAYLIGHT
BEGIN:DAYLIGHT
DTSTART:20170326T030000
RDATE:20171029T020000
TZOFFSETFROM:+0100
TZOFFSETTO:+0200
TZNAME:Europe/Paris CEST
END:DAYLIGHT
BEGIN:DAYLIGHT
DTSTART:20180325T030000
RDATE:20181028T020000
TZOFFSETFROM:+0100
TZOFFSETTO:+0200
TZNAME:Europe/Paris CEST
END:DAYLIGHT
BEGIN:DAYLIGHT
DTSTART:20190331T030000
RDATE:20191027T020000
TZOFFSETFROM:+0100
TZOFFSETTO:+0200
TZNAME:Europe/Paris CEST
END:DAYLIGHT
BEGIN:DAYLIGHT
DTSTART:20200329T030000
RDATE:20201025T020000
TZOFFSETFROM:+0100
TZOFFSETTO:+0200
TZNAME:Europe/Paris CEST
END:DAYLIGHT
BEGIN:DAYLIGHT
DTSTART:20210328T030000
RDATE:20211031T020000
TZOFFSETFROM:+0100
TZOFFSETTO:+0200
TZNAME:Europe/Paris CEST
END:DAYLIGHT
BEGIN:DAYLIGHT
DTSTART:20220327T030000
RDATE:20221030T020000
TZOFFSETFROM:+0100
TZOFFSETTO:+0200
TZNAME:Europe/Paris CEST
END:DAYLIGHT
BEGIN:DAYLIGHT
DTSTART:20230326T030000
RDATE:20231029T020000
TZOFFSETFROM:+0100
TZOFFSETTO:+0200
TZNAME:Europe/Paris CEST
END:DAYLIGHT
BEGIN:DAYLIGHT
DTSTART:20240331T030000
RDATE:20241027T020000
TZOFFSETFROM:+0100
TZOFFSETTO:+0200
TZNAME:Europe/Paris CEST
END:DAYLIGHT
BEGIN:DAYLIGHT
DTSTART:20250330T030000
RDATE:20251026T020000
TZOFFSETFROM:+0100
TZOFFSETTO:+0200
TZNAME:Europe/Paris CEST
END:DAYLIGHT
BEGIN:DAYLIGHT
DTSTART:20260329T030000
RDATE:20261025T020000
TZOFFSETFROM:+0100
TZOFFSETTO:+0200
TZNAME:Europe/Paris CEST
END:DAYLIGHT
END:VTIMEZONE
BEGIN:VEVENT
UID:879c5f6bb55e01a1e62d09033d53feaf
CATEGORIES:Compétition Biathlon
CREATED:20141127T000323
SUMMARY:Sports Passion
URL;VALUE=URI:https://skivosges.net/agenda/detailevenement/368/-/sports-passion?tmpl=comp
 onent
DESCRIPTION:Sports Passion\n\nLieu : LA BRESSE LISPACH\n - BMVF0051  Individuel U12 (Be
 njamin) Filles\n  Sports Passion\n - BMVM0051  Individuel U12 (Benjamin) Ga
 rçons\n  Sports Passion\n - BMVF0052  Individuel U14 (Minime) Filles\n  Spo
 rts Passion\n - BMVM0052  Individuel U14 (Minime) Garçons\n  Sports Passion
 \n - BMVF0053  Individuel U16 a SEN (Cadet a Senior) Dames\n  Sports Passio
 n\n - BMVM0053  Individuel U16 a SEN (Cadet a Senior) Hommes\n  Sports Pass
 ion Cet évènement a été importé depuis :https://skivosges.net/agenda/detail
 evenement/368/-/sports-passion?tmpl=component (https://skivosges.net/agenda
 /detailevenement/368/-/sports-passion?tmpl=component)
X-ALT-DESC;FMTTYPE=text/html:<strong>Sports Passion</strong><br /><br />Lieu : LA BRESSE LISPACH<ul type
 ="disc"><li>BMVF0051  Individuel <nobr>U12 (Benjamin)</nobr> Filles<br />&n
 bsp;&nbsp;Sports Passion</li><li>BMVM0051  Individuel <nobr>U12 (Benjamin)<
 /nobr> Garçons<br />&nbsp;&nbsp;Sports Passion</li><li>BMVF0052  Individuel
  <nobr>U14 (Minime)</nobr> Filles<br />&nbsp;&nbsp;Sports Passion</li><li>B
 MVM0052  Individuel <nobr>U14 (Minime)</nobr> Garçons<br />&nbsp;&nbsp;Spor
 ts Passion</li><li>BMVF0053  Individuel <nobr>U16 a SEN (Cadet a Senior)</n
 obr> Dames<br />&nbsp;&nbsp;Sports Passion</li><li>BMVM0053  Individuel <no
 br>U16 a SEN (Cadet a Senior)</nobr> Hommes<br />&nbsp;&nbsp;Sports Passion
 </li></ul> <a href="https://skivosges.net/agenda/detailevenement/368/-/spor
 ts-passion?tmpl=component">Cet évènement a été importé depuis :https://skiv
 osges.net/agenda/detailevenement/368/-/sports-passion?tmpl=component</a>DTSTAMP:20260420T221126
DTSTART;TZID=Europe/Paris:20150314T080000
DTEND;TZID=Europe/Paris:20150314T170000
SEQUENCE:0
TRANSP:OPAQUE
END:VEVENT
END:VCALENDAR