BEGIN:VCALENDAR
VERSION:2.0
PRODID:-//jEvents 2.0 for Joomla//EN
CALSCALE:GREGORIAN
METHOD:PUBLISH
BEGIN:VTIMEZONE
TZID:Europe/Paris
BEGIN:STANDARD
DTSTART:20140313T080000
RDATE:20140330T030000
TZOFFSETFROM:+0200
TZOFFSETTO:+0100
TZNAME:Europe/Paris CET
END:STANDARD
BEGIN:STANDARD
DTSTART:20141026T020000
RDATE:20150329T030000
TZOFFSETFROM:+0200
TZOFFSETTO:+0100
TZNAME:Europe/Paris CET
END:STANDARD
BEGIN:STANDARD
DTSTART:20151025T020000
RDATE:20160327T030000
TZOFFSETFROM:+0200
TZOFFSETTO:+0100
TZNAME:Europe/Paris CET
END:STANDARD
BEGIN:STANDARD
DTSTART:20161030T020000
RDATE:20170326T030000
TZOFFSETFROM:+0200
TZOFFSETTO:+0100
TZNAME:Europe/Paris CET
END:STANDARD
BEGIN:STANDARD
DTSTART:20171029T020000
RDATE:20180325T030000
TZOFFSETFROM:+0200
TZOFFSETTO:+0100
TZNAME:Europe/Paris CET
END:STANDARD
BEGIN:STANDARD
DTSTART:20181028T020000
RDATE:20190331T030000
TZOFFSETFROM:+0200
TZOFFSETTO:+0100
TZNAME:Europe/Paris CET
END:STANDARD
BEGIN:STANDARD
DTSTART:20191027T020000
RDATE:20200329T030000
TZOFFSETFROM:+0200
TZOFFSETTO:+0100
TZNAME:Europe/Paris CET
END:STANDARD
BEGIN:STANDARD
DTSTART:20201025T020000
RDATE:20210328T030000
TZOFFSETFROM:+0200
TZOFFSETTO:+0100
TZNAME:Europe/Paris CET
END:STANDARD
BEGIN:STANDARD
DTSTART:20211031T020000
RDATE:20220327T030000
TZOFFSETFROM:+0200
TZOFFSETTO:+0100
TZNAME:Europe/Paris CET
END:STANDARD
BEGIN:STANDARD
DTSTART:20221030T020000
RDATE:20230326T030000
TZOFFSETFROM:+0200
TZOFFSETTO:+0100
TZNAME:Europe/Paris CET
END:STANDARD
BEGIN:STANDARD
DTSTART:20231029T020000
RDATE:20240331T030000
TZOFFSETFROM:+0200
TZOFFSETTO:+0100
TZNAME:Europe/Paris CET
END:STANDARD
BEGIN:STANDARD
DTSTART:20241027T020000
RDATE:20250330T030000
TZOFFSETFROM:+0200
TZOFFSETTO:+0100
TZNAME:Europe/Paris CET
END:STANDARD
BEGIN:STANDARD
DTSTART:20251026T020000
RDATE:20260329T030000
TZOFFSETFROM:+0200
TZOFFSETTO:+0100
TZNAME:Europe/Paris CET
END:STANDARD
BEGIN:STANDARD
DTSTART:20261025T020000
RDATE:20270328T030000
TZOFFSETFROM:+0200
TZOFFSETTO:+0100
TZNAME:Europe/Paris CET
END:STANDARD
BEGIN:DAYLIGHT
DTSTART:20140330T030000
RDATE:20141026T020000
TZOFFSETFROM:+0100
TZOFFSETTO:+0200
TZNAME:Europe/Paris CEST
END:DAYLIGHT
BEGIN:DAYLIGHT
DTSTART:20150329T030000
RDATE:20151025T020000
TZOFFSETFROM:+0100
TZOFFSETTO:+0200
TZNAME:Europe/Paris CEST
END:DAYLIGHT
BEGIN:DAYLIGHT
DTSTART:20160327T030000
RDATE:20161030T020000
TZOFFSETFROM:+0100
TZOFFSETTO:+0200
TZNAME:Europe/Paris CEST
END:DAYLIGHT
BEGIN:DAYLIGHT
DTSTART:20170326T030000
RDATE:20171029T020000
TZOFFSETFROM:+0100
TZOFFSETTO:+0200
TZNAME:Europe/Paris CEST
END:DAYLIGHT
BEGIN:DAYLIGHT
DTSTART:20180325T030000
RDATE:20181028T020000
TZOFFSETFROM:+0100
TZOFFSETTO:+0200
TZNAME:Europe/Paris CEST
END:DAYLIGHT
BEGIN:DAYLIGHT
DTSTART:20190331T030000
RDATE:20191027T020000
TZOFFSETFROM:+0100
TZOFFSETTO:+0200
TZNAME:Europe/Paris CEST
END:DAYLIGHT
BEGIN:DAYLIGHT
DTSTART:20200329T030000
RDATE:20201025T020000
TZOFFSETFROM:+0100
TZOFFSETTO:+0200
TZNAME:Europe/Paris CEST
END:DAYLIGHT
BEGIN:DAYLIGHT
DTSTART:20210328T030000
RDATE:20211031T020000
TZOFFSETFROM:+0100
TZOFFSETTO:+0200
TZNAME:Europe/Paris CEST
END:DAYLIGHT
BEGIN:DAYLIGHT
DTSTART:20220327T030000
RDATE:20221030T020000
TZOFFSETFROM:+0100
TZOFFSETTO:+0200
TZNAME:Europe/Paris CEST
END:DAYLIGHT
BEGIN:DAYLIGHT
DTSTART:20230326T030000
RDATE:20231029T020000
TZOFFSETFROM:+0100
TZOFFSETTO:+0200
TZNAME:Europe/Paris CEST
END:DAYLIGHT
BEGIN:DAYLIGHT
DTSTART:20240331T030000
RDATE:20241027T020000
TZOFFSETFROM:+0100
TZOFFSETTO:+0200
TZNAME:Europe/Paris CEST
END:DAYLIGHT
BEGIN:DAYLIGHT
DTSTART:20250330T030000
RDATE:20251026T020000
TZOFFSETFROM:+0100
TZOFFSETTO:+0200
TZNAME:Europe/Paris CEST
END:DAYLIGHT
BEGIN:DAYLIGHT
DTSTART:20260329T030000
RDATE:20261025T020000
TZOFFSETFROM:+0100
TZOFFSETTO:+0200
TZNAME:Europe/Paris CEST
END:DAYLIGHT
END:VTIMEZONE
BEGIN:VEVENT
UID:1f289fcf50a54294db6bdfedd01a0dd9
CATEGORIES:Circuit Massif Adultes (alpin)
CREATED:20141127T000323
SUMMARY:GPA     GP Techni Ski / Mémorial J et PH Dégermann / Qualif CFFS
URL;VALUE=URI:https://skivosges.net/agenda/detailevenement/371/-/gpa-gp-techni-ski-memori
 al-j-et-ph-degermann-qualif-cffs?tmpl=component
DESCRIPTION:GPA     GP Techni Ski / Mémorial J et PH Dégermann / Qualif CFFS \n(Grand P
 rix Adultes)\n\nLieu : LAC BLANC\nPiste : Stade\nOrganisateur : SKI CLUB BA
 RR (14003 SKI CLUB BARR)\nEmail : RegularLabs.EmailProtector.unCloak("ep_1c
 93b14a");\nTelecopie : 0672007798\n\nAttention, le départ de la 1ère manche
  est avancé à 10h\n\nInscriptions closes, les listes de départ sont visuali
 sables sur ce site\n - AMVF0651  Slalom Geant (Coupe de la Federation) U16 
 a Masters Dames\n  GPA     GP Techni Ski / Mémorial J et PH Dégermann / Qua
 lif CFFS\n - AMVM0651  Slalom Geant (Coupe de la Federation) U16 a Masters 
 Hommes\n  GPA     GP Techni Ski / Mémorial J et PH Dégermann / Qualif CFFS 
 Cet évènement a été importé depuis :https://skivosges.net/agenda/detaileven
 ement/371/-/gpa-gp-techni-ski-memorial-j-et-ph-degermann-qualif-cffs?tmpl=c
 omponent
X-ALT-DESC;FMTTYPE=text/html:<strong>GPA     GP Techni Ski / Mémorial J et PH Dégermann / Qualif CFFS</s
 trong> <br /><i>(Grand Prix Adultes)</i><br /><br />Lieu : LAC BLANC<br />P
 iste : Stade<br />Organisateur : SKI CLUB BARR <small>(14003 SKI CLUB BARR)
 </small><br />Email : <!-- Cette adresse électronique est protégée contre l
 es robots spammeurs. --><span class="cloaked_email ep_1c93b14a"><span data-
 ep-a="&#106;-p&#104;" data-ep-b="&#102;&#114;"><span data-ep-b="&#100;o&#11
 1;&#46;" data-ep-a="&#46;&#104;o&#108;"><span data-ep-a="&#119;&#101;g&#64;
 " data-ep-b="w&#97;&#110;&#97;"></span></span></span></span><script>Regular
 Labs.EmailProtector.unCloak("ep_1c93b14a");</script><br />Telecopie : 06720
 07798<br /><br />Attention, le départ de la 1ère manche est avancé à 10h<br
  /><br />Inscriptions closes, les listes de départ sont visualisables sur c
 e site<ul type="disc"><li>AMVF0651  Slalom Geant <nobr><i>(Coupe de la Fede
 ration)</i></nobr> <nobr>U16 a Masters</nobr> Dames<br />&nbsp;&nbsp;GPA   
   GP Techni Ski / Mémorial J et PH Dégermann / Qualif CFFS</li><li>AMVM0651
   Slalom Geant <nobr><i>(Coupe de la Federation)</i></nobr> <nobr>U16 a Mas
 ters</nobr> Hommes<br />&nbsp;&nbsp;GPA     GP Techni Ski / Mémorial J et P
 H Dégermann / Qualif CFFS</li></ul> <a href="https://skivosges.net/agenda/d
 etailevenement/371/-/gpa-gp-techni-ski-memorial-j-et-ph-degermann-qualif-cf
 fs?tmpl=component">Cet évènement a été importé depuis :https://skivosges.ne
 t/agenda/detailevenement/371/-/gpa-gp-techni-ski-memorial-j-et-ph-degermann
 -qualif-cffs?tmpl=component</a>DTSTAMP:20260421T051037
DTSTART;TZID=Europe/Paris:20150314T080000
DTEND;TZID=Europe/Paris:20150314T170000
SEQUENCE:0
TRANSP:OPAQUE
END:VEVENT
END:VCALENDAR