BEGIN:VCALENDAR
VERSION:2.0
PRODID:-//jEvents 2.0 for Joomla//EN
CALSCALE:GREGORIAN
METHOD:PUBLISH
BEGIN:VTIMEZONE
TZID:Europe/Paris
BEGIN:STANDARD
DTSTART:20140314T080000
RDATE:20140330T030000
TZOFFSETFROM:+0200
TZOFFSETTO:+0100
TZNAME:Europe/Paris CET
END:STANDARD
BEGIN:STANDARD
DTSTART:20141026T020000
RDATE:20150329T030000
TZOFFSETFROM:+0200
TZOFFSETTO:+0100
TZNAME:Europe/Paris CET
END:STANDARD
BEGIN:STANDARD
DTSTART:20151025T020000
RDATE:20160327T030000
TZOFFSETFROM:+0200
TZOFFSETTO:+0100
TZNAME:Europe/Paris CET
END:STANDARD
BEGIN:STANDARD
DTSTART:20161030T020000
RDATE:20170326T030000
TZOFFSETFROM:+0200
TZOFFSETTO:+0100
TZNAME:Europe/Paris CET
END:STANDARD
BEGIN:STANDARD
DTSTART:20171029T020000
RDATE:20180325T030000
TZOFFSETFROM:+0200
TZOFFSETTO:+0100
TZNAME:Europe/Paris CET
END:STANDARD
BEGIN:STANDARD
DTSTART:20181028T020000
RDATE:20190331T030000
TZOFFSETFROM:+0200
TZOFFSETTO:+0100
TZNAME:Europe/Paris CET
END:STANDARD
BEGIN:STANDARD
DTSTART:20191027T020000
RDATE:20200329T030000
TZOFFSETFROM:+0200
TZOFFSETTO:+0100
TZNAME:Europe/Paris CET
END:STANDARD
BEGIN:STANDARD
DTSTART:20201025T020000
RDATE:20210328T030000
TZOFFSETFROM:+0200
TZOFFSETTO:+0100
TZNAME:Europe/Paris CET
END:STANDARD
BEGIN:STANDARD
DTSTART:20211031T020000
RDATE:20220327T030000
TZOFFSETFROM:+0200
TZOFFSETTO:+0100
TZNAME:Europe/Paris CET
END:STANDARD
BEGIN:STANDARD
DTSTART:20221030T020000
RDATE:20230326T030000
TZOFFSETFROM:+0200
TZOFFSETTO:+0100
TZNAME:Europe/Paris CET
END:STANDARD
BEGIN:STANDARD
DTSTART:20231029T020000
RDATE:20240331T030000
TZOFFSETFROM:+0200
TZOFFSETTO:+0100
TZNAME:Europe/Paris CET
END:STANDARD
BEGIN:STANDARD
DTSTART:20241027T020000
RDATE:20250330T030000
TZOFFSETFROM:+0200
TZOFFSETTO:+0100
TZNAME:Europe/Paris CET
END:STANDARD
BEGIN:STANDARD
DTSTART:20251026T020000
RDATE:20260329T030000
TZOFFSETFROM:+0200
TZOFFSETTO:+0100
TZNAME:Europe/Paris CET
END:STANDARD
BEGIN:STANDARD
DTSTART:20261025T020000
RDATE:20270328T030000
TZOFFSETFROM:+0200
TZOFFSETTO:+0100
TZNAME:Europe/Paris CET
END:STANDARD
BEGIN:DAYLIGHT
DTSTART:20140330T030000
RDATE:20141026T020000
TZOFFSETFROM:+0100
TZOFFSETTO:+0200
TZNAME:Europe/Paris CEST
END:DAYLIGHT
BEGIN:DAYLIGHT
DTSTART:20150329T030000
RDATE:20151025T020000
TZOFFSETFROM:+0100
TZOFFSETTO:+0200
TZNAME:Europe/Paris CEST
END:DAYLIGHT
BEGIN:DAYLIGHT
DTSTART:20160327T030000
RDATE:20161030T020000
TZOFFSETFROM:+0100
TZOFFSETTO:+0200
TZNAME:Europe/Paris CEST
END:DAYLIGHT
BEGIN:DAYLIGHT
DTSTART:20170326T030000
RDATE:20171029T020000
TZOFFSETFROM:+0100
TZOFFSETTO:+0200
TZNAME:Europe/Paris CEST
END:DAYLIGHT
BEGIN:DAYLIGHT
DTSTART:20180325T030000
RDATE:20181028T020000
TZOFFSETFROM:+0100
TZOFFSETTO:+0200
TZNAME:Europe/Paris CEST
END:DAYLIGHT
BEGIN:DAYLIGHT
DTSTART:20190331T030000
RDATE:20191027T020000
TZOFFSETFROM:+0100
TZOFFSETTO:+0200
TZNAME:Europe/Paris CEST
END:DAYLIGHT
BEGIN:DAYLIGHT
DTSTART:20200329T030000
RDATE:20201025T020000
TZOFFSETFROM:+0100
TZOFFSETTO:+0200
TZNAME:Europe/Paris CEST
END:DAYLIGHT
BEGIN:DAYLIGHT
DTSTART:20210328T030000
RDATE:20211031T020000
TZOFFSETFROM:+0100
TZOFFSETTO:+0200
TZNAME:Europe/Paris CEST
END:DAYLIGHT
BEGIN:DAYLIGHT
DTSTART:20220327T030000
RDATE:20221030T020000
TZOFFSETFROM:+0100
TZOFFSETTO:+0200
TZNAME:Europe/Paris CEST
END:DAYLIGHT
BEGIN:DAYLIGHT
DTSTART:20230326T030000
RDATE:20231029T020000
TZOFFSETFROM:+0100
TZOFFSETTO:+0200
TZNAME:Europe/Paris CEST
END:DAYLIGHT
BEGIN:DAYLIGHT
DTSTART:20240331T030000
RDATE:20241027T020000
TZOFFSETFROM:+0100
TZOFFSETTO:+0200
TZNAME:Europe/Paris CEST
END:DAYLIGHT
BEGIN:DAYLIGHT
DTSTART:20250330T030000
RDATE:20251026T020000
TZOFFSETFROM:+0100
TZOFFSETTO:+0200
TZNAME:Europe/Paris CEST
END:DAYLIGHT
BEGIN:DAYLIGHT
DTSTART:20260329T030000
RDATE:20261025T020000
TZOFFSETFROM:+0100
TZOFFSETTO:+0200
TZNAME:Europe/Paris CEST
END:DAYLIGHT
END:VTIMEZONE
BEGIN:VEVENT
UID:aa5f089ea9485af28940609dea9ad5e4
CATEGORIES:Compétition Ski de Fond
CREATED:20141127T000323
SUMMARY:Grand Prix des Commerçants
URL;VALUE=URI:https://skivosges.net/agenda/detailevenement/372/-/grand-prix-des-commercan
 ts?tmpl=component
DESCRIPTION:Grand Prix des Commerçants\n\nLieu : MARKSTEIN \nPiste : Nordique parc\nOrg
 anisateur : S.C MARKSTEIN RANSPACH  (14053 S.C MARKSTEIN RANSPACH)\nTelecop
 ie : 0608618549\n\nLa course se déroulera pour l´instant conformément au ca
 lendrier\n\nInscriptions closes, les listes de départ sont visualisables su
 r ce site\n - FMVF0251  Mass Start (Depart ligne) U14 (Minime) Filles\n  Gr
 and Prix des Commerçants\n - FMVF0252  Mass Start (Depart ligne) U16 a SEN 
 (Cadet a Senior) Dames\n  Grand Prix des Commerçants\n - FMVM0251  Mass Sta
 rt (Depart ligne) U14 (Minime) Garçons\n  Grand Prix des Commerçants\n - FM
 VM0252  Mass Start (Depart ligne) U16 (Cadet) Garçons\n  Grand Prix des Com
 merçants\n - FMVM0253  Mass Start (Depart ligne) U18 a SEN (Jeune a Senior)
  Hommes\n  Grand Prix des Commerçants Cet évènement a été importé depuis :h
 ttps://skivosges.net/agenda/detailevenement/372/-/grand-prix-des-commercant
 s?tmpl=component (https://skivosges.net/agenda/detailevenement/372/-/grand-
 prix-des-commercants?tmpl=component)
X-ALT-DESC;FMTTYPE=text/html:<strong>Grand Prix des Commerçants</strong><br /><br />Lieu : MARKSTEIN <br
  />Piste : Nordique parc<br />Organisateur : S.C MARKSTEIN RANSPACH  <small
 >(14053 S.C MARKSTEIN RANSPACH)</small><br />Telecopie : 0608618549<br /><b
 r />La course se déroulera pour l´instant conformément au calendrier<br /><
 br />Inscriptions closes, les listes de départ sont visualisables sur ce si
 te<ul type="disc"><li>FMVF0251  Mass Start (Depart ligne) <nobr>U14 (Minime
 )</nobr> Filles<br />&nbsp;&nbsp;Grand Prix des Commerçants</li><li>FMVF025
 2  Mass Start (Depart ligne) <nobr>U16 a SEN (Cadet a Senior)</nobr> Dames<
 br />&nbsp;&nbsp;Grand Prix des Commerçants</li><li>FMVM0251  Mass Start (D
 epart ligne) <nobr>U14 (Minime)</nobr> Garçons<br />&nbsp;&nbsp;Grand Prix 
 des Commerçants</li><li>FMVM0252  Mass Start (Depart ligne) <nobr>U16 (Cade
 t)</nobr> Garçons<br />&nbsp;&nbsp;Grand Prix des Commerçants</li><li>FMVM0
 253  Mass Start (Depart ligne) <nobr>U18 a SEN (Jeune a Senior)</nobr> Homm
 es<br />&nbsp;&nbsp;Grand Prix des Commerçants</li></ul> <a href="https://s
 kivosges.net/agenda/detailevenement/372/-/grand-prix-des-commercants?tmpl=c
 omponent">Cet évènement a été importé depuis :https://skivosges.net/agenda/
 detailevenement/372/-/grand-prix-des-commercants?tmpl=component</a>DTSTAMP:20260420T221130
DTSTART;TZID=Europe/Paris:20150315T080000
DTEND;TZID=Europe/Paris:20150315T170000
SEQUENCE:0
TRANSP:OPAQUE
END:VEVENT
END:VCALENDAR