BEGIN:VCALENDAR
VERSION:2.0
PRODID:-//jEvents 2.0 for Joomla//EN
CALSCALE:GREGORIAN
METHOD:PUBLISH
BEGIN:VTIMEZONE
TZID:Europe/Paris
BEGIN:STANDARD
DTSTART:20140321T080000
RDATE:20140330T030000
TZOFFSETFROM:+0200
TZOFFSETTO:+0100
TZNAME:Europe/Paris CET
END:STANDARD
BEGIN:STANDARD
DTSTART:20141026T020000
RDATE:20150329T030000
TZOFFSETFROM:+0200
TZOFFSETTO:+0100
TZNAME:Europe/Paris CET
END:STANDARD
BEGIN:STANDARD
DTSTART:20151025T020000
RDATE:20160327T030000
TZOFFSETFROM:+0200
TZOFFSETTO:+0100
TZNAME:Europe/Paris CET
END:STANDARD
BEGIN:STANDARD
DTSTART:20161030T020000
RDATE:20170326T030000
TZOFFSETFROM:+0200
TZOFFSETTO:+0100
TZNAME:Europe/Paris CET
END:STANDARD
BEGIN:STANDARD
DTSTART:20171029T020000
RDATE:20180325T030000
TZOFFSETFROM:+0200
TZOFFSETTO:+0100
TZNAME:Europe/Paris CET
END:STANDARD
BEGIN:STANDARD
DTSTART:20181028T020000
RDATE:20190331T030000
TZOFFSETFROM:+0200
TZOFFSETTO:+0100
TZNAME:Europe/Paris CET
END:STANDARD
BEGIN:STANDARD
DTSTART:20191027T020000
RDATE:20200329T030000
TZOFFSETFROM:+0200
TZOFFSETTO:+0100
TZNAME:Europe/Paris CET
END:STANDARD
BEGIN:STANDARD
DTSTART:20201025T020000
RDATE:20210328T030000
TZOFFSETFROM:+0200
TZOFFSETTO:+0100
TZNAME:Europe/Paris CET
END:STANDARD
BEGIN:STANDARD
DTSTART:20211031T020000
RDATE:20220327T030000
TZOFFSETFROM:+0200
TZOFFSETTO:+0100
TZNAME:Europe/Paris CET
END:STANDARD
BEGIN:STANDARD
DTSTART:20221030T020000
RDATE:20230326T030000
TZOFFSETFROM:+0200
TZOFFSETTO:+0100
TZNAME:Europe/Paris CET
END:STANDARD
BEGIN:STANDARD
DTSTART:20231029T020000
RDATE:20240331T030000
TZOFFSETFROM:+0200
TZOFFSETTO:+0100
TZNAME:Europe/Paris CET
END:STANDARD
BEGIN:STANDARD
DTSTART:20241027T020000
RDATE:20250330T030000
TZOFFSETFROM:+0200
TZOFFSETTO:+0100
TZNAME:Europe/Paris CET
END:STANDARD
BEGIN:STANDARD
DTSTART:20251026T020000
RDATE:20260329T030000
TZOFFSETFROM:+0200
TZOFFSETTO:+0100
TZNAME:Europe/Paris CET
END:STANDARD
BEGIN:STANDARD
DTSTART:20261025T020000
RDATE:20270328T030000
TZOFFSETFROM:+0200
TZOFFSETTO:+0100
TZNAME:Europe/Paris CET
END:STANDARD
BEGIN:DAYLIGHT
DTSTART:20140330T030000
RDATE:20141026T020000
TZOFFSETFROM:+0100
TZOFFSETTO:+0200
TZNAME:Europe/Paris CEST
END:DAYLIGHT
BEGIN:DAYLIGHT
DTSTART:20150329T030000
RDATE:20151025T020000
TZOFFSETFROM:+0100
TZOFFSETTO:+0200
TZNAME:Europe/Paris CEST
END:DAYLIGHT
BEGIN:DAYLIGHT
DTSTART:20160327T030000
RDATE:20161030T020000
TZOFFSETFROM:+0100
TZOFFSETTO:+0200
TZNAME:Europe/Paris CEST
END:DAYLIGHT
BEGIN:DAYLIGHT
DTSTART:20170326T030000
RDATE:20171029T020000
TZOFFSETFROM:+0100
TZOFFSETTO:+0200
TZNAME:Europe/Paris CEST
END:DAYLIGHT
BEGIN:DAYLIGHT
DTSTART:20180325T030000
RDATE:20181028T020000
TZOFFSETFROM:+0100
TZOFFSETTO:+0200
TZNAME:Europe/Paris CEST
END:DAYLIGHT
BEGIN:DAYLIGHT
DTSTART:20190331T030000
RDATE:20191027T020000
TZOFFSETFROM:+0100
TZOFFSETTO:+0200
TZNAME:Europe/Paris CEST
END:DAYLIGHT
BEGIN:DAYLIGHT
DTSTART:20200329T030000
RDATE:20201025T020000
TZOFFSETFROM:+0100
TZOFFSETTO:+0200
TZNAME:Europe/Paris CEST
END:DAYLIGHT
BEGIN:DAYLIGHT
DTSTART:20210328T030000
RDATE:20211031T020000
TZOFFSETFROM:+0100
TZOFFSETTO:+0200
TZNAME:Europe/Paris CEST
END:DAYLIGHT
BEGIN:DAYLIGHT
DTSTART:20220327T030000
RDATE:20221030T020000
TZOFFSETFROM:+0100
TZOFFSETTO:+0200
TZNAME:Europe/Paris CEST
END:DAYLIGHT
BEGIN:DAYLIGHT
DTSTART:20230326T030000
RDATE:20231029T020000
TZOFFSETFROM:+0100
TZOFFSETTO:+0200
TZNAME:Europe/Paris CEST
END:DAYLIGHT
BEGIN:DAYLIGHT
DTSTART:20240331T030000
RDATE:20241027T020000
TZOFFSETFROM:+0100
TZOFFSETTO:+0200
TZNAME:Europe/Paris CEST
END:DAYLIGHT
BEGIN:DAYLIGHT
DTSTART:20250330T030000
RDATE:20251026T020000
TZOFFSETFROM:+0100
TZOFFSETTO:+0200
TZNAME:Europe/Paris CEST
END:DAYLIGHT
BEGIN:DAYLIGHT
DTSTART:20260329T030000
RDATE:20261025T020000
TZOFFSETFROM:+0100
TZOFFSETTO:+0200
TZNAME:Europe/Paris CEST
END:DAYLIGHT
END:VTIMEZONE
BEGIN:VEVENT
UID:03ff9700d4c368249928bfd1b3774748
CATEGORIES:Autres Épreuves (alpin)
CREATED:20141127T000323
SUMMARY:Finale  U12etU14     Finale Grand Prix des Jeunes
URL;VALUE=URI:https://skivosges.net/agenda/detailevenement/385/-/finale-u12etu14-finale-g
 rand-prix-des-jeunes?tmpl=component
DESCRIPTION:Finale  U12etU14     Finale Grand Prix des Jeunes\nOrganisateur : AS Gérard
 mer (14089 GERARDMER SKI ALPIN)\n\nInscriptions closes, les listes de dépar
 t sont visualisables sur ce site\n - AMVF0791  CombinÃ© Race U12/U14 Filles
 \n  Finale  U12etU14     Finale Grand Prix des Jeunes\n - AMVM0791  CombinÃ
 © Race U12/U14 Garçons\n  Finale  U12etU14     Finale Grand Prix des Jeunes
 \n - AMVF0792  CombinÃ© Race U12/U14 Filles\n  Finale  U12etU14     Finale 
 Grand Prix des Jeunes\n - AMVM0792  CombinÃ© Race U12/U14 Garçons\n  Finale
   U12etU14     Finale Grand Prix des Jeunes Cet évènement a été importé dep
 uis :https://skivosges.net/agenda/detailevenement/385/-/finale-u12etu14-fin
 ale-grand-prix-des-jeunes?tmpl=component
X-ALT-DESC;FMTTYPE=text/html:<strong>Finale  U12etU14     Finale Grand Prix des Jeunes</strong><br />Org
 anisateur : AS G&eacute;rardmer <small>(14089 GERARDMER SKI ALPIN)</small><
 br /><br />Inscriptions closes, les listes de départ sont visualisables sur
  ce site<ul type="disc"><li>AMVF0791  CombinÃ© Race <nobr>U12/U14</nobr> Fi
 lles<br />&nbsp;&nbsp;Finale  U12etU14     Finale Grand Prix des Jeunes</li
 ><li>AMVM0791  CombinÃ© Race <nobr>U12/U14</nobr> Garçons<br />&nbsp;&nbsp;
 Finale  U12etU14     Finale Grand Prix des Jeunes</li><li>AMVF0792  CombinÃ
 © Race <nobr>U12/U14</nobr> Filles<br />&nbsp;&nbsp;Finale  U12etU14     Fi
 nale Grand Prix des Jeunes</li><li>AMVM0792  CombinÃ© Race <nobr>U12/U14</n
 obr> Garçons<br />&nbsp;&nbsp;Finale  U12etU14     Finale Grand Prix des Je
 unes</li></ul> <a href="https://skivosges.net/agenda/detailevenement/385/-/
 finale-u12etu14-finale-grand-prix-des-jeunes?tmpl=component">Cet évènement 
 a été importé depuis :https://skivosges.net/agenda/detailevenement/385/-/fi
 nale-u12etu14-finale-grand-prix-des-jeunes?tmpl=component</a>DTSTAMP:20260421T050944
DTSTART;TZID=Europe/Paris:20150322T080000
DTEND;TZID=Europe/Paris:20150322T170000
SEQUENCE:0
TRANSP:OPAQUE
END:VEVENT
END:VCALENDAR