BEGIN:VCALENDAR
VERSION:2.0
PRODID:-//jEvents 2.0 for Joomla//EN
CALSCALE:GREGORIAN
METHOD:PUBLISH
BEGIN:VTIMEZONE
TZID:Europe/Paris
BEGIN:STANDARD
DTSTART:20141026T020000
RDATE:20150329T030000
TZOFFSETFROM:+0200
TZOFFSETTO:+0100
TZNAME:Europe/Paris CET
END:STANDARD
BEGIN:STANDARD
DTSTART:20151025T020000
RDATE:20160327T030000
TZOFFSETFROM:+0200
TZOFFSETTO:+0100
TZNAME:Europe/Paris CET
END:STANDARD
BEGIN:STANDARD
DTSTART:20161030T020000
RDATE:20170326T030000
TZOFFSETFROM:+0200
TZOFFSETTO:+0100
TZNAME:Europe/Paris CET
END:STANDARD
BEGIN:STANDARD
DTSTART:20171029T020000
RDATE:20180325T030000
TZOFFSETFROM:+0200
TZOFFSETTO:+0100
TZNAME:Europe/Paris CET
END:STANDARD
BEGIN:STANDARD
DTSTART:20181028T020000
RDATE:20190331T030000
TZOFFSETFROM:+0200
TZOFFSETTO:+0100
TZNAME:Europe/Paris CET
END:STANDARD
BEGIN:STANDARD
DTSTART:20191027T020000
RDATE:20200329T030000
TZOFFSETFROM:+0200
TZOFFSETTO:+0100
TZNAME:Europe/Paris CET
END:STANDARD
BEGIN:STANDARD
DTSTART:20201025T020000
RDATE:20210328T030000
TZOFFSETFROM:+0200
TZOFFSETTO:+0100
TZNAME:Europe/Paris CET
END:STANDARD
BEGIN:STANDARD
DTSTART:20211031T020000
RDATE:20220327T030000
TZOFFSETFROM:+0200
TZOFFSETTO:+0100
TZNAME:Europe/Paris CET
END:STANDARD
BEGIN:STANDARD
DTSTART:20221030T020000
RDATE:20230326T030000
TZOFFSETFROM:+0200
TZOFFSETTO:+0100
TZNAME:Europe/Paris CET
END:STANDARD
BEGIN:STANDARD
DTSTART:20231029T020000
RDATE:20240331T030000
TZOFFSETFROM:+0200
TZOFFSETTO:+0100
TZNAME:Europe/Paris CET
END:STANDARD
BEGIN:STANDARD
DTSTART:20241027T020000
RDATE:20250330T030000
TZOFFSETFROM:+0200
TZOFFSETTO:+0100
TZNAME:Europe/Paris CET
END:STANDARD
BEGIN:STANDARD
DTSTART:20251026T020000
RDATE:20260329T030000
TZOFFSETFROM:+0200
TZOFFSETTO:+0100
TZNAME:Europe/Paris CET
END:STANDARD
BEGIN:STANDARD
DTSTART:20261025T020000
RDATE:20270328T030000
TZOFFSETFROM:+0200
TZOFFSETTO:+0100
TZNAME:Europe/Paris CET
END:STANDARD
BEGIN:DAYLIGHT
DTSTART:20140404T080000
RDATE:20141026T020000
TZOFFSETFROM:+0100
TZOFFSETTO:+0200
TZNAME:Europe/Paris CEST
END:DAYLIGHT
BEGIN:DAYLIGHT
DTSTART:20150329T030000
RDATE:20151025T020000
TZOFFSETFROM:+0100
TZOFFSETTO:+0200
TZNAME:Europe/Paris CEST
END:DAYLIGHT
BEGIN:DAYLIGHT
DTSTART:20160327T030000
RDATE:20161030T020000
TZOFFSETFROM:+0100
TZOFFSETTO:+0200
TZNAME:Europe/Paris CEST
END:DAYLIGHT
BEGIN:DAYLIGHT
DTSTART:20170326T030000
RDATE:20171029T020000
TZOFFSETFROM:+0100
TZOFFSETTO:+0200
TZNAME:Europe/Paris CEST
END:DAYLIGHT
BEGIN:DAYLIGHT
DTSTART:20180325T030000
RDATE:20181028T020000
TZOFFSETFROM:+0100
TZOFFSETTO:+0200
TZNAME:Europe/Paris CEST
END:DAYLIGHT
BEGIN:DAYLIGHT
DTSTART:20190331T030000
RDATE:20191027T020000
TZOFFSETFROM:+0100
TZOFFSETTO:+0200
TZNAME:Europe/Paris CEST
END:DAYLIGHT
BEGIN:DAYLIGHT
DTSTART:20200329T030000
RDATE:20201025T020000
TZOFFSETFROM:+0100
TZOFFSETTO:+0200
TZNAME:Europe/Paris CEST
END:DAYLIGHT
BEGIN:DAYLIGHT
DTSTART:20210328T030000
RDATE:20211031T020000
TZOFFSETFROM:+0100
TZOFFSETTO:+0200
TZNAME:Europe/Paris CEST
END:DAYLIGHT
BEGIN:DAYLIGHT
DTSTART:20220327T030000
RDATE:20221030T020000
TZOFFSETFROM:+0100
TZOFFSETTO:+0200
TZNAME:Europe/Paris CEST
END:DAYLIGHT
BEGIN:DAYLIGHT
DTSTART:20230326T030000
RDATE:20231029T020000
TZOFFSETFROM:+0100
TZOFFSETTO:+0200
TZNAME:Europe/Paris CEST
END:DAYLIGHT
BEGIN:DAYLIGHT
DTSTART:20240331T030000
RDATE:20241027T020000
TZOFFSETFROM:+0100
TZOFFSETTO:+0200
TZNAME:Europe/Paris CEST
END:DAYLIGHT
BEGIN:DAYLIGHT
DTSTART:20250330T030000
RDATE:20251026T020000
TZOFFSETFROM:+0100
TZOFFSETTO:+0200
TZNAME:Europe/Paris CEST
END:DAYLIGHT
BEGIN:DAYLIGHT
DTSTART:20260329T030000
RDATE:20261025T020000
TZOFFSETFROM:+0100
TZOFFSETTO:+0200
TZNAME:Europe/Paris CEST
END:DAYLIGHT
END:VTIMEZONE
BEGIN:VEVENT
UID:138a841459346bc02c5ad54b4e021220
CATEGORIES:Opens et Promos (alpin)
CREATED:20141127T000323
SUMMARY:OPEN  U16 à Masters     30ème Journées Française de Mellau  Géant
URL;VALUE=URI:https://skivosges.net/agenda/detailevenement/397/-/open-u16-a-masters-30eme
 -journees-francaise-de-mellau-geant?tmpl=component
DESCRIPTION:OPEN  U16 à Masters     30ème Journées Française de Mellau  Géant\nOrganisa
 teur : ALSACE SKI PLUS COLMAR (14434 ALSACE SKI PLUS COLMAR)\nEmail : Regul
 arLabs.EmailProtector.unCloak("ep_993c7f5f");\nTelecopie : 03 89 27 22 34\n
 \npour les courses U16 à Masters 1 seule inscription pour le 4 courses\nvoi
 r course du vendredi\n  Piste:MELLAU (AUT)\n - AMVF0881  Slalom Geant U16 a
  Masters Dames\n  OPEN  U16 à Masters     30ème Journées Française de Mella
 u  Géant\n  Piste:MELLAU (AUT)\n - AMVM0881  Slalom Geant U16 a Masters Hom
 mes\n  OPEN  U16 à Masters     30ème Journées Française de Mellau  Géant Ce
 t évènement a été importé depuis :https://skivosges.net/agenda/detailevenem
 ent/397/-/open-u16-a-masters-30eme-journees-francaise-de-mellau-geant?tmpl=
 component
X-ALT-DESC;FMTTYPE=text/html:<strong>OPEN  U16 à Masters     30ème Journées Française de Mellau  Géant</
 strong><br />Organisateur : ALSACE SKI PLUS COLMAR <small>(14434 ALSACE SKI
  PLUS COLMAR)</small><br />Email : <!-- Cette adresse électronique est prot
 égée contre les robots spammeurs. --><span class="cloaked_email ep_993c7f5f
 "><span data-ep-a="&#118;&#116;n" data-ep-b=""><span data-ep-b="f&#114;" da
 ta-ep-a="&#64;w&#97;"><span data-ep-b="o&#111;&#46;" data-ep-a="n&#97;d"></
 span></span></span></span><script>RegularLabs.EmailProtector.unCloak("ep_99
 3c7f5f");</script><br />Telecopie : 03 89 27 22 34<br /><br />pour les cour
 ses U16 à Masters 1 seule inscription pour le 4 courses<br>voir course du v
 endredi<ul type="disc"><br />&nbsp;&nbsp;Piste:MELLAU (AUT)<li>AMVF0881  Sl
 alom Geant <nobr>U16 a Masters</nobr> Dames<br />&nbsp;&nbsp;OPEN  U16 à Ma
 sters     30ème Journées Française de Mellau  Géant</li><br />&nbsp;&nbsp;P
 iste:MELLAU (AUT)<li>AMVM0881  Slalom Geant <nobr>U16 a Masters</nobr> Homm
 es<br />&nbsp;&nbsp;OPEN  U16 à Masters     30ème Journées Française de Mel
 lau  Géant</li></ul> <a href="https://skivosges.net/agenda/detailevenement/
 397/-/open-u16-a-masters-30eme-journees-francaise-de-mellau-geant?tmpl=comp
 onent">Cet évènement a été importé depuis :https://skivosges.net/agenda/det
 ailevenement/397/-/open-u16-a-masters-30eme-journees-francaise-de-mellau-ge
 ant?tmpl=component</a>DTSTAMP:20260421T014547
DTSTART;TZID=Europe/Paris:20150405T080000
DTEND;TZID=Europe/Paris:20150405T170000
SEQUENCE:0
TRANSP:OPAQUE
END:VEVENT
END:VCALENDAR