BEGIN:VCALENDAR
VERSION:2.0
PRODID:-//jEvents 2.0 for Joomla//EN
CALSCALE:GREGORIAN
METHOD:PUBLISH
BEGIN:VTIMEZONE
TZID:Europe/Paris
BEGIN:STANDARD
DTSTART:20121219T000000
RDATE:20130331T030000
TZOFFSETFROM:+0200
TZOFFSETTO:+0100
TZNAME:Europe/Paris CET
END:STANDARD
BEGIN:STANDARD
DTSTART:20131027T020000
RDATE:20140330T030000
TZOFFSETFROM:+0200
TZOFFSETTO:+0100
TZNAME:Europe/Paris CET
END:STANDARD
BEGIN:STANDARD
DTSTART:20141026T020000
RDATE:20150329T030000
TZOFFSETFROM:+0200
TZOFFSETTO:+0100
TZNAME:Europe/Paris CET
END:STANDARD
BEGIN:STANDARD
DTSTART:20151025T020000
RDATE:20160327T030000
TZOFFSETFROM:+0200
TZOFFSETTO:+0100
TZNAME:Europe/Paris CET
END:STANDARD
BEGIN:STANDARD
DTSTART:20161030T020000
RDATE:20170326T030000
TZOFFSETFROM:+0200
TZOFFSETTO:+0100
TZNAME:Europe/Paris CET
END:STANDARD
BEGIN:STANDARD
DTSTART:20171029T020000
RDATE:20180325T030000
TZOFFSETFROM:+0200
TZOFFSETTO:+0100
TZNAME:Europe/Paris CET
END:STANDARD
BEGIN:STANDARD
DTSTART:20181028T020000
RDATE:20190331T030000
TZOFFSETFROM:+0200
TZOFFSETTO:+0100
TZNAME:Europe/Paris CET
END:STANDARD
BEGIN:STANDARD
DTSTART:20191027T020000
RDATE:20200329T030000
TZOFFSETFROM:+0200
TZOFFSETTO:+0100
TZNAME:Europe/Paris CET
END:STANDARD
BEGIN:STANDARD
DTSTART:20201025T020000
RDATE:20210328T030000
TZOFFSETFROM:+0200
TZOFFSETTO:+0100
TZNAME:Europe/Paris CET
END:STANDARD
BEGIN:STANDARD
DTSTART:20211031T020000
RDATE:20220327T030000
TZOFFSETFROM:+0200
TZOFFSETTO:+0100
TZNAME:Europe/Paris CET
END:STANDARD
BEGIN:STANDARD
DTSTART:20221030T020000
RDATE:20230326T030000
TZOFFSETFROM:+0200
TZOFFSETTO:+0100
TZNAME:Europe/Paris CET
END:STANDARD
BEGIN:STANDARD
DTSTART:20231029T020000
RDATE:20240331T030000
TZOFFSETFROM:+0200
TZOFFSETTO:+0100
TZNAME:Europe/Paris CET
END:STANDARD
BEGIN:STANDARD
DTSTART:20241027T020000
RDATE:20250330T030000
TZOFFSETFROM:+0200
TZOFFSETTO:+0100
TZNAME:Europe/Paris CET
END:STANDARD
BEGIN:STANDARD
DTSTART:20251026T020000
RDATE:20260329T030000
TZOFFSETFROM:+0200
TZOFFSETTO:+0100
TZNAME:Europe/Paris CET
END:STANDARD
BEGIN:STANDARD
DTSTART:20261025T020000
RDATE:20270328T030000
TZOFFSETFROM:+0200
TZOFFSETTO:+0100
TZNAME:Europe/Paris CET
END:STANDARD
BEGIN:DAYLIGHT
DTSTART:20130331T030000
RDATE:20131027T020000
TZOFFSETFROM:+0100
TZOFFSETTO:+0200
TZNAME:Europe/Paris CEST
END:DAYLIGHT
BEGIN:DAYLIGHT
DTSTART:20140330T030000
RDATE:20141026T020000
TZOFFSETFROM:+0100
TZOFFSETTO:+0200
TZNAME:Europe/Paris CEST
END:DAYLIGHT
BEGIN:DAYLIGHT
DTSTART:20150329T030000
RDATE:20151025T020000
TZOFFSETFROM:+0100
TZOFFSETTO:+0200
TZNAME:Europe/Paris CEST
END:DAYLIGHT
BEGIN:DAYLIGHT
DTSTART:20160327T030000
RDATE:20161030T020000
TZOFFSETFROM:+0100
TZOFFSETTO:+0200
TZNAME:Europe/Paris CEST
END:DAYLIGHT
BEGIN:DAYLIGHT
DTSTART:20170326T030000
RDATE:20171029T020000
TZOFFSETFROM:+0100
TZOFFSETTO:+0200
TZNAME:Europe/Paris CEST
END:DAYLIGHT
BEGIN:DAYLIGHT
DTSTART:20180325T030000
RDATE:20181028T020000
TZOFFSETFROM:+0100
TZOFFSETTO:+0200
TZNAME:Europe/Paris CEST
END:DAYLIGHT
BEGIN:DAYLIGHT
DTSTART:20190331T030000
RDATE:20191027T020000
TZOFFSETFROM:+0100
TZOFFSETTO:+0200
TZNAME:Europe/Paris CEST
END:DAYLIGHT
BEGIN:DAYLIGHT
DTSTART:20200329T030000
RDATE:20201025T020000
TZOFFSETFROM:+0100
TZOFFSETTO:+0200
TZNAME:Europe/Paris CEST
END:DAYLIGHT
BEGIN:DAYLIGHT
DTSTART:20210328T030000
RDATE:20211031T020000
TZOFFSETFROM:+0100
TZOFFSETTO:+0200
TZNAME:Europe/Paris CEST
END:DAYLIGHT
BEGIN:DAYLIGHT
DTSTART:20220327T030000
RDATE:20221030T020000
TZOFFSETFROM:+0100
TZOFFSETTO:+0200
TZNAME:Europe/Paris CEST
END:DAYLIGHT
BEGIN:DAYLIGHT
DTSTART:20230326T030000
RDATE:20231029T020000
TZOFFSETFROM:+0100
TZOFFSETTO:+0200
TZNAME:Europe/Paris CEST
END:DAYLIGHT
BEGIN:DAYLIGHT
DTSTART:20240331T030000
RDATE:20241027T020000
TZOFFSETFROM:+0100
TZOFFSETTO:+0200
TZNAME:Europe/Paris CEST
END:DAYLIGHT
BEGIN:DAYLIGHT
DTSTART:20250330T030000
RDATE:20251026T020000
TZOFFSETFROM:+0100
TZOFFSETTO:+0200
TZNAME:Europe/Paris CEST
END:DAYLIGHT
BEGIN:DAYLIGHT
DTSTART:20260329T030000
RDATE:20261025T020000
TZOFFSETFROM:+0100
TZOFFSETTO:+0200
TZNAME:Europe/Paris CEST
END:DAYLIGHT
END:VTIMEZONE
BEGIN:VEVENT
UID:6bd46aa24a88c13f0f98904406b2303c
CATEGORIES:Ski Loisir - Sorties CRMVS
CREATED:20131030T174819
SUMMARY:Critérium de la 1ère Neige
URL;VALUE=URI:https://skivosges.net/agenda/detailevenement/40/-/criterium-de-la-1ere-neig
 e?tmpl=component
DESCRIPTION:<p>La Commission Régionale Ski Loisirs/ Développement a décidé d’organiser 
 un déplacement à l’occasion du Critérium de la 1ère Neige de VAL D’ISERE.</
 p><p>Ce déplacement sera réservé <b>prioritairement</b> aux licenciés.<br /
 ><br /></p><p>Vous trouverez toutes les informations sur <a class="jcepopup
 " href="documents/2014/secretariat/02.11.12__lettre_infos_et_programme.pdf"
  target="_blank">le document d'informations générales et programme...</a></
 p><p><strong>Pré-Inscription obligatoire en complétant le formulaire ci-des
 sous</strong>.<br />Après validation vous recevrez un courriel avec un lien
  de validation sur lequel il faudra impérativement cliquer pour reserver vo
 tre place.</p><p>Il faudra ensuite retourner au siège du CRMVS <strong>avan
 t le 26/11/2013 imperativement</strong> :</p><ul><li>L'<a class="jcepopup" 
 href="documents/2014/secretariat/sorties/131220-22/131221-22_engagement_dec
 harge_parents.pdf" target="_blank">engagement / décharge rempli et signé...
 </a></li><li>La <a class="jcepopup" href="documents/2014/secretariat/sortie
 s/fiche_sanitaire_liaison.pdf" target="_blank">Fiche sanitaire de liaison d
 ûment remplie...</a></li><li>Photocopie de la carte d'identité en cours de 
 validité (orignal à avoir sur soi lors de déplacement)</li><li>Photocopie d
 e l'autorisation de sortie du territoire (original à presenter lors du dépl
 acement)</li><li>Chèque du montant de 144.00€ ou 186.00€ à l'ordre du CRMVS
  (selon votre séléction, voir § organisation générale du <a href="documents
 /2014/secretariat/sorties/131220-22/131220-22_lettre_info-programme.pdf">do
 cument d'information</a>)</li></ul> <a href="https://skivosges.net/agenda/d
 etailevenement/40/-/criterium-de-la-1ere-neige?tmpl=component">Cet évènemen
 t a été importé depuis :https://skivosges.net/agenda/detailevenement/40/-/c
 riterium-de-la-1ere-neige?tmpl=component</a>
X-ALT-DESC;FMTTYPE=text/html:<p>La Commission Régionale Ski Loisirs/ Développement a décidé d’organiser 
 un déplacement à l’occasion du Critérium de la 1ère Neige de VAL D’ISERE.</
 p><p>Ce déplacement sera réservé <b>prioritairement</b> aux licenciés.<br /
 ><br /></p><p>Vous trouverez toutes les informations sur <a class="jcepopup
 " href="https://skivosges.net/documents/2014/secretariat/02.11.12__lettre_i
 nfos_et_programme.pdf" target="_blank">le document d'informations générales
  et programme...</a></p><p><strong>Pré-Inscription obligatoire en complétan
 t le formulaire ci-dessous</strong>.<br />Après validation vous recevrez un
  courriel avec un lien de validation sur lequel il faudra impérativement cl
 iquer pour reserver votre place.</p><p>Il faudra ensuite retourner au siège
  du CRMVS <strong>avant le 26/11/2013 imperativement</strong> :</p><ul><li>
 L'<a class="jcepopup" href="https://skivosges.net/documents/2014/secretaria
 t/sorties/131220-22/131221-22_engagement_decharge_parents.pdf" target="_bla
 nk">engagement / décharge rempli et signé...</a></li><li>La <a class="jcepo
 pup" href="https://skivosges.net/documents/2014/secretariat/sorties/fiche_s
 anitaire_liaison.pdf" target="_blank">Fiche sanitaire de liaison dûment rem
 plie...</a></li><li>Photocopie de la carte d'identité en cours de validité 
 (orignal à avoir sur soi lors de déplacement)</li><li>Photocopie de l'autor
 isation de sortie du territoire (original à presenter lors du déplacement)<
 /li><li>Chèque du montant de 144.00€ ou 186.00€ à l'ordre du CRMVS (selon v
 otre séléction, voir § organisation générale du <a href="https://skivosges.
 net/documents/2014/secretariat/sorties/131220-22/131220-22_lettre_info-prog
 ramme.pdf">document d'information</a>)</li></ul> <a href="https://skivosges
 .net/agenda/detailevenement/40/-/criterium-de-la-1ere-neige?tmpl=component"
 >Cet évènement a été importé depuis :https://skivosges.net/agenda/detaileve
 nement/40/-/criterium-de-la-1ere-neige?tmpl=component</a>DTSTAMP:20260420T221510
DTSTART;TZID=Europe/Paris;VALUE=DATE:20131220
DTEND;TZID=Europe/Paris;VALUE=DATE:20131223
SEQUENCE:0
TRANSP:OPAQUE
END:VEVENT
END:VCALENDAR